BEGIN:VCALENDAR
VERSION:2.0
PRODID:-//Verband der Restauratoren VDR - ECPv6.15.15//NONSGML v1.0//EN
CALSCALE:GREGORIAN
METHOD:PUBLISH
X-ORIGINAL-URL:https://www.restauratoren.de
X-WR-CALDESC:Veranstaltungen für Verband der Restauratoren VDR
REFRESH-INTERVAL;VALUE=DURATION:PT1H
X-Robots-Tag:noindex
X-PUBLISHED-TTL:PT1H
BEGIN:VTIMEZONE
TZID:UTC
BEGIN:STANDARD
TZOFFSETFROM:+0000
TZOFFSETTO:+0000
TZNAME:UTC
DTSTART:20160101T000000
END:STANDARD
END:VTIMEZONE
BEGIN:VEVENT
DTSTART;VALUE=DATE:20170630
DTEND;VALUE=DATE:20170701
DTSTAMP:20260420T174401
CREATED:20170424T103647Z
LAST-MODIFIED:20170627T162855Z
UID:10000909-1498780800-1498867199@www.restauratoren.de
SUMMARY:FORWARD - Forum Wissenschaftliches Arbeiten in Restaurierung und Denkmalpflege
DESCRIPTION:In Vorbereitung auf das Europäische Jahr des Kulturellen Erbes ECHY 2018 präsentiert der VDR eine Plattform zum interdisziplinären Erfahrungsaustausch. Mit „FORWARD – Forum Wissenschaftliches Arbeiten in Restaurierung und Denkmalpflege“ rücken wir am 30. Juni 2017 mit Unterstützung der HTW Berlin die Wissenschaftlichkeit des Tuns in der Denkmalpflege und in den Museen in den Mittelpunkt.  \nAm Vorabend von ECHY 2018 ist das eine hervorragende Gelegenheit\, sich erreichte Standards anzuschauen\, neue Tendenzen zu diskutieren und kraftvoll die zwingende Notwendigkeit wissenschaftlichen Arbeitens in allen Sparten musealen und denkmalpflegerischen Handelns hervorzuheben. Wir möchten mit Kunsthistorikern\, Archäologen\, Bauforschern\, Konservierungswissenschaftlern\, den Hochschulen\, der Politik und nicht zuletzt mit den Restauratoren selbst dazu ins Gespräch kommen. \nFORWARD_Programm\nAutoanfahrt_HTW-Berlin\nHotel_Informationen \nDie Tagung ist ausgebucht. Leider ist keine Anmeldung mehr möglich.
URL:https://www.restauratoren.de/termin/forward-forum-fuer-wissenschaftliches-arbeiten-in-restaurierung-und-denkmalpflege/
LOCATION:HTW Berlin – Campus Wilhelminenhof\, Campus Wilhelminenhof\, Berlin-Oberschöneweide\, Deutschland
CATEGORIES:VDR-Veranstaltung
ATTACH;FMTTYPE=:
END:VEVENT
END:VCALENDAR