BEGIN:VCALENDAR
VERSION:2.0
PRODID:-//Verband der Restauratoren VDR - ECPv6.15.15//NONSGML v1.0//EN
CALSCALE:GREGORIAN
METHOD:PUBLISH
X-WR-CALNAME:Verband der Restauratoren VDR
X-ORIGINAL-URL:https://www.restauratoren.de
X-WR-CALDESC:Veranstaltungen für Verband der Restauratoren VDR
REFRESH-INTERVAL;VALUE=DURATION:PT1H
X-Robots-Tag:noindex
X-PUBLISHED-TTL:PT1H
BEGIN:VTIMEZONE
TZID:UTC
BEGIN:STANDARD
TZOFFSETFROM:+0000
TZOFFSETTO:+0000
TZNAME:UTC
DTSTART:20160101T000000
END:STANDARD
END:VTIMEZONE
BEGIN:VEVENT
DTSTART;VALUE=DATE:20170913
DTEND;VALUE=DATE:20170917
DTSTAMP:20260423T222758
CREATED:20170618T075041Z
LAST-MODIFIED:20170618T075041Z
UID:10000925-1505260800-1505606399@www.restauratoren.de
SUMMARY:5. Internationales Treffen der Freunde des Eisenkunstgusses
DESCRIPTION:Der Malapanetalverein und das Museum des Hüttenwesens im Malapane/Ozimek laden am 13.-16. September 2017 zum 5. Internationalen Treffen der Freunde des Kunstgusses nach Ozimek/Malapane in Oberschlesien ein. \n \nDie internationalen Treffen der Freunde des Eisenkunstgusses bringen Experten\, Wissenschaftler\, Sammler\, Künstler und Museumsverantwortliche aus verschiedenen Ländern Europas (u.a. aus England\, Österreich\, Tschechien\, Frankreich\, Holland\, Deutschland\, Polen\, Russland und Italien) und den USA zusammen\, die sich ganz speziell mit Eisenkunstguss und seiner Geschichte beschäftigen. Diese Konferenzen finden alle zwei Jahre statt und präsentieren die Geschichte\, die Sammlungen\, die Restaurierungsmöglichkeiten und die wissenschaftlichen Veröffentlichungen zur Geschichte und Zukunft des Gieß-Handwerks des Eisenkunstgusses. \n 
URL:https://www.restauratoren.de/termin/5-internationales-treffen-der-freunde-des-eisenkunstgusses/
CATEGORIES:Externe Veranstaltung,FG Metall
END:VEVENT
END:VCALENDAR