BEGIN:VCALENDAR
VERSION:2.0
PRODID:-//Verband der Restauratoren VDR - ECPv6.15.15//NONSGML v1.0//EN
CALSCALE:GREGORIAN
METHOD:PUBLISH
X-WR-CALNAME:Verband der Restauratoren VDR
X-ORIGINAL-URL:https://www.restauratoren.de
X-WR-CALDESC:Veranstaltungen für Verband der Restauratoren VDR
REFRESH-INTERVAL;VALUE=DURATION:PT1H
X-Robots-Tag:noindex
X-PUBLISHED-TTL:PT1H
BEGIN:VTIMEZONE
TZID:UTC
BEGIN:STANDARD
TZOFFSETFROM:+0000
TZOFFSETTO:+0000
TZNAME:UTC
DTSTART:20170101T000000
END:STANDARD
END:VTIMEZONE
BEGIN:VEVENT
DTSTART;VALUE=DATE:20180417
DTEND;VALUE=DATE:20180420
DTSTAMP:20260421T110456
CREATED:20180403T163424Z
LAST-MODIFIED:20180403T163424Z
UID:10001008-1523923200-1524182399@www.restauratoren.de
SUMMARY:Workshop on Japanning Techniques
DESCRIPTION:The workshop (17.-19. April 2018 in London) will be practical based and attendees will leave with a a japanned panel and a box. There will be some handouts including the historical background and technical information. The focus of the course will be on the traditional 17th century & 18th century japanning techniques; a la Stalker & Parker\, with a range of modern materials also explored. The ethics and best conservation practice will be addressed but all in an informal and relaxed atmosphere. The emphasis will be on practical application and having fun!\nFurther information  and registration
URL:https://www.restauratoren.de/termin/workshop-on-japanning-techniques/
CATEGORIES:Externe Veranstaltung
END:VEVENT
BEGIN:VEVENT
DTSTART;TZID=UTC:20180418T183000
DTEND;TZID=UTC:20180418T200000
DTSTAMP:20260421T110456
CREATED:20180405T072811Z
LAST-MODIFIED:20180405T072811Z
UID:10001014-1524076200-1524081600@www.restauratoren.de
SUMMARY:Vortrag über das Restaurierungszentrum Kiel
DESCRIPTION:Vortrag „Alle unter einem Dach! Das Restaurierungszentrum Kiel“ – Möglichkeiten\, Herausforderungen und Grenzen eines Zusammenschlusses\n18.04.2018 um 18.30 Uhr; HAWK\, Brühl 20 Alte Bibliothek\, Hildesheim \n2011 gründeten 10 freiberufliche Restauratoren verschiedener Fachbereiche und unterschiedlichen Alters aus Schleswig-Holstein das Restaurierungszentrum Kiel. Die einzelnen Mitglieder handeln wirtschaftlich unabhängig als Einzelunternehmer/in oder als GbR. Sie folgen damit dem Beispiel anderer freier Berufe\, wie z.B. Ärzten\, die in Gesundheitszentren fachlich unterschiedliche Leistungen anbieten.\nWelches Resumee ziehen die Beteiligten im verflixten siebten Jahr nach der Gründung? Welche Vorteile und Synergien bietet ein solcher Zusammenschluss? Ist das Modell für Berufsanfänger geeignet? Welche Möglichkeiten gibt es\, Unterstützung für Zusammenschlüsse und z.B. Ausgründungszentren politisch einzufordern? Was sind in diesem Zusammenhang zukünftige Herausforderungen für Berufseinsteiger\, Hochschulen und Politik? \nChristian Leonhardt\, Restaurator und ehemaliger VDR-Präsident und Sabine Leonhardt\, Restauratorin und Kulturmanagerin sind Initiatoren des Restaurierungszentrums. Sie zeigen einen Blick hinter die Kulissen und stellen ihr Nachfolgekonzept mit dessen jüngstem Mitglied Julika Heller nach ihrem Studium an der HAWK vor.
URL:https://www.restauratoren.de/termin/vortrag-ueber-das-restaurierungszentrum-kiel/
CATEGORIES:Externe Veranstaltung
END:VEVENT
END:VCALENDAR