BEGIN:VCALENDAR
VERSION:2.0
PRODID:-//Verband der Restauratoren VDR - ECPv6.15.15//NONSGML v1.0//EN
CALSCALE:GREGORIAN
METHOD:PUBLISH
X-ORIGINAL-URL:https://www.restauratoren.de
X-WR-CALDESC:Veranstaltungen für Verband der Restauratoren VDR
REFRESH-INTERVAL;VALUE=DURATION:PT1H
X-Robots-Tag:noindex
X-PUBLISHED-TTL:PT1H
BEGIN:VTIMEZONE
TZID:UTC
BEGIN:STANDARD
TZOFFSETFROM:+0000
TZOFFSETTO:+0000
TZNAME:UTC
DTSTART:20170101T000000
END:STANDARD
END:VTIMEZONE
BEGIN:VEVENT
DTSTART;VALUE=DATE:20180511
DTEND;VALUE=DATE:20180512
DTSTAMP:20260420T122600
CREATED:20180126T090044Z
LAST-MODIFIED:20180126T090044Z
UID:10000994-1525996800-1526083199@www.restauratoren.de
SUMMARY:Call for Papers "Lessons Learned: Textile Conservation - Then and Now"
DESCRIPTION:The twelfth biennial North American Textile Conservation Conference (NATCC) will be held in Ottawa\, Canada\, September 23-29\, 2019 and will focus on the theme of “Lessons Learned – Textile Conservation – Then and Now.”\nAnalytical studies\, conservation protocols\, treatments\, exhibition displays\, and materials and techniques have evolved during the past 20+ years\, often dramatically. We propose to revisit conservation procedures\, best practices\, collaborations\, and other preservation guidelines carried out during the 1980s through the present. \nAbstracts must be submitted by May 11\, 2018. \nFurther information
URL:https://www.restauratoren.de/termin/call-for-papers-lessons-learned-textile-conservation-then-and-now/
CATEGORIES:Call for Papers
END:VEVENT
END:VCALENDAR