BEGIN:VCALENDAR
VERSION:2.0
PRODID:-//Verband der Restauratoren VDR - ECPv6.15.15//NONSGML v1.0//EN
CALSCALE:GREGORIAN
METHOD:PUBLISH
X-ORIGINAL-URL:https://www.restauratoren.de
X-WR-CALDESC:Veranstaltungen für Verband der Restauratoren VDR
REFRESH-INTERVAL;VALUE=DURATION:PT1H
X-Robots-Tag:noindex
X-PUBLISHED-TTL:PT1H
BEGIN:VTIMEZONE
TZID:UTC
BEGIN:STANDARD
TZOFFSETFROM:+0000
TZOFFSETTO:+0000
TZNAME:UTC
DTSTART:20170101T000000
END:STANDARD
END:VTIMEZONE
BEGIN:VEVENT
DTSTART;VALUE=DATE:20180618
DTEND;VALUE=DATE:20180620
DTSTAMP:20260420T174408
CREATED:20180524T082441Z
LAST-MODIFIED:20180524T082441Z
UID:10000971-1529280000-1529452799@www.restauratoren.de
SUMMARY:Workshop Preventive Conservation
DESCRIPTION:Workshop „Preventive Conservation – Research and Best-Practices in Leibniz Research Museums“\nJune 18-19\, 2018 in Berlin\, Leibniz Association \nMaintenance and protection of their institute‘s collection of artefacts\, specimens and objects is pivotal to Leibniz Research Museums. Within these eight institutions\, conservation scientists\, restorers\, preparators\, and other collection professionals have formed a network centered around the preservation of the millions of objects that are assembled under their roofs. In this workshop\, members of the network will present current projects that highlight the various approaches towards maintaining the integrity of collection objects\, ranging from medieval ships\, archeological artefacts\, technical heritage from different branches to skins and other objects of natural history. This is complemented by a public panel discussion incorporating different angles of the preservation of our cultural heritage. The event is supported by the Aktionsplan Leibniz-Forschungsmuseen. \nFurther Information
URL:https://www.restauratoren.de/termin/workshop-research-and-best-practices-in-leibniz-research-museums/
CATEGORIES:Externe Veranstaltung
END:VEVENT
BEGIN:VEVENT
DTSTART;VALUE=DATE:20180618
DTEND;VALUE=DATE:20180625
DTSTAMP:20260420T174408
CREATED:20180403T161617Z
LAST-MODIFIED:20180403T161644Z
UID:10001006-1529280000-1529884799@www.restauratoren.de
SUMMARY:European Cultural Heritage Summit
DESCRIPTION:Einer der großen Höhepunkte des Europäischen Kulturerbejahres wird der European Cultural Heritage Summit „Sharing Heritage – Sharing Values“ sein\, der vom 18.-24. Juni 2018 in Berlin stattfindet. Der Summit wird organisiert durch Europa Nostra\, der Stiftung Preußischer Kulturbesitz und das Deutsche Nationalkomitee für Denkmalschutz und durch die Europäische Union über das Programm Kreatives Europa unterstützt.\nZentrale Veranstaltungen\, wie eine hochrangige politische Debatte und die Preisverleihung des EU-Preises für Kulturerbe/ Europa Nostra Award\, werden am 21./22. Juni 2018 stattfinden.
URL:https://www.restauratoren.de/termin/european-cultural-heritage-summit/
CATEGORIES:Sharing Heritage
END:VEVENT
END:VCALENDAR