BEGIN:VCALENDAR
VERSION:2.0
PRODID:-//Verband der Restauratoren VDR - ECPv6.15.15//NONSGML v1.0//EN
CALSCALE:GREGORIAN
METHOD:PUBLISH
X-ORIGINAL-URL:https://www.restauratoren.de
X-WR-CALDESC:Veranstaltungen für Verband der Restauratoren VDR
REFRESH-INTERVAL;VALUE=DURATION:PT1H
X-Robots-Tag:noindex
X-PUBLISHED-TTL:PT1H
BEGIN:VTIMEZONE
TZID:UTC
BEGIN:STANDARD
TZOFFSETFROM:+0000
TZOFFSETTO:+0000
TZNAME:UTC
DTSTART:20170101T000000
END:STANDARD
END:VTIMEZONE
BEGIN:VEVENT
DTSTART;VALUE=DATE:20180924
DTEND;VALUE=DATE:20180925
DTSTAMP:20260423T161216
CREATED:20180822T161741Z
LAST-MODIFIED:20180822T161741Z
UID:10001077-1537747200-1537833599@www.restauratoren.de
SUMMARY:3D-Digitalisierung für Industrie und Kultur
DESCRIPTION:Die Fröbus Academy lädt am 24. September 2018 zu einer kostenfreien Veranstaltung der ins Carlswerk nach Köln einladen. Die Academy bietet ein Forum zur Wissensvermittlung im Bereich der Medienproduktion. Virtual Reality\, Augmented Reality\, Mixed Reality\, 3D-Digitalisierung\, Photogrammetrie\, Streifenlichtscanner\, Reprofotografie sind nur einige der Begrifflichkeiten\, die bei der Fröbus Academy in Theorie und Praxis erklärt werden. Praxisnah wird gezeigt\, welche Prozesse\, Workflows und Qualitätsstandards dabei eine Rolle spielen. \nDie Referenten geben einen Einblick in den aktuellen Entwicklungsstand ihres Fachgebiets und erlauben so einen spannenden Ausblick auf die Zukunft. Besonderes Highlight der diesjährigen Veranstaltung ist die Teilnahme von zwei der angesehensten deutschen Wissenschaftsexperten zum Thema 3D-Digitalisierung:\nProf. Matthias Pfaff nähert sich der 3D-Welt zunächst theoretisch und wird relevante Begriffe\, Wirkungsmechanismen und Technologien vorstellen und diese an Projekten demonstrieren.\nDr. Andreas Christoph von der Friedrich-Schiller-Universität Jena wird ein Innovationsprojekt an der Schnittstelle zwischen Geistes- und Informationswissenschaft vorstellen.\nDas Projekt lotet neue Möglichkeiten serieller Erfassung\, digitaler Modellierung sowie der Sammlung und Präsentation dreidimensionaler Kulturgüter aus und etabliert standardisierte Arbeitsabläufe. \nNeben Demonstrationen der Techniken Photogrammetrie und Scanning wird die Live-Installation des „RealScan“ der Firma Zeiss zu sehen sein.\nIn praktisch orientierten Workshops werden zudem gemeinsam 3D-Modelle erstellt. \nWeitere Informationen und Anmeldung
URL:https://www.restauratoren.de/termin/3d-digitalisierung-fuer-industrie-und-kultur/
CATEGORIES:Externe Veranstaltung
END:VEVENT
END:VCALENDAR