BEGIN:VCALENDAR
VERSION:2.0
PRODID:-//Verband der Restauratoren VDR - ECPv6.15.15//NONSGML v1.0//EN
CALSCALE:GREGORIAN
METHOD:PUBLISH
X-WR-CALNAME:Verband der Restauratoren VDR
X-ORIGINAL-URL:https://www.restauratoren.de
X-WR-CALDESC:Veranstaltungen für Verband der Restauratoren VDR
REFRESH-INTERVAL;VALUE=DURATION:PT1H
X-Robots-Tag:noindex
X-PUBLISHED-TTL:PT1H
BEGIN:VTIMEZONE
TZID:UTC
BEGIN:STANDARD
TZOFFSETFROM:+0000
TZOFFSETTO:+0000
TZNAME:UTC
DTSTART:20170101T000000
END:STANDARD
END:VTIMEZONE
BEGIN:VEVENT
DTSTART;VALUE=DATE:20180927
DTEND;VALUE=DATE:20180929
DTSTAMP:20260425T142430
CREATED:20180707T115150Z
LAST-MODIFIED:20180707T115150Z
UID:10001058-1538006400-1538179199@www.restauratoren.de
SUMMARY:Schimmel – Schutz und Kampf gegen mikrobiellen Befall
DESCRIPTION:Zum 8. Tag der Bestandserhaltung Berlin und Brandenburg lädt die Zentral- und Landesbibliothek Berlin ein. Am 27. und 28. September 2018 heißt das Thema „Schimmel – Schutz und Kampf gegen mikrobiellen Befall“. \nWeitere Informationen und Anmeldung
URL:https://www.restauratoren.de/termin/schimmel-schutz-und-kampf-gegen-mikrobiellen-befall/
LOCATION:Berlin
CATEGORIES:Externe Veranstaltung
END:VEVENT
BEGIN:VEVENT
DTSTART;VALUE=DATE:20180927
DTEND;VALUE=DATE:20180930
DTSTAMP:20260425T142431
CREATED:20180525T080137Z
LAST-MODIFIED:20180525T080137Z
UID:10001023-1538006400-1538265599@www.restauratoren.de
SUMMARY:Tagung "Biozide und Schadstoffe in Kunst- und Kulturgütern"
DESCRIPTION:Die Tagung Wood Art Conservation 2018: Biozide und Schadstoffe in Kunst- und Kulturgütern wird vom 27. bis 29. September 2018 in Bern an der Hochschule der Künste stattfinden. Die Tagung wird durch das BFH-Zentrum Holz – Ressource und Werkstoff\, die AHB Berner Fachhochschule Architektur\, Holz und Bau\, die HKB Hochschule der Künste Bern – Fachbereich Konservierung und Restaurierung und den SKR Schweizerischen Verband für Konservierung und Restaurierung organisiert. \nWeitere Informationen
URL:https://www.restauratoren.de/termin/tagung-biozide-und-schadstoffe-in-kunst-und-kulturguetern/
CATEGORIES:Externe Veranstaltung
END:VEVENT
BEGIN:VEVENT
DTSTART;TZID=UTC:20180927T080000
DTEND;TZID=UTC:20180927T170000
DTSTAMP:20260425T142431
CREATED:20180909T163538Z
LAST-MODIFIED:20180909T163538Z
UID:10001087-1538035200-1538067600@www.restauratoren.de
SUMMARY:Das grüne Museum
DESCRIPTION:Auf der Veranstaltung „Das grüne Museum 2018“ am 27.09.2018 in Leipzig diskutieren Praktiker und Experten\, Entscheidungsträger und Interessensvertreter\, welche Entwicklungen bei Baufragen\, Kosten\, Umweltauflagen\, Normen und Standards und Messwerte zu erwarten sind und welche Lösungen und Konzepte erfolgversprechende Beispiele für die gesamte Depot-\, Archiv- und Museumslandschaft sein könnten.\nIn diesem Jahr kooperieren VDR und Das grüne Museum miteinander\, sodass VDR-Mitglieder die Hälfte des regulären Eintrittspreises zahlen (147\,50 statt 295 Euro\, zzgl. MwSt.). \nWeitere Termine in der Veranstaltungsreihe: 24.10.2018 in Stuttgart und 30.10.2018 in Düsseldorf \nWeitere Informationen
URL:https://www.restauratoren.de/termin/das-gruene-museum/2018-09-27/
CATEGORIES:Externe Veranstaltung
END:VEVENT
END:VCALENDAR