BEGIN:VCALENDAR
VERSION:2.0
PRODID:-//Verband der Restauratoren VDR - ECPv6.15.15//NONSGML v1.0//EN
CALSCALE:GREGORIAN
METHOD:PUBLISH
X-WR-CALNAME:Verband der Restauratoren VDR
X-ORIGINAL-URL:https://www.restauratoren.de
X-WR-CALDESC:Veranstaltungen für Verband der Restauratoren VDR
REFRESH-INTERVAL;VALUE=DURATION:PT1H
X-Robots-Tag:noindex
X-PUBLISHED-TTL:PT1H
BEGIN:VTIMEZONE
TZID:UTC
BEGIN:STANDARD
TZOFFSETFROM:+0000
TZOFFSETTO:+0000
TZNAME:UTC
DTSTART:20170101T000000
END:STANDARD
END:VTIMEZONE
BEGIN:VEVENT
DTSTART;VALUE=DATE:20180927
DTEND;VALUE=DATE:20180930
DTSTAMP:20260425T142443
CREATED:20180525T080137Z
LAST-MODIFIED:20180525T080137Z
UID:10001023-1538006400-1538265599@www.restauratoren.de
SUMMARY:Tagung "Biozide und Schadstoffe in Kunst- und Kulturgütern"
DESCRIPTION:Die Tagung Wood Art Conservation 2018: Biozide und Schadstoffe in Kunst- und Kulturgütern wird vom 27. bis 29. September 2018 in Bern an der Hochschule der Künste stattfinden. Die Tagung wird durch das BFH-Zentrum Holz – Ressource und Werkstoff\, die AHB Berner Fachhochschule Architektur\, Holz und Bau\, die HKB Hochschule der Künste Bern – Fachbereich Konservierung und Restaurierung und den SKR Schweizerischen Verband für Konservierung und Restaurierung organisiert. \nWeitere Informationen
URL:https://www.restauratoren.de/termin/tagung-biozide-und-schadstoffe-in-kunst-und-kulturguetern/
CATEGORIES:Externe Veranstaltung
END:VEVENT
END:VCALENDAR