BEGIN:VCALENDAR
VERSION:2.0
PRODID:-//Verband der Restauratoren VDR - ECPv6.15.15//NONSGML v1.0//EN
CALSCALE:GREGORIAN
METHOD:PUBLISH
X-WR-CALNAME:Verband der Restauratoren VDR
X-ORIGINAL-URL:https://www.restauratoren.de
X-WR-CALDESC:Veranstaltungen für Verband der Restauratoren VDR
REFRESH-INTERVAL;VALUE=DURATION:PT1H
X-Robots-Tag:noindex
X-PUBLISHED-TTL:PT1H
BEGIN:VTIMEZONE
TZID:UTC
BEGIN:STANDARD
TZOFFSETFROM:+0000
TZOFFSETTO:+0000
TZNAME:UTC
DTSTART:20170101T000000
END:STANDARD
END:VTIMEZONE
BEGIN:VEVENT
DTSTART;VALUE=DATE:20181029
DTEND;VALUE=DATE:20181031
DTSTAMP:20260420T210323
CREATED:20180801T072104Z
LAST-MODIFIED:20180813T160615Z
UID:10001067-1540771200-1540943999@www.restauratoren.de
SUMMARY:Tagung "Herausforderungen für Denkmalpflege und Restaurierung im 21. Jh."
DESCRIPTION:Anlässlich des europäischen Kulturerbejahres veranstaltet das Fachgebiet Restaurierung des Landesamtes für Denkmalpflege im Regierungspräsidium Stuttgart gemeinsam mit ICOMOS Deutschland vom 29. bis 30.10.2018 eine Tagung zum Thema „Herausforderungen für Denkmalpflege und Restaurierung im 21. Jahrhundert“. Tagungsort ist Ravensburg (Schwörsaal im Waaghaus). \nDabei werden Themen rund um die zunehmende Materialvielfalt in der Restaurierung bei jüngeren Denkmalen diskutiert sowie der Umgang mit energetischen Anforderungen\, die weitreichenden Einfluss auf Architekturoberflächen haben. Unter dem Aspekt der Restaurierungsethik steht aber auch die Frage zur Diskussion\, ob sich unsere Ansprüche an Instandsetzungen möglicherweise auch an der Zeitstellung der Objekte orientieren und welche Sehgewohnheiten diese beeinflussen. \nWeitere Informationen\, Programm und Anmeldung
URL:https://www.restauratoren.de/termin/tagung-herausforderungen-an-denkmalpflege-und-restaurierung-im-21-jh/
CATEGORIES:Externe Veranstaltung
END:VEVENT
END:VCALENDAR