BEGIN:VCALENDAR
VERSION:2.0
PRODID:-//Verband der Restauratoren VDR - ECPv6.15.15//NONSGML v1.0//EN
CALSCALE:GREGORIAN
METHOD:PUBLISH
X-ORIGINAL-URL:https://www.restauratoren.de
X-WR-CALDESC:Veranstaltungen für Verband der Restauratoren VDR
REFRESH-INTERVAL;VALUE=DURATION:PT1H
X-Robots-Tag:noindex
X-PUBLISHED-TTL:PT1H
BEGIN:VTIMEZONE
TZID:UTC
BEGIN:STANDARD
TZOFFSETFROM:+0000
TZOFFSETTO:+0000
TZNAME:UTC
DTSTART:20170101T000000
END:STANDARD
END:VTIMEZONE
BEGIN:VEVENT
DTSTART;VALUE=DATE:20181108
DTEND;VALUE=DATE:20181110
DTSTAMP:20260422T022456
CREATED:20180723T100223Z
LAST-MODIFIED:20181002T104442Z
UID:10001061-1541635200-1541807999@www.restauratoren.de
SUMMARY:Symposium Rembrandt Conservation Histories
DESCRIPTION:On 8 and 9 November 2018\, the Rijksmuseum Amsterdam will host an international symposium on the history of conservation of paintings by the Dutch 17th-century master\, Rembrandt van Rijn. \nThe symposium is organised on the occasion of the research and treatment of the portraits of Marten Soolmans and Oopjen Coppit by Rembrandt van Rijn\, jointly owned by the Rijksmuseum in Amsterdam and the Musée du Louvre in Paris. \nImportant masterpieces in museum collections\, such as the paintings by Rembrandt\, often have the dubious honour to have undergone numerous conservation treatments in the past. Because of the significance of the paintings\, these treatments are generally well documented. Every country has its own traditions\, developments and approaches to conservation\, with important restorers who have played a key role in the treatment and appearance of Rembrandt paintings. \nThe deadline for Early bird registration has been extended to 21 October 2018 23:59 UTC. \nFurther information
URL:https://www.restauratoren.de/termin/symposium-rembrandt-conservation-histories/
CATEGORIES:Externe Veranstaltung
END:VEVENT
BEGIN:VEVENT
DTSTART;VALUE=DATE:20181108
DTEND;VALUE=DATE:20181111
DTSTAMP:20260422T022456
CREATED:20171016T092615Z
LAST-MODIFIED:20171016T092615Z
UID:10000962-1541635200-1541894399@www.restauratoren.de
SUMMARY:denkmal 2018 - die europäische Leitmesse für Denkmalpflege\, Restaurierung und Altbausanierung
DESCRIPTION:Die denkmal 2018\, die europäische Leitmesse für Denkmalpflege\, Restaurierung und Altbausanierung findet vom 08.11.-10.11.2018 auf der Leipziger Messe statt.\nDie Bewahrung unseres reichen Kulturgutes erfordert enormes Fachwissen und Praxiserfahrungen. Mit dem Konzept\, dem interdisziplinären Angebotsprofil und dem Fachprogramm in höchster Qualität leistet die denkmal in Leipzig seit 1994 ihren Beitrag zur Erhaltung unseres Kulturerbes. Als europäische Leitmesse ist sie die Plattform für den Dialog der Akteure und gewährt einen Einblick in die vielfältigen Facetten der Denkmalpflege\, Restaurierung und Altbausanierung. Die Fachmesse Lehmbau gehört zum festen Bestandteil der denkmal und bereichert das Angebot der Leitmesse. Im Verbund mit der MUTEC nimmt die denkmal einen wichtigen Platz im Europäischen Kulturerbejahr 2018 ein.
URL:https://www.restauratoren.de/termin/denkmal-2018-die-europaeische-leitmesse-fuer-denkmalpflege-restaurierung-und-altbausanierung/
LOCATION:Leipziger Messe\, Messe-Allee 1 \, Leipzig\, Sachsen\, 04356 \, Deutschland
CATEGORIES:Externe Veranstaltung
ATTACH;FMTTYPE=:
GEO:51.3956534;12.3992432
X-APPLE-STRUCTURED-LOCATION;VALUE=URI;X-ADDRESS=Leipziger Messe Messe-Allee 1  Leipzig Sachsen 04356  Deutschland;X-APPLE-RADIUS=500;X-TITLE=Messe-Allee 1:geo:12.3992432,51.3956534
END:VEVENT
BEGIN:VEVENT
DTSTART;VALUE=DATE:20181108
DTEND;VALUE=DATE:20181111
DTSTAMP:20260422T022456
CREATED:20180703T090610Z
LAST-MODIFIED:20181101T122524Z
UID:10001053-1541635200-1541894399@www.restauratoren.de
SUMMARY:16. Mitgliederversammlung und Gremientreffen auf den Messen denkmal und Mutec - jetzt anmelden!
DESCRIPTION:Wie in den zurückliegenden Jahren ist der VDR erneut auf der Messe denkmal 2018 vertreten. Diese findet parallel zur Mutec statt und stellt einen von drei Höhepunkten zum Europäischen Kulturerbejahr dar. \n \n\nAktionen am Stand H41\nAn einem 80 Quadratmeter großen Stand erhalten  Besucher lebendige Einblicke in die Arbeitswelt der Restauratoren. Verschiedene Fachgruppen präsentieren Restaurierungsprojekte\, Objekte und lassen sich bei der Arbeit über die Schulter schauen. Auch sind Vertreter der Interessengruppen Selbständige Freiberufler und Restauratoren in Ausbildung vor Ort. Gemeinsam mit der VDR-Geschäftsstelle bietet sie Informationen und Beratung an. \nFrage & Antwort:    Freitag\, 9.11.2018 und Samstag\, 10.11.2018\nWann:                       am 9.11. von 13:00 – 14:00 Uhr und am 10.11. von 12:00 – 13:00 Uhr\nWo:                            Halle 2\, Stand 41\, Messe-Allee 1\, 04356 Leipzig\nWas:                          Boris Frohberg (Vorsitzender der Fachkommission zur Eintragung von Restauratoren in die Restauratorenliste des Landes Mecklenburg-Vorpommern) erläutert für Interessierte das Restauratorgesetz und beantwortet Fragen zur Umsetzung\, Antragsstellung etc.\nKommen Sie vorbei und stellen Ihre Fragen! \n\ndenkmal Messe Leipzig\nMesselaufzeit:          Donnerstag\, 8.11. bis Samstag\, 10.11.2018\nWann:                          täglich 9:30 – 18:00 Uhr\nWo:                              Halle 2 und Congress Center Leipzig (CCL)\, Messe-Allee 1\, 04356 Leipzig \nUnsere Mitglieder haben freien Zutritt zur Messe. Die Zugangscodes haben Sie per Post erhalten. Mit dem Code können Sie sich online bei der Messe registrieren und ein kostenloses Ticket für jeden Tag (8.-10.11.) inkl. ÖPNV-Ticket herunterladen.\nNachdem Sie den Code eingegeben haben\, wird ein kostenloses Ticket generiert. Es heißt „Tageskarte Promotioncode“. Bitte geben Sie bei der Anzahl die benötigten Tickets an (z. B. Besuch an 3 Tagen = 3 Tickets). \nHier finden Sie den Geländeplan der Messe mit verschiedenen Schwerpunkten (Parken\, Gastronomie etc.). \n\nFachliches Begleitprogramm\nDaneben bereitet der VDR derzeit ein fachliches Rahmenprogramm vor. Dazu gehören: \nKolloquium „50 Jahre Restaurierungsstudium“\nWann:      Fr. 9.11.2018\, 10:00 – 12:00 Uhr\nWo:           Messe Leipzig\, CCL\, Mehrzweckfläche 3 \nTagung „Kulturerbe braucht Restauratoren“\nWann:     Fr\, 9.11.2018\, 14:00-17:00 Uhr\nWo:         Messe Leipzig\, CCL\, Saal 5 \nVortrag „Restauriert. Note 1 – wie angewandte wahrnehmungspsychologische Grundlagen zu einer ästhetisch gelungenen Restaurierung führen“ \nWann:     Do. 8.11.2018\, 13:00 – 13:30 Uhr\nWo:         Messe Leipzig\, Halle 2\, Info-Forum \nVortrag „Ich bin Restauratorin. Porträt eines Berufs zwischen Forschung und Praxis“  \nWann:     Sa. 10.11.2018\, 13:15-13:45 Uhr\nWo:         Messe Leipzig\, Halle 2\, Sharing-Heritage-Forum \n  \nVDR Mitgliederversammlung\nIm CCL der Messe hält der VDR am letzten Messetag seine Mitgliederversammlung ab. Dort informieren Präsidium und Geschäftsstelle über die Geschehnisse des letzten Jahres und künftige Herausforderungen. Im Dialog mit den Mitgliedern wird über künftige Aktivitäten beraten und abgestimmt. \n16. Mitgliederversammlung des VDR\nWann:     Sa. 10.11.2018\, 11:00 – 17:00 Uhr\nWo:         Messe Leipzig\, CCL\, Mehrzweckfläche 1/2\nInfo:        Registrierung ab 09:30 Uhr (Mitgliedsausweis griffbereit haben!)\n \n  \nVDR Gremientreffen\nEinige Fach- und Interessengruppen laden ihre Mitglieder im Rahmen der Messe denkmal vom 8.-10. November 2018 zu Gruppentreffen ein. An dieser Stelle findet sich eine vorläufige Übersicht der bisher geplanten Gremientreffen. Die Liste wird an dieser Stelle fortwährend aktualisiert. Änderungen sind noch möglich. \nFachgruppe Präventive Konservierung\nWann:     Do.\, 8.11.2018\, 17:00 – 18:00 Uhr\nWo:         Messe Leipzig\, CCL\, Seminarraum 6/7 \nFachgruppe Archäologische Objekte\nWann:     Fr.\, 9.11.2018\, 10:30 – 12:30 Uhr\nWo:         Ägyptisches Museum der Universität Leipzig\, Goethestraße 2\, 04109 Leipzig\nDetails:\n10:30 Uhr: restauratorische Führung von Herrn von Stülpnagel durch das Ägyptische Museum Leipzig. Für die Anzahl der Teilnehmer gibt                                       es keine Begrenzung. Die Teilnahme ist auch ohne Mitgliedschaft möglich. Sollten Sie kein Mitglied sein\, wenden                                                             Sie sich bitte für Ihre Teilnahme direkt per E-Mail an uns.\n11:30 Uhr: Fachgruppensitzung \nInteressengruppe Öffentlicher Dienst\nWann:     Fr.\, 9.11.2018\, 10:00 – 13:00 Uhr\nWo:         Grassimuseum\, Johannisplatz 5-11\, 04103 Leipzig\nDetails:\n10:00-11:00 Uhr: „Restaurierung und Öffentlichkeitsarbeit“ – Führung zu aktuellen Präsentationen des Grassimuseums zu diesem Thema\n11:00-12:00 Uhr: Treffen der Interessengruppe im Grassimuseum – Wahl einer/s neuen Stellvertreterin/s\n12:00-13:00 Uhr: gemeinsames Mittagessen im Café (Selbstzahler) \nInteressengruppe Selbständige Freiberufler \nWann:     Fr.\, 9.11.2018\, 12:00 – 13:15 Uhr\nWo:         Messe Leipzig\, CCL\, Saal 5 \nFachgruppe Polychrome Bildwerke\nWann:     Fr.\, 9.11.2018\, 13:00 – 14:00 Uhr\nWo:         Messe Leipzig\, CCL\, Bankettraum 3 \nFachgruppe Wandmalerei und Architekturoberfläche\nWann:     Sa.\, 10.11.2018\, 9:30 – 11:00 Uhr\nWo:         Messe Leipzig\, CCL\, Bankettraum 2 \nFachgruppe Metall\nWann:     Sa.\, 10.11.2018\, 9:30 – 10:30 Uhr\nWo:         Messe Leipzig\, CCL\, Seminarraum 8 \nFachgruppe Gemälde\nWann:     Sa.\, 10.11.2018\, 9:30 – 10:30 Uhr\nWo:         Messe Leipzig\, CCL\, Vortragsraum 12 \nFachgruppe Steinkonservierung\nWann:     Sa.\, 10.11.2018\, 10:00 – 11:00 Uhr\nWo:         Messe Leipzig\, CCL\, Seminarraum 6/7 \nFachgruppe Industrielles Kulturgut/Kulturgut der Moderne\nWann:     Sa.\, 10.11.2018\, 10:00 – 11:00 Uhr\nWo:         Messe Leipzig\, CCL\, Vortragsraum 9 \nDie Veranstaltungen sind auch zu finden auf der Messe Website im Gesamtprogramm. \n  \nRahmenprogramm\nDer VDR lädt seine Mitglieder und weitere Interessenten an zwei Abenden zum Beisammensein und guten Unterhaltungen mit den Kolleginnen und Kollegen ein. Dies ermöglichen wir Ihnen bei einem entspannten Get Together und beim traditionellen Bunten Abend mit Tanz.\nWir bitten um Anmeldung (s.u.). Eine Teilnahme ohne vorherige Anmeldung ist nicht möglich. \nGet Together\nWann:     Do.\, 8.11.2018\, 19:00 Uhr\nWo:         Reinhardts im Gasthaus Alte Nikolaischule\, Nikolaikirchhof 2\, 04109 Leipzig\nKosten:  Essen (Tellergerichte 12\,30 p.P.) und Getränke Selbstzahler. Bezahlung vor Ort an Reinhardts.\nInfo:        Die Teilnehmerzahl ist auf max. 50 Pers. beschränkt. \nBunter Abend\nWann:     Fr.\, 9.11.2018\, 19:00 Uhr\nWo:         Gewandhaussaal im Ratskeller der Stadt Leipzig GmbH\, Lotterstraße 1\, 04109 Leipzig\nKosten:  40\,00 € (inkl. Mwst.) p. P.\nDie Kosten verstehen sich inkl. Aperitif\, Buffet und Musik (DJ Sven von „Play 84“). Bezahlung durch vorab Überweisung an den VDR.\nInfo:        Die Teilnehmerzahl ist auf max. 120 Pers. beschränkt. \n  \nAnmeldung\nEine Anmeldung ist nicht mehr möglich! \nAnmeldeschluss: Sonntag\, den 28.10.2018\nBei Interesse an den Veranstaltungen ist eine vorherige Anmeldung erforderlich.  \n  \nHinweise zur Unterkunft\nSchon jetzt haben viele Messegäste Hotelzimmer in Leipzig reserviert. Wir raten deshalb\, sich möglichst früh um eine Unterkunft zu bemühen.\nFür Anbieter/Sucher privater Unterkünfte bei Kollegen vor Ort oder in der Region regen wir an\, das Schwarze Brett im Forum Restaurierung zu nutzen. \n  \nKontakt\nBei Fragen melden Sie sich bitte beim Veranstaltungsteam der VDR Geschäftsstelle unter veranstaltungen(at)restauratoren.de \n  \nFoto: Messe Leipzig
URL:https://www.restauratoren.de/termin/mv-und-gremientreffen-auf-der-messe-denkmal-2018/
CATEGORIES:Fachgruppe Archäologische Objekte,Fachgruppe Präventive Konservierung,FG Gemälde,FG Tech. Kulturgut,VDR-Veranstaltung
ATTACH;FMTTYPE=image/jpeg:https://www.restauratoren.de/wp-content/uploads/2018/07/Leipziger-Messe.jpg
END:VEVENT
BEGIN:VEVENT
DTSTART;TZID=UTC:20181108T180000
DTEND;TZID=UTC:20181108T190000
DTSTAMP:20260422T022456
CREATED:20181030T180154Z
LAST-MODIFIED:20181030T180154Z
UID:10001108-1541700000-1541703600@www.restauratoren.de
SUMMARY:Vortrag „ Kosmos Weimar – Die Restaurierung von fünf Klavierinstrumenten aus dem Bestand der Klassik Stiftung Weimar“
DESCRIPTION:Am Donnerstag\, dem 8. November 2018\, um 18 Uhr\, lädt die Landesgruppe Sachsen-Anhalt des VDR zu einem Vortrag ins Kunstmuseum Moritzburg Halle ein. Thema ist die Restaurierung von fünf Klavierinstrumenten aus dem Bestand der Klassik-Stiftung Weimar.\n\nReferenten sind Dipl.-Restaurator Roland Hentzschel (Stiftung Händelhaus Halle) und Dr. Gert-Dieter Ulferts (Klassik-Stiftung Weimar) \nZu den Sammlungen der Klassik Stiftung Weimar gehört ein Bestand von etwa fünfzig historischen Musikinstrumenten. Anlässlich das Franz Liszt Jahres 2011 wurden von der Museumsleitung der Klassik Stiftung Weimar fünf Klavierinstrumente ausgewählt\, an denen sich die Entwicklung des Hammerklaviers vom späten 18. bis zur Mitte des 19. Jahrhunderts exemplarisch ablesen lässt. Diese Instrumente stammen aus dem direkten Bereich der Stiftung: So der Hammerflügel aus dem Besitz der Fürstin Maria Pawlona oder auch der Komponierflügel aus dem Arbeitszimmer von Franz Liszt. \nIn Kooperation mit der Hochschule für Musik FRANZ LISZT\, dem Greifenberger Institut für Musikinstrumentenkunde und dem Händel-Haus Halle wurden die historischen Tasteninstrumente im Zeitraum von 2009 bis 2011 untersucht und restauriert. Die Restaurierung der Instrumente erfolgte im Rahmen des von der Kulturstiftung des Bundes geförderten Programms zur Konservierung und Restaurierung mobilen Kulturguts (KUR-Programm).\nDie restaurierten Klavierinstrumente werden im Rahmen von Veranstaltungen sowie einer Konzertreihe zur historischen Aufführungspraxis öffentlich präsentiert. \nDer Vortrag findet in der Reihe „Restaurierung und Forschung“ – einer Vortragsreihe des Verbandes der Restauratoren (VDR) und des Kunstmuseums Moritzburg Halle (Saale) statt.\nDauer des Vortrags ca. 45 Minuten plus 15 Minuten für Fragen.
URL:https://www.restauratoren.de/termin/vortrag-kosmos-weimar-die-restaurierung-von-fuenf-klavierinstrumenten-aus-dem-bestand-der-klassik-stiftung-weimar/
LOCATION:Kunstmuseum Moritzburg\, Friedemann Bach Platz 5\, Halle/ Saale\, 06108\, Deutschland
CATEGORIES:Landesgruppe Sachsen-Anhalt,VDR-Veranstaltung
ATTACH;FMTTYPE=:
END:VEVENT
END:VCALENDAR