BEGIN:VCALENDAR
VERSION:2.0
PRODID:-//Verband der Restauratoren VDR - ECPv6.15.15//NONSGML v1.0//EN
CALSCALE:GREGORIAN
METHOD:PUBLISH
X-WR-CALNAME:Verband der Restauratoren VDR
X-ORIGINAL-URL:https://www.restauratoren.de
X-WR-CALDESC:Veranstaltungen für Verband der Restauratoren VDR
REFRESH-INTERVAL;VALUE=DURATION:PT1H
X-Robots-Tag:noindex
X-PUBLISHED-TTL:PT1H
BEGIN:VTIMEZONE
TZID:UTC
BEGIN:STANDARD
TZOFFSETFROM:+0000
TZOFFSETTO:+0000
TZNAME:UTC
DTSTART:20170101T000000
END:STANDARD
END:VTIMEZONE
BEGIN:VEVENT
DTSTART;TZID=UTC:20181126T180000
DTEND;TZID=UTC:20181126T190000
DTSTAMP:20260425T142445
CREATED:20181123T103125Z
LAST-MODIFIED:20181123T103228Z
UID:10001111-1543255200-1543258800@www.restauratoren.de
SUMMARY:Antrittsvorlesung von Prof. Dr. Jan Raue an der FH Potsdam
DESCRIPTION:Bereits seit 2017 ist Prof. Dr. Jan Raue Professor für Restaurierung und Konservierung von Wandmalerei am Fachbereich STADT | BAU | KULTUR an der Fachhochschule Potsdam. Seine Antrittsvorlesung unter dem Titel »Intention\, Illusion und Interpretation – Das Fragment in der Restaurierung« findet am Montag\, den 26. November 2018 an der FH Potsdam statt. Die Veranstaltung ist öffentlich\, der Eintritt frei. \nMehr Informationen unter: https://www.fh-potsdam.de/informieren/aktuelles/news-detailansicht/artikel/antrittsvorlesung-von-prof-dr-jan-raue-an-der-fh-potsdam/ \nWann: Mo.\, 26.11.2018 I 18.00 Uhr\nWo: Haus A I Raum A022 I Campus Kiepenheuerallee 5 I 14469 Potsdam\nEintritt: ohne Anmeldung I frei
URL:https://www.restauratoren.de/termin/antrittsvorlesung-von-prof-dr-jan-raue-an-der-fh-potsdam/
LOCATION:FH Potsdam\, Kiepenheuerallee 5\, Potsdam\, 14469\, Deutschland
CATEGORIES:Externe Veranstaltung
ATTACH;FMTTYPE=image/jpeg:https://www.restauratoren.de/wp-content/uploads/2015/10/Jan_Raue_mittel.jpg
END:VEVENT
END:VCALENDAR