BEGIN:VCALENDAR
VERSION:2.0
PRODID:-//Verband der Restauratoren VDR - ECPv6.15.15//NONSGML v1.0//EN
CALSCALE:GREGORIAN
METHOD:PUBLISH
X-WR-CALNAME:Verband der Restauratoren VDR
X-ORIGINAL-URL:https://www.restauratoren.de
X-WR-CALDESC:Veranstaltungen für Verband der Restauratoren VDR
REFRESH-INTERVAL;VALUE=DURATION:PT1H
X-Robots-Tag:noindex
X-PUBLISHED-TTL:PT1H
BEGIN:VTIMEZONE
TZID:UTC
BEGIN:STANDARD
TZOFFSETFROM:+0000
TZOFFSETTO:+0000
TZNAME:UTC
DTSTART:20170101T000000
END:STANDARD
END:VTIMEZONE
BEGIN:VEVENT
DTSTART;VALUE=DATE:20181129
DTEND;VALUE=DATE:20181202
DTSTAMP:20260425T053600
CREATED:20180823T101145Z
LAST-MODIFIED:20180823T101145Z
UID:10001082-1543449600-1543708799@www.restauratoren.de
SUMMARY:Die Büchse der Pandora - Best Practice
DESCRIPTION:In ihrer Reihe „Die Büchse der Pandora“ bieten die Paz Laboratorien in Bad Kreuznach vom 29.11. bis 01.12.2018 eine Weiterbildung an. Im Kurs Best Practice II geht es um die praktische Durchsetzung eines Schutzkonzeptes zur Risikominimierung und Durchführung arbeitsschutztechnischer Maßnahmen am Beispiel des Bayerischen Nationalmuseums. Außerdem erwaten die Teilnehmer eine grundlegende Einführung in die gesundheitliche Gefährdung durch Biozide sowie moderne präventive und kurative Strategien gegen Insektenbefall in Museen und Sammlungen. \nWeitere Informationen
URL:https://www.restauratoren.de/termin/die-buechse-der-pandora-best-practice/
LOCATION:Paz Laboratorien\, Planiger Straße 34\, Haus 18/19\, Bad Kreuznach\, 55543\, Deutschland
CATEGORIES:Externe Veranstaltung
GEO:49.8455868;7.867094
X-APPLE-STRUCTURED-LOCATION;VALUE=URI;X-ADDRESS=Paz Laboratorien Planiger Straße 34 Haus 18/19 Bad Kreuznach 55543 Deutschland;X-APPLE-RADIUS=500;X-TITLE=Planiger Straße 34\, Haus 18/19:geo:7.867094,49.8455868
END:VEVENT
BEGIN:VEVENT
DTSTART;VALUE=DATE:20181130
DTEND;VALUE=DATE:20181201
DTSTAMP:20260425T053600
CREATED:20180824T081324Z
LAST-MODIFIED:20180824T081324Z
UID:10001084-1543536000-1543622399@www.restauratoren.de
SUMMARY:Kolloquium "Natürliche organische Farb- und Bindemittel"
DESCRIPTION:Das Brandenburgische Landesamt für Denkmalpfege und Archäologische Landesmuseum\, die Fachhochschule Potsdam\, das Rathgen-Forschungslabor der Staatlichen Museen zu Berlin\, Stiftung Preußischer Kulturbesitz und die Stiftung Preußische Schlösser und Gärten Berlin – Brandenburg veranstalten gemeinsam das inzwischen 12. Konservierungswissenschafliche Kolloquium in Berlin/Brandenburg. Am 30.11.2018 stehen natürliche organische Farb- und Bindemittel im Fokus. \nWeitere Informationen
URL:https://www.restauratoren.de/termin/kolloquium-natuerliche-organische-farb-und-bindemittel/
CATEGORIES:Externe Veranstaltung
END:VEVENT
END:VCALENDAR