BEGIN:VCALENDAR
VERSION:2.0
PRODID:-//Verband der Restauratoren VDR - ECPv6.15.15//NONSGML v1.0//EN
CALSCALE:GREGORIAN
METHOD:PUBLISH
X-ORIGINAL-URL:https://www.restauratoren.de
X-WR-CALDESC:Veranstaltungen für Verband der Restauratoren VDR
REFRESH-INTERVAL;VALUE=DURATION:PT1H
X-Robots-Tag:noindex
X-PUBLISHED-TTL:PT1H
BEGIN:VTIMEZONE
TZID:UTC
BEGIN:STANDARD
TZOFFSETFROM:+0000
TZOFFSETTO:+0000
TZNAME:UTC
DTSTART:20180101T000000
END:STANDARD
END:VTIMEZONE
BEGIN:VEVENT
DTSTART;VALUE=DATE:20190226
DTEND;VALUE=DATE:20190227
DTSTAMP:20260422T005751
CREATED:20190118T092700Z
LAST-MODIFIED:20190118T092700Z
UID:10001123-1551139200-1551225599@www.restauratoren.de
SUMMARY:Behutsame Betoninstandsetzung der Sichtbetonfassade der denkmalgeschützten Stadthalle in Lahnstein
DESCRIPTION:Tagungsinhalt\nDie Stadthalle Lahnstein wurde 1971-73 nach Plänen des Wiesbadener Architekturbüros Planungsring errichtet. Für die Gestaltung der Fassaden und Innenräume konnte der Stutt-garter Künstler Otto Herbert Hajek (1928-2005) gewonnen werden. Im Jahr 2007 wurde die Stadthalle als qualitätvolles Zeugnis für die Architektur und den Städtebau der 1970er Jahre sowie aufgrund der vielfältig erhaltenen künstlerischen Ausstattung der Bauzeit als Kulturdenkmal in die Denkmal liste Rheinland-Pfalz eingetragen.\nDie Stadthalle wurde in Stahlbetonbauweise mit Betonen in spezifischer Farbigkeit und Struktur sowie unterschiedlicher Fertigungsweise errichtet. Prägend ist das von Hajek in ab-wechselnder Primärfarbigkeit Rot\, Blau\, Gelb gestaltete\, geo-metrisch ornamentierte Betonrelief an der Hauptfassade zum Salhofplatz.\nAn den Sichtbetonoberflächen zeigten sich nach 45 Jahren Bewitterung die typischen Schäden\, wie v.a. Abplatzungen über korrodierter Bewehrung. Die Farben der Ornamentfelder waren stark verblasst.\nIm Rahmen einer Voruntersuchung\, die probabilistische Me-thoden anwendete\, konnte festgestellt werden\, dass die Fas-sade durch lokale Reparaturen instandgesetzt und auf eine abschließende egalisierende\, funktionale Beschichtung ver-zichtet werden kann. Über die Voruntersuchung und die Aus-führung der Betoninstandsetzung wird ausführlich berichtet. Bei der Auswahl der Instandsetzungsmörtel wurde ein indivi-duell an die vorhandene Betonrezeptur angepasster Mörtel bevorzugt.\nAuch die Wiederherstellung der Farbigkeit nahm im Rahmen der denkmalgerechten Instandsetzung einen wichtigen Teil ein. Durch eine restauratorische Untersuchung und eine Archivrecherche konnte eine Farbauswahl für die Neufassung getroffen werden\, die dem Original entspricht.\nDie Tagungsvorträge führen in den Umgang der Denkmal-pflege mit modernen Sichtbetonbauten ein\, stellen die Vorge-hensweise bei der behutsamen Instandsetzung detailliert vor und enden mit einem Blick auf die Erfahrungen mit der ver-gangenen Betoninstandsetzung an der Mensa der Universität in Saarbrücken\, welche ebenfalls von Otto Herbert Hajek farbig gestaltet wurde.\nDie Deutsche Bundesstiftung Umwelt förderte die Maßnahmen im Rahmen des Projekts AZ 33968 „Modellhafte\, denkmalgerechte Instandsetzung von Betonbauten am Beispiel der Stadthalle in Lahnstein“ \nProgramm Dienstag\, 26. Februar 2019\n10:00 Begrüßungskaffee \n10:30 Begrüßung und Einführung\nDR. ROSWITHA KAISER Generaldirektion Kulturelles Erbe Rheinland Pfalz\, Landesdenkmalpflege\, Mainz Vorstandsvorsitzende des Institut für Steinkonservierung e.V.\nADALBERT DORNBUSCH Bürgermeister\, Stadt Lahnstein\nDIPL.-ING. JÜRGEN BECKER Technischer Bauamtsleiter\, Stadt Lahnstein \n11:00 Sichtbetonbauten der Nachkriegsmoderne\nLEONIE KÖHREN M.A. Generaldirektion Kulturelles Erbe Rheinland-Pfalz\, Landesdenkmalpflege\, Mainz \n11:30 Die Stadthalle Lahnstein – Baugeschichte und Genese des Projektes\nDR. ALEXANDRA FINK Generaldirektion Kulturelles Erbe Rheinland-Pfalz\, Landesdenkmalpflege\, Mainz \n12:00 Die Sichtbetonfassade der Stadthalle Lahnstein – Es kommt darauf an\, was man damit macht\nDIPL.-ING. HUBERT BAUMSTARK Freier Architekt\, Karlsruhe \n12:45 Mittagspause und Besichtigung der Stadthalle \n14:00 Die Sichtbetonfassade der Stadthalle Lahnstein – Technische Aspekte der behutsamen Instandsetzung\nDR.-ING. WERNER HÖRENBAUM SMP Ingenieure im Bauwesen GmbH\, Karlsruhe \n14:30 Die Fassadenfarbigkeit der Stadthalle Lahnstein – Restauratorische Untersuchung des Anstriches sowie Überlegungen zum Umgang\nKAROLINE SANTOWSKI B.A. TH Köln\, Institut für Restaurierungs- und Konservierungswissenschaft (CICS)\nFarbauswahl für die Neufassung\nDR. KARIN KRAUS Institut für Steinkonservierung e.V.\, Mainz \n15:00 Die Mensa der Universität des Saarlandes in Saarbrücken\nAXEL BÖCKER Ministerium für Bildung und Kultur\, Saarbrücken \n15:30 Schlussdiskussion \nVeranstalter\nInstitut für Steinkonservierung e. V.\nGemeinsame Einrichtung der staatlichen Denkmalpflege Hessen\, Rheinland-Pfalz\, Saarland und Thüringen Große Langgasse 29\, 55116 Mainz\nTelefon: 06131 2016-500\nwww.ifs-mainz.de \nStadt Lahnstein\nwww.lahnstein.de \nGeneraldirektion Kulturelles Erbe Rheinland-Pfalz\nDirektion Landesdenkmalpflege\nwww.gdke.rlp.de/landesdenkmalpfege \nDie Teilnahmegebühr beträgt 50\,00 Euro\nFür die Mitglieder des IFS und für die Mitarbeiter/innen der Denkmalfachbehörden Hessen\, Rheinland-Pfalz\, Saarland und Thüringen ist die Veranstaltung kostenfrei. Bitte melden Sie sich trotzdem rechtzeitig an. \nAnmeldung\nBitte schicken Sie Ihre Anmeldung bis zum 19.02.2019 an das Institut für Steinkonservierung e. V.\nper Fax: +49 6131 2016-555\nper E-Mail: info@ifs-mainz.de \nIn der Teilnahmegebühr sind die Pausenverpflegung und eine Tagungspublikation enthalten.\nEine kostenfreie Stornierung ist bis zum 19.02.2019 möglich.\nSie erhalten nach Eingang Ihrer Anmeldung eine Anmelde-bestätigung und eine Rechnung per E-Mail.
URL:https://www.restauratoren.de/termin/behutsame-betoninstandsetzung-der-sichtbetonfassade-der-denkmalgeschuetzten-stadthalle-in-lahnstein/
LOCATION:Stadthalle Lahnstein\, Salhofplatz 1\, Lahnstein\, 56112\, Deutschland
CATEGORIES:Externe Veranstaltung
GEO:50.3017989;7.6044254
X-APPLE-STRUCTURED-LOCATION;VALUE=URI;X-ADDRESS=Stadthalle Lahnstein Salhofplatz 1 Lahnstein 56112 Deutschland;X-APPLE-RADIUS=500;X-TITLE=Salhofplatz 1:geo:7.6044254,50.3017989
END:VEVENT
END:VCALENDAR