BEGIN:VCALENDAR
VERSION:2.0
PRODID:-//Verband der Restauratoren VDR - ECPv6.15.15//NONSGML v1.0//EN
CALSCALE:GREGORIAN
METHOD:PUBLISH
X-ORIGINAL-URL:https://www.restauratoren.de
X-WR-CALDESC:Veranstaltungen für Verband der Restauratoren VDR
REFRESH-INTERVAL;VALUE=DURATION:PT1H
X-Robots-Tag:noindex
X-PUBLISHED-TTL:PT1H
BEGIN:VTIMEZONE
TZID:UTC
BEGIN:STANDARD
TZOFFSETFROM:+0000
TZOFFSETTO:+0000
TZNAME:UTC
DTSTART:20180101T000000
END:STANDARD
END:VTIMEZONE
BEGIN:VEVENT
DTSTART;VALUE=DATE:20190327
DTEND;VALUE=DATE:20190330
DTSTAMP:20260421T041237
CREATED:20190226T164642Z
LAST-MODIFIED:20190226T164642Z
UID:10001161-1553644800-1553903999@www.restauratoren.de
SUMMARY:Tagung "Sharing Heritage als Aufgabe - aktuelle rechtliche Herausforderungen"
DESCRIPTION:Vom 27. – 29. März 2019 veranstaltet das Deutsche Nationalkomitee für Denkmalschutz in Zusammenarbeit mit der Deutschen Nationalbibliothek\, der Stadt Frankfurt am Main sowie dem Landesamt für Denkmalpflege Hessen in der Deutschen Nationalbibliothek die Tagung „SHARING HERITAGE als Aufgabe – Aktuelle rechtliche Herausforderungen“. \nDabei geht es um aktuelle Fragen von Eigentum und Besitz\, von Partizipation und Kooperation\, um Fragen des Städtebaulichen Denkmalschutzes und der Historischen Kulturlandschaft in der Denkmalpflege. Viele dieser Fragen besitzen eine große Relevanz auch über Deutschland hinaus. \nDas Deutsche Nationalkomitee für Denkmalschutz hat im Auftrag von Bund\, Ländern und Kommunen das Europäische Kulturerbejahr 2018 in Deutschland koordiniert. Der deutsche Beitrag fokussierte unter dem Motto SHARING HERITAGE die Teilhabe und das Verbindende an unserem Kulturerbe. Gegenstand der Tagung werden daher auch Erfahrungen und Impulse aus diesem eindrucksvollen Themenjahr sein. \nFragen nach der Beteiligung der Bevölkerung bei der Identifizierung von Bau- und Bodendenkmälern\, Verankerung von Denkmälern im Bewusstsein der Bevölkerung\, Kooperation „auf Augenhöhe“ beim Schutz des „eigenen“ baulichen und archäologischen Kulturerbes sind uns wichtige Anliegen. Teilhaben und miteinander Teilen von baulichen und archäologischen Zeugnissen\, Erhalt und Vermittlung unseres Kulturerbes sind zentrale Themen weit über das Kulturerbejahr 2018 hinaus. \nWeitere Informationen zum Programm und zur Anmeldung\nDie Teilnahme an der Tagung ist kostenfrei.\nAnmeldefrist ist der 12. März 2019
URL:https://www.restauratoren.de/termin/tagung-sharing-heritage-als-aufgabe-aktuelle-rechtliche-herausforderungen/
LOCATION:Deutsche Nationalbibliothek\, Adickesallee 1\, Frankfurt am Main\, 60322\, Deutschland
CATEGORIES:Externe Veranstaltung
GEO:50.13104;8.68375
X-APPLE-STRUCTURED-LOCATION;VALUE=URI;X-ADDRESS=Deutsche Nationalbibliothek Adickesallee 1 Frankfurt am Main 60322 Deutschland;X-APPLE-RADIUS=500;X-TITLE=Adickesallee 1:geo:8.68375,50.13104
END:VEVENT
BEGIN:VEVENT
DTSTART;VALUE=DATE:20190327
DTEND;VALUE=DATE:20190401
DTSTAMP:20260421T041237
CREATED:20190116T111322Z
LAST-MODIFIED:20190116T111322Z
UID:10001121-1553644800-1554076799@www.restauratoren.de
SUMMARY:XXXV. Deutscher Kunsthistorikertag 2019 "Zu den Dingen!"
DESCRIPTION:Der Verband Deutscher Kunsthistoriker e.V. und das Kunstgeschichtliche Seminar sowie die Kunstsammlung der Universität Göttingen veranstalten den 35. Deutschen Kunsthistorikertag in Göttingen\, der allen Interessierten offen steht.\nBis zum 12.2. gelten ermäßigte Tagungsgebühren.\n \n  \n 
URL:https://www.restauratoren.de/termin/xxxv-deutscher-kunsthistorikertag-2019-zu-den-dingen/
CATEGORIES:Externe Veranstaltung
END:VEVENT
BEGIN:VEVENT
DTSTART;VALUE=DATE:20190328
DTEND;VALUE=DATE:20190330
DTSTAMP:20260421T041237
CREATED:20180723T101612Z
LAST-MODIFIED:20190214T130834Z
UID:10001062-1553731200-1553903999@www.restauratoren.de
SUMMARY:SKR-Jahrestagung "Die Restaurierung der Restaurierung?"
DESCRIPTION:Immer wieder werden Konservatoren-Restauratoren mit Objekten konfrontiert\, die in der Vergangenheit restauriert wurden. Je exponierter das Werk in der Wahrnehmung der Öffentlichkeit\, desto größer die Chance\, eine lange und vielfältige Restaurierungsgeschichte vorzufinden. \nWie gehen wir mit den Maßnahmen und Ergänzungen unserer Vorgänger um? Gilt es sie um jeden Preis zu erhalten? Reicht es\, sie zu dokumentieren und dann zu entfernen\, um uns besser dem Originalzustand annähern zu können? Welche Probleme oder neuen Schäden sind durch frühere Interventionen entstanden? Welche Möglichkeiten haben wir\, die Restaurierungsgeschichte eines Werkes zu rekonstruieren\, wenn keine Dokumentationen vorhanden sind. \nMit der Tagung 2019 möchte sich der Schweizerische Verband für Konservierung und Restaurierung SKR dem Thema widmen und es aus den unterschiedlichsten Blickwinkeln beleuchten. Wir suchen Referenten\, die sich mit der Problematik auseinandergesetzt haben und gerne anhand von exemplarischen Beispielen einen Beitrag leisten. Die Referate dürfen praxisbezogen oder theoretischer Natur sein. \nDie Tagung findet vom 28. – 29.03.2019 in Kooperation mit der SUPSI (Scuola universitaria professionale della Svizzera italiana)\, in Lugano statt. \nVDR-Mitglieder können sich zu denselben vergünstigten Konditionen wie SKR-Mitglieder anmelden (180 statt 270 CHF). \nWeitere Informationen
URL:https://www.restauratoren.de/termin/call-for-papers-die-restaurierung-der-restaurierung/
LOCATION:Lugano\, Schweiz
CATEGORIES:Externe Veranstaltung
GEO:46.818188;8.227512
END:VEVENT
BEGIN:VEVENT
DTSTART;VALUE=DATE:20190328
DTEND;VALUE=DATE:20190331
DTSTAMP:20260421T041237
CREATED:20190308T163139Z
LAST-MODIFIED:20190308T163139Z
UID:10001165-1553731200-1553990399@www.restauratoren.de
SUMMARY:Die Büchse der Pandora - Laborkurs
DESCRIPTION:In diesem Weiterbildungskurs und Workshop zur Biozidproblematik\, der von den Paz Laboratorien vom 28.-30.03.2019 in Bad Kreuznach angeboten wird\, erhalten die Teilnehmer eine praxisnahe Einführung in die Probenahme und Probenvorbereitung\, Durchführung verschiedener qualitativer und spezifischer Versuche in kleinen Arbeitsgruppen. \nDie Paz Laboratorien gehören zu den Fördermitgliedern des VDR.\nFür VDR-Mitglieder gelten die ermäßigten Kursgebühren! \nWeitere Informationen zur Kursbeschreibung\, zum Programm und zur Anmeldung.
URL:https://www.restauratoren.de/termin/die-buechse-der-pandora-laborkurs/
CATEGORIES:Externe Veranstaltung
END:VEVENT
END:VCALENDAR