BEGIN:VCALENDAR
VERSION:2.0
PRODID:-//Verband der Restauratoren VDR - ECPv6.15.15//NONSGML v1.0//EN
CALSCALE:GREGORIAN
METHOD:PUBLISH
X-WR-CALNAME:Verband der Restauratoren VDR
X-ORIGINAL-URL:https://www.restauratoren.de
X-WR-CALDESC:Veranstaltungen für Verband der Restauratoren VDR
REFRESH-INTERVAL;VALUE=DURATION:PT1H
X-Robots-Tag:noindex
X-PUBLISHED-TTL:PT1H
BEGIN:VTIMEZONE
TZID:UTC
BEGIN:STANDARD
TZOFFSETFROM:+0000
TZOFFSETTO:+0000
TZNAME:UTC
DTSTART:20180101T000000
END:STANDARD
END:VTIMEZONE
BEGIN:VEVENT
DTSTART;TZID=UTC:20190411T180000
DTEND;TZID=UTC:20190411T193000
DTSTAMP:20260425T152815
CREATED:20190403T150209Z
LAST-MODIFIED:20190403T150209Z
UID:10001181-1555005600-1555011000@www.restauratoren.de
SUMMARY:Vortrag zu Untersuchungsmethoden in der Papierrestaurierung
DESCRIPTION:Mit dem Restaurierungskolloquium wendet sich das Technoseum Mannheim seit 1988 gleichermaßen an Restauratoren\, Museumswissenschaftler und interessierte Laien. Es will ein Podium für aktuelle Fragen aller Restaurierungsgebiete sein und damit die Kommunikation innerhalb der Restaurierungsszene fördern. \nAm 11.04.2019 spricht Carsten Wintermann\, Grafikrestaurator an der Klassik-Stiftung Weimar. Thema ist „Der zweite Blick – Neue Möglichkeiten zur materialtechnologischen Analyse von Zeichnungen und Schriftgut mit der filterlosen Multispektralfotographie“. \nDie Reflektographie mit infraroten und ultravioletten Lichtquellen ist seit den 1960er Jahren bekannt und durch die Möglichkeiten der Fotografie seit vielen Jahren gängige Praxis.\nDie physikalische Notwendigkeit bei unterschiedlichen Filtern und Lichtquellen zu refokussieren oder verschiedene Objektive und Sensoren zu verwenden\, wirkte sich für die digitale Weiterverarbeitung des Bildmaterials negativ aus. Das Bildmaterial musste nachbearbeitet\, gestaucht\, gezerrt\, skaliert und nachgeschärft werden. Der Einsatz dieser Technologie im Alltag und für umfangreiche Bestände war somit nur in Ausnahmefällen möglich. \nMit dem Ansatz der filterlosen Multispektralfotografie lassen sich nicht nur diese Probleme lösen\, sondern es eröffnen sich vollkommen neue Möglichkeiten der Analyse.\nPixelgenaue und gleichmäßig scharfe Aufnahmen in allen Wellenlängenbereichen\, kombiniert mit einer digitalen Lichtsteuerung und automatisierbaren Algorithmen erlauben die Sichtbarmachung verschiedenster Zeichenmaterialien\, Retuschen und Überarbeitungsstufen. Die filterlose Multispektralphotografie ermöglicht eine wesentlich differenziertere Beurteilung materialtechnologischer und entstehungsgeschichtlicher Zusammenhänge. \nBeginn 18 Uhr\nEintritt frei\nWebsite Technoseum
URL:https://www.restauratoren.de/termin/vortrag-zu-untersuchungsmethoden-in-der-papierrestaurierung/
CATEGORIES:Externe Veranstaltung
END:VEVENT
END:VCALENDAR