BEGIN:VCALENDAR
VERSION:2.0
PRODID:-//Verband der Restauratoren VDR - ECPv6.15.15//NONSGML v1.0//EN
CALSCALE:GREGORIAN
METHOD:PUBLISH
X-WR-CALNAME:Verband der Restauratoren VDR
X-ORIGINAL-URL:https://www.restauratoren.de
X-WR-CALDESC:Veranstaltungen für Verband der Restauratoren VDR
REFRESH-INTERVAL;VALUE=DURATION:PT1H
X-Robots-Tag:noindex
X-PUBLISHED-TTL:PT1H
BEGIN:VTIMEZONE
TZID:UTC
BEGIN:STANDARD
TZOFFSETFROM:+0000
TZOFFSETTO:+0000
TZNAME:UTC
DTSTART:20180101T000000
END:STANDARD
END:VTIMEZONE
BEGIN:VEVENT
DTSTART;VALUE=DATE:20190601
DTEND;VALUE=DATE:20190602
DTSTAMP:20260421T124356
CREATED:20190315T180003Z
LAST-MODIFIED:20190520T063057Z
UID:10001170-1559347200-1559433599@www.restauratoren.de
SUMMARY:Call for Papers: Tagung „Präventiv?! Die Präventive Konservierung im archäologischen Fachbereich“
DESCRIPTION:Die VDR-Fachgruppe Archäologische Objekte plant mit freundlicher Unterstützung der Reiss-Engelhorn-Museen ihre 6. Fachtagung unter dem Motto „Präventiv?! Die Präventive Konservierung im archäologischen Fachbereich“ vom 24.–26.10.2019 im Museum Weltkulturen in Mannheim.\n\nDie Präventive Konservierung im Bereich der archäologischen Konservierung/Restaurierung und Ausgrabung ist in vielen Gebieten unserer täglichen Arbeit präsent. Eine gebündelte Übersicht über dieses sehr vielschichtige Thema soll ein Ziel dieser Tagung sein.\nBesonders wichtig sind schon die ersten präventiven Maßnahmen an den Funden während und kurz nach der Ausgrabung. In welcher Form wird dabei vorgegangen\, welche Techniken werden dabei auf Grabungen angewendet\, um empfindliche Materialgruppen wie z.B. Organik oder Glas zu bergen? Von besonderem Interesse sind auch die Praktiken und Umsetzungsmöglichkeiten auf Ausgrabungen\, die frisch geborgenen Funde aufzubewahren und zu transportieren. \nNeben Vorträgen sind auch Posterbeiträge vorgesehen. Tagungssprachen sind Deutsch und Englisch.\nDie Fachgruppe freut sich über Ihre Einsendungen! Sie kennen weitere spannende Projekte zum Thema oder den genannten Schwerpunkten? Dann leiten Sie den Call for Papers gerne weiter!\n	Call For Papers \nEinsendeschluss für Abstracts: 01. Juni 2019 \nDie Information zum Call for Papers finden Sie hier zum Download (PDF). \n	Veranstaltungsort \nReiss-Engelhorn-Museen\nMuseum Weltkulturen D5\n68159 Mannheim\n	Kontakt \nBei inhaltlichen Fragen melden Sie sich bitte beim Organisationsteam unter archaeologische-objekte[at]restauratoren.de \n	Partner \nDie Veranstaltung wird vom VDR mit freundlicher Unterstützung der Reiss-Engelhorn-Museen ausgerichtet. \n \n	Bildnachweis \nTatjana Held © 2019
URL:https://www.restauratoren.de/termin/call-for-papers-tagung-praeventiv-die-praeventive-konservierung-im-archaeologischen-fachbereich/
LOCATION:Reiss-Engelhorn-Museen\, Museum Weltkulturen D5\, Mannheim\, 68159\, Deutschland
CATEGORIES:Call for Papers,Fachgruppe Archäologische Ausgrabung,VDR-Veranstaltung
ATTACH;FMTTYPE=image/jpeg:https://www.restauratoren.de/wp-content/uploads/2019/03/Praeventiv-Tagung_2019_Foto3.jpg
GEO:49.4888849;8.4621251
X-APPLE-STRUCTURED-LOCATION;VALUE=URI;X-ADDRESS=Reiss-Engelhorn-Museen Museum Weltkulturen D5 Mannheim 68159 Deutschland;X-APPLE-RADIUS=500;X-TITLE=Museum Weltkulturen D5:geo:8.4621251,49.4888849
END:VEVENT
BEGIN:VEVENT
DTSTART;VALUE=DATE:20190601
DTEND;VALUE=DATE:20190602
DTSTAMP:20260421T124356
CREATED:20190501T083316Z
LAST-MODIFIED:20190501T083316Z
UID:10001197-1559347200-1559433599@www.restauratoren.de
SUMMARY:Call for Papers "Kunst und Material II. Arbeitsteilung im Schaffensprozess"
DESCRIPTION:Am 14./15.11.2019 wird in Zürich die Tagung Kunst und Material II: Arbeitsteilung im Schaffensprozess stattfinden\, die vom Schweizerischen Institut für Kunstwissenschaft SIK-ISEA und der Hochschule der Künste Bern KHB gemeinsam organisiert wird. \nDer Call for Papers läuft bis zum 01.06.2019.
URL:https://www.restauratoren.de/termin/call-for-papers-kunst-und-material-ii-arbeitsteilung-im-schaffensprozess/
CATEGORIES:Externe Veranstaltung
END:VEVENT
END:VCALENDAR