BEGIN:VCALENDAR
VERSION:2.0
PRODID:-//Verband der Restauratoren VDR - ECPv6.15.15//NONSGML v1.0//EN
CALSCALE:GREGORIAN
METHOD:PUBLISH
X-ORIGINAL-URL:https://www.restauratoren.de
X-WR-CALDESC:Veranstaltungen für Verband der Restauratoren VDR
REFRESH-INTERVAL;VALUE=DURATION:PT1H
X-Robots-Tag:noindex
X-PUBLISHED-TTL:PT1H
BEGIN:VTIMEZONE
TZID:UTC
BEGIN:STANDARD
TZOFFSETFROM:+0000
TZOFFSETTO:+0000
TZNAME:UTC
DTSTART:20180101T000000
END:STANDARD
END:VTIMEZONE
BEGIN:VEVENT
DTSTART;VALUE=DATE:20190613
DTEND;VALUE=DATE:20190615
DTSTAMP:20260420T174451
CREATED:20190501T082532Z
LAST-MODIFIED:20190501T082532Z
UID:10001196-1560384000-1560556799@www.restauratoren.de
SUMMARY:Tagung für Nachwuchswissenschaftler im Bereich der Möbel- und Raumkunst
DESCRIPTION:An der Technischen Hochschule Köln wird vom 13.-14.06.2019 eine Tagung für Nachwuchswissenschaftler im Bereich der Möbel- und Raumkunst angeboten. \nProgramm \nDie Tagungsgebühr beträgt 20 Euro\, für Studenten 10 Euro. Um Voranmeldung wird gebeten.
URL:https://www.restauratoren.de/termin/tagung-fuer-nachwuchswissenschaftler-im-bereich-der-moebel-und-raumkunst/
CATEGORIES:Externe Veranstaltung
END:VEVENT
END:VCALENDAR