BEGIN:VCALENDAR
VERSION:2.0
PRODID:-//Verband der Restauratoren VDR - ECPv6.15.15//NONSGML v1.0//EN
CALSCALE:GREGORIAN
METHOD:PUBLISH
X-WR-CALNAME:Verband der Restauratoren VDR
X-ORIGINAL-URL:https://www.restauratoren.de
X-WR-CALDESC:Veranstaltungen für Verband der Restauratoren VDR
REFRESH-INTERVAL;VALUE=DURATION:PT1H
X-Robots-Tag:noindex
X-PUBLISHED-TTL:PT1H
BEGIN:VTIMEZONE
TZID:UTC
BEGIN:STANDARD
TZOFFSETFROM:+0000
TZOFFSETTO:+0000
TZNAME:UTC
DTSTART:20180101T000000
END:STANDARD
END:VTIMEZONE
BEGIN:VEVENT
DTSTART;VALUE=DATE:20190617
DTEND;VALUE=DATE:20190619
DTSTAMP:20260425T054021
CREATED:20190205T113004Z
LAST-MODIFIED:20190205T115828Z
UID:10001138-1560729600-1560902399@www.restauratoren.de
SUMMARY:Kurs: Fotomechanische Drucktechniken und ihre Identifizierung
DESCRIPTION:Kursinhalt (17.-18.06.2019): Zieht man die gesamte Zahl an fotomechanischen Druckgraphiken in Betracht\, nehmen die Werke mit künstlerischem Anspruch nur einen sehr kleinen Teil ein. Mit Aufkommen der Fotografie im 19. Jahrhundert standen den Druckern Möglichkeiten zur Verfügung\, das Bild nicht mehr nur handwerklich manuell auf die druckgebende Oberfläche zu übertragen\, sondern photographisch\, in dem die Druckfläche zuvor sensibilisiert und dann durch ein Negativ oder Positiv belichtet wurde\, je nach dem mit welcher Drucktechnikgearbeitet wurde. Mit Aufkommen der Computertechnik sind oft keine Negative oder Positive mehr nötig. Das Bild kann direkt im Computer gerastert und in der Maschine durch Licht auf die sensibilisierte Druckplatte übertragen werden. \nSeit ihrer Einführung in der zweiten Hälfte des 19. Jahrhunderts haben sich die fotomechanischen Drucktechniken stetig weiter entwickelt und wurden variiert. Es gibt eine Vielzahl ähnlicher Verfahren\, die vom jeweiligen Erfinder eine eigene Bezeichnung bekommen haben. Das kann sehr verwirrend werden\, wenn es um die Identifizierung der Drucktechniken geht. \nIm Seminar werden die wichtigsten fotomechanischen Verfahren des Hoch-\, Tief-\, Flach- und Durchdrucks und der Drucklosen Verfahren vorgestellt. \nIm praktischen Teil werden originale Beispiele der zahlreichen Techniken unter Vergößerung betrachtet. Dazu stehen mehrere Stereomikroskope zur Verfügung.\nAn Hand dieser Originale werden die Erkennungsmerkmale herausgearbeitet und die Unterscheidung der einzelnen Techniken geübt. Zudem gibt es die Möglichkeit\, die fotomechanischen Techniken mit den künstlerisch manuellen zu vergleichen. \nReferentin: Hildegard Homburger\nKurssprache: Deutsch\nTeilnehmerzahl: 8\nNächster Termin: Berlin\, 17.-18. Juni 2019\nAnmeldung: hombu(at)freenet.de \nKursgebühr: 335\,00 Euro\nermäßigte Kursgebühr für VDR- und IADA-Mitglieder: 290\,00 Euro
URL:https://www.restauratoren.de/termin/kurs-fotomechanische-drucktechniken-und-ihre-identifizierung-3/
CATEGORIES:FG Grafik
END:VEVENT
END:VCALENDAR