BEGIN:VCALENDAR
VERSION:2.0
PRODID:-//Verband der Restauratoren VDR - ECPv6.15.15//NONSGML v1.0//EN
CALSCALE:GREGORIAN
METHOD:PUBLISH
X-ORIGINAL-URL:https://www.restauratoren.de
X-WR-CALDESC:Veranstaltungen für Verband der Restauratoren VDR
REFRESH-INTERVAL;VALUE=DURATION:PT1H
X-Robots-Tag:noindex
X-PUBLISHED-TTL:PT1H
BEGIN:VTIMEZONE
TZID:UTC
BEGIN:STANDARD
TZOFFSETFROM:+0000
TZOFFSETTO:+0000
TZNAME:UTC
DTSTART:20180101T000000
END:STANDARD
END:VTIMEZONE
BEGIN:VEVENT
DTSTART;VALUE=DATE:20190621
DTEND;VALUE=DATE:20190624
DTSTAMP:20260425T180453
CREATED:20190402T081905Z
LAST-MODIFIED:20190402T081905Z
UID:10001176-1561075200-1561334399@www.restauratoren.de
SUMMARY:Kurs "Buchschließen und Beschläge nach historischen und modernen Vorlagen"
DESCRIPTION:Der Förderkreis Konservierung Restaurierung e.V. bietet den Kurs „Buchschließen und Beschläge nach historischen und modernen Vorlagen“ vom 21.-23. Juni 2019 in Auw bei Prüm an.\nDie Teilnehmerzahl ist auf 4 bis 6 Personen begrenzt. Kursleiter ist der Buchbinder Martinus Janssen.\nDer Kurs richtet sich an Buchbinder\, Restauratoren\, Studenten und Auszubildende in diesen Bereichen. \nZeitgleich findet ein Kurs über die Herstellung eines Holzdeckeleinbandes statt\, so dass die Teilnehmer gelegentlich auch Einblicke in diesen Kurs nehmen können. \nWeitere Informationen über Programm und Anmeldung
URL:https://www.restauratoren.de/termin/kurs-buchschliessen-und-beschlaege-nach-historischen-und-modernen-vorlagen-3/
LOCATION:Auw bei Prüm\, Laudesfeld 3\, Auw bei Prüm\, 54597\, Deutschland
CATEGORIES:Externe Veranstaltung,Förderkreis FKR
END:VEVENT
BEGIN:VEVENT
DTSTART;VALUE=DATE:20190621
DTEND;VALUE=DATE:20190624
DTSTAMP:20260425T180453
CREATED:20190402T082554Z
LAST-MODIFIED:20190402T082554Z
UID:10001179-1561075200-1561334399@www.restauratoren.de
SUMMARY:Kurs "Herstellung eines Holzdeckeleinbandes"
DESCRIPTION:Der Förderkreis Konservierung Restaurierung e.V. bietet den Kurs „Herstellung eines Holzdeckeleinbandes“ vom 21.-23. Juni 2019 in Auw bei Prüm an.\nDie Teilnehmerzahl ist auf 4 bis 6 Personen begrenzt. Kursleiter ist der Buchbinder Martinus Janssen.\nDer Kurs richtet sich an Buchbinder\, Restauratoren\, Studenten und Auszubildende in diesen Bereichen. \nZeitgleich findet ein Kurs über „Buchschließen und Beschläge nach historischen und modernen Vorlagen“ statt\, so dass die Teilnehmer gelegentlich auch Einblicke in diesen Kurs nehmen können. \nWeitere Informationen über Programm und Anmeldung
URL:https://www.restauratoren.de/termin/kurs-herstellung-eines-holzdeckeleinbandes-3/
LOCATION:Auw bei Prüm\, Laudesfeld 3\, Auw bei Prüm\, 54597\, Deutschland
CATEGORIES:Externe Veranstaltung,Förderkreis FKR
END:VEVENT
END:VCALENDAR