BEGIN:VCALENDAR
VERSION:2.0
PRODID:-//Verband der Restauratoren VDR - ECPv6.15.15//NONSGML v1.0//EN
CALSCALE:GREGORIAN
METHOD:PUBLISH
X-WR-CALNAME:Verband der Restauratoren VDR
X-ORIGINAL-URL:https://www.restauratoren.de
X-WR-CALDESC:Veranstaltungen für Verband der Restauratoren VDR
REFRESH-INTERVAL;VALUE=DURATION:PT1H
X-Robots-Tag:noindex
X-PUBLISHED-TTL:PT1H
BEGIN:VTIMEZONE
TZID:UTC
BEGIN:STANDARD
TZOFFSETFROM:+0000
TZOFFSETTO:+0000
TZNAME:UTC
DTSTART:20180101T000000
END:STANDARD
END:VTIMEZONE
BEGIN:VEVENT
DTSTART;VALUE=DATE:20190629
DTEND;VALUE=DATE:20190630
DTSTAMP:20260425T142451
CREATED:20190501T165813Z
LAST-MODIFIED:20190504T123952Z
UID:10001202-1561766400-1561852799@www.restauratoren.de
SUMMARY:Exkursion der Landesgruppe Sachsen nach Leisnig
DESCRIPTION:Die Sprecher der VDR Landesgruppe Sachsen laden am 29.06.2019 zu einer Exkursion nach Leisnig zum Thema „Denkmalpflege und Restaurierung“ ein. Besucht werden Burg Mildenstein\, Stadtgut\, Stadtkirche und Kloster Buch.\n \nTermine und Programm\n29.06.2019 von 10:00–19:00 Uhr \nTreffpunkt: Eingang an der Burg- und Schlossanlage \n9:45–11:30 Uhr\nBesichtigung der Burg- und Schlossanlage Mildenstein mit fachlicher Führung durch Thomas Schmidt zur Bau- und Nutzungsgeschichte\, Renovierungen und Restaurierung \n11:45–12:30 Uhr\nGang zum Stadtgut und Besichtigung mit Führung durch Matthias Steudte \n13:00–14:00 Uhr\nFührung durch die Stadtkirche mit Matthias Steudte \n14:00 Uhr\nAbfahrt von Leisnig nach Klosterbuch \n14:30–15:30 Uhr\nKaffee und Kuchen \n15:30–17:00 Uhr\nBesichtigung der ehemaligen Klosteranlage Kloster Buch mit Führung durch Thomas Schmidt \n17:30– 19:00 Uhr\nAusklang im Klosterlokal und Treffen der Landesgruppe mit Fachgesprächen und Austausch \nAnmeldung und Preise\nAnmeldeschluss: 24. Juni 2019 \nca. 12 € für Eintrittspreise Museum\, Stadtgut\, Kirche\, Kloster\nca. 8 € für Kaffee und Kuchen im Kloster\nSelbstzahler Abendessen \nDie Eintrittsgelder werden vor Ort in bar bezahlt. \nZur besseren Planung und Organisation bitten wir um Ihre Anmeldung per E-Mail unter sachsen(at)restauratoren.de \nVeranstaltungsorte\nBurg Mildenstein\, Burglehn 6\, 04703 Leisnig\nStadtgut Leisnig\, Kirchstraße\, 04703 Leisnig\nStadtkirche St. Matthäi \, Kirchpl. 2\, 04703 Leisnig\nKloster Buch\, Klosterbuch 1\, 04703 Leisnig \nKontakt\nBei Rückfragen und Informationen zur Organisation\, können Sie sich gern bei uns melden: \nSprecher der Landesgruppe Sachsen \nBirgit Mühler: +49 174 1916789\nTorsten Nimoth: +49 161 95738288\nRayk Grieger: +49 173 78063281 \nBildnachweis: Torsten Nimoth\, 2019
URL:https://www.restauratoren.de/termin/exkursion-der-landesgruppe-sachsen-nach-leisnig/
LOCATION:Burg Mildenstein\, Burglehn 6\, Leisnig\, 04703\, Deutschland
CATEGORIES:Landesgruppe Sachsen,VDR-Veranstaltung
ATTACH;FMTTYPE=image/jpeg:https://www.restauratoren.de/wp-content/uploads/2019/05/Titelfoto_Exkursion_Leisnig_LG-SN.jpg
GEO:51.16411;12.92448
X-APPLE-STRUCTURED-LOCATION;VALUE=URI;X-ADDRESS=Burg Mildenstein Burglehn 6 Leisnig 04703 Deutschland;X-APPLE-RADIUS=500;X-TITLE=Burglehn 6:geo:12.92448,51.16411
END:VEVENT
END:VCALENDAR