BEGIN:VCALENDAR
VERSION:2.0
PRODID:-//Verband der Restauratoren VDR - ECPv6.15.15//NONSGML v1.0//EN
CALSCALE:GREGORIAN
METHOD:PUBLISH
X-ORIGINAL-URL:https://www.restauratoren.de
X-WR-CALDESC:Veranstaltungen für Verband der Restauratoren VDR
REFRESH-INTERVAL;VALUE=DURATION:PT1H
X-Robots-Tag:noindex
X-PUBLISHED-TTL:PT1H
BEGIN:VTIMEZONE
TZID:UTC
BEGIN:STANDARD
TZOFFSETFROM:+0000
TZOFFSETTO:+0000
TZNAME:UTC
DTSTART:20180101T000000
END:STANDARD
END:VTIMEZONE
BEGIN:VEVENT
DTSTART;VALUE=DATE:20191111
DTEND;VALUE=DATE:20191112
DTSTAMP:20260420T182848
CREATED:20191015T170212Z
LAST-MODIFIED:20191015T180853Z
UID:10001262-1573430400-1573516799@www.restauratoren.de
SUMMARY:Fachgruppentreffen mit Exkursion zur "Prinzessinnengruppe"
DESCRIPTION:Die VDR-Fachgruppe Polychrome Bildwerke lädt am 11.11.2019 zum Fachgruppentreffen mit interessantem Rahmenprogramm auf die Museumsinsel nach Berlin ein.\n \nProgramm\n\n10–12 Uhr Alte Nationalgalerie \nAusstellungsrundgang und Werkstattgespräch \nTreffpunkt: Alte Nationalgalerie\, Foyer\, Bodestraße 1-3\, 10178 Berlin \n\nStation: Skulpturenrestaurierungswerkstatt in den Kolonnaden\nThema: Forschungs- und Restaurierungsprojekt zur „Prinzessinnengruppe“ von Johann Gottfried Schadow\n\nEs begleiten Sie: Alexandra Czarnecki\, Skulpturenrestauratorin Alte Nationalgalerie\, Leiterin des Prinzessinnenprojekts und Theresa Bräunig\, Skulpturenrestauratorin Alte Nationalgalerie\, Assistentin des Prinzessinnenprojekts \n\n12–14 Uhr Mittagspause\nin einem Restaurant in der näheren Umgebung (Selbstzahler) \n\n14–16 Uhr Antikensammlung \nAusstellungsrundgang und Werkstattgespräch \nTreffpunkt: Altes Museum\, Foyer\, Bodestraße 1-3\, 10178 Berlin \n\nStation (optional): Archäologisches Zentrum: Geschwister-Scholl-Str. 6\, 10117 Berlin\nThema: Berliner Göttin\n\nEs begleitet Sie:  Wolfgang Maßmann\, Leitender Restaurator Antikensammlung \n\n16–17 Uhr Alte Nationalgalerie \nAlte Nationalgalerie: Besprechungsraum \nTreffpunkt: Personaleingang \nThema: Fachgruppenthemen mit Wahlen \nEs begleiten Sie: Die Sprecherinnen und Sprecher der Fachgruppe Polychrome Bildwerke\, VDR \nAnmeldung\nBitte senden Sie Ihre verbindliche Anmeldung per E-Mail an Cornelia Saffarian saffarian.vdr(at)gmail.com mit den folgenden Angaben: \nHiermit melde ich mich verbindlich zur Exkursion am 11.11.2019 an.\nName:\nVorname:\nAnschrift:\nE-Mail:\nMitgliedsnummer: \nAnmeldeschluss: 25.10.2019\nOrt: Museumsinsel Berlin\nTeilnehmerzahl: Maximal 20 Personen\nKosten: 20 Euro in bar vor Ort zu entrichten \n\nEine Bitte: Falls Sie sich angemeldet haben und später doch verhindert sind\, teilen Sie uns das bitte per Mail mit. So können Kollegen von der Warteliste nachrutschen. \nBildnachweis: Prinzessinnengruppe von Johann Gottfried Schadow (Foto: Staatliche Museen zu Berlin\, Anna von Graevenitz)
URL:https://www.restauratoren.de/termin/fachgruppentreffen-mit-exkursion-zur-prinzessinnengruppe/
LOCATION:Alte Nationalgalerie\, Bodestraße 1-3\, Berlin\, 10178\, Deutschland
CATEGORIES:FG Polychrome Bildwerke,VDR-Veranstaltung
ATTACH;FMTTYPE=:
END:VEVENT
BEGIN:VEVENT
DTSTART;VALUE=DATE:20191111
DTEND;VALUE=DATE:20191114
DTSTAMP:20260420T182848
CREATED:20190719T072443Z
LAST-MODIFIED:20190719T072443Z
UID:10001223-1573430400-1573689599@www.restauratoren.de
SUMMARY:Future Talks 019
DESCRIPTION:Vom 11. bis 13.11.2019 findet die nächste Ausgabe der Konferenzreihe FUTURE TALKS in München statt. Die FUTURE TALKS werden im Zweijahresturnus seit 2009 initiiert und sind ein international angelegtes Kongressformat zum Wissenstransfer aktueller Forschungsprojekte im Bereich der aktiven Restaurierung moderner Materialien sowie der Analyse und Dokumentation verwendeter Technologien. Im Rahmen von Fachvorträgen und Podiumsdiskussionen werden konkrete Vorgehensweisen vorgestellt\, hinterfragt und bewertet. \nZum Programm \nZur Online-Registrierung (Frühbucherrabatt bis 31. August 2019)
URL:https://www.restauratoren.de/termin/future-talks-019/
CATEGORIES:Externe Veranstaltung
END:VEVENT
END:VCALENDAR