BEGIN:VCALENDAR
VERSION:2.0
PRODID:-//Verband der Restauratoren VDR - ECPv6.15.15//NONSGML v1.0//EN
CALSCALE:GREGORIAN
METHOD:PUBLISH
X-ORIGINAL-URL:https://www.restauratoren.de
X-WR-CALDESC:Veranstaltungen für Verband der Restauratoren VDR
REFRESH-INTERVAL;VALUE=DURATION:PT1H
X-Robots-Tag:noindex
X-PUBLISHED-TTL:PT1H
BEGIN:VTIMEZONE
TZID:UTC
BEGIN:STANDARD
TZOFFSETFROM:+0000
TZOFFSETTO:+0000
TZNAME:UTC
DTSTART:20180101T000000
END:STANDARD
END:VTIMEZONE
BEGIN:VEVENT
DTSTART;VALUE=DATE:20191128
DTEND;VALUE=DATE:20191129
DTSTAMP:20260421T002757
CREATED:20191024T104528Z
LAST-MODIFIED:20191024T104528Z
UID:10001269-1574899200-1574985599@www.restauratoren.de
SUMMARY:Workshop "Arbeiten in kontaminierten Bereichen"
DESCRIPTION:Der Workshop „Arbeiten in kontaminierten Bereichen“ wird am 28.11.2019 von Care for Art in München angeboten. \nWeitere Informationen und Anmeldung\nEarly Bird Special bis 01.11.2019
URL:https://www.restauratoren.de/termin/workshop-arbeiten-in-kontaminierten-bereichen-3/
CATEGORIES:Externe Veranstaltung
END:VEVENT
BEGIN:VEVENT
DTSTART;TZID=UTC:20191128T190000
DTEND;TZID=UTC:20191128T210000
DTSTAMP:20260421T002757
CREATED:20191031T164751Z
LAST-MODIFIED:20191031T164752Z
UID:10001270-1574967600-1574974800@www.restauratoren.de
SUMMARY:Hamburger Restauratoren-Stammtisch
DESCRIPTION:Die Vorsitzenden der Landesgruppe Hamburg im VDR laden die Kolleginnen und Kollegen zum nächsten Hamburger Restauratoren-Stammtisch am Donnerstag\, den 28.11.2019 ein.\n \nUnsere Themen:\n– aktuelle Informationen von der letzten Vorstandssitzung im November 2019\n– weitere Informationen aus der Restauratorenschaft\, Beiträge und Anregungen von Kollegen\, die für alle von Interesse sein könnten\, sind wie immer sehr erwünscht \nWir freuen uns auf Ihr Kommen!\nIhre Landesgruppenvorsitzenden aus Hamburg\nIsabel Frühauf\, Tobias Seyer und Georg Ihlenfeld \nTermin: Donnerstag\, 28.11.2019 von 19 bis ca. 21 Uhr\nVeranstaltungsort: Klippkroog\, Große Bergstraße 255\, 22767 Hamburg\nAnmeldung/Kontakt: Wir bitten um eine kurze Anmeldung\, um dem Klippkroog die Größe der Gruppe mitzuteilen.\nZusagen an: Isabel Frühauf\nEssen/Trinken: Die aktuelle Abendkarte kann man auf der Internetseite finden (www.klippkroog.de).\nWegbeschreibung: Mit der Bahn einfach zu erreichen\, Ausstieg Bahnhof Altona\, Ausgang Richtung Große Bergstraße\, vor der Goethestraße auf der linken Seite.
URL:https://www.restauratoren.de/termin/hamburger-restauratoren-stammtisch/
LOCATION:Klippkroog Hamburg\, Große Bergstraße 255\, Hamburg\, 22767\, Deutschland
CATEGORIES:Landesgruppe Hamburg,VDR-Veranstaltung
ATTACH;FMTTYPE=image/jpeg:https://www.restauratoren.de/wp-content/uploads/2017/02/HamburgKarte.jpg
END:VEVENT
END:VCALENDAR