BEGIN:VCALENDAR
VERSION:2.0
PRODID:-//Verband der Restauratoren VDR - ECPv6.15.15//NONSGML v1.0//EN
CALSCALE:GREGORIAN
METHOD:PUBLISH
X-ORIGINAL-URL:https://www.restauratoren.de
X-WR-CALDESC:Veranstaltungen für Verband der Restauratoren VDR
REFRESH-INTERVAL;VALUE=DURATION:PT1H
X-Robots-Tag:noindex
X-PUBLISHED-TTL:PT1H
BEGIN:VTIMEZONE
TZID:UTC
BEGIN:STANDARD
TZOFFSETFROM:+0000
TZOFFSETTO:+0000
TZNAME:UTC
DTSTART:20180101T000000
END:STANDARD
END:VTIMEZONE
BEGIN:VEVENT
DTSTART;VALUE=DATE:20191202
DTEND;VALUE=DATE:20191203
DTSTAMP:20260425T180506
CREATED:20190917T081023Z
LAST-MODIFIED:20190917T081023Z
UID:10001241-1575244800-1575331199@www.restauratoren.de
SUMMARY:Schutz von Kulturgut durch innovative Verglasungssysteme
DESCRIPTION:Das Forum Inn-O-Kultur lädt für den 02.12.2019 nach Berlin ein zu einem internationalen und interdisziplinären Symposium mit dem Titel „Protection and new level of presentation“. \nWertvolle Kulturgüter aus Museen\, Archiven und Bibliotheken werden durch Vitrinen geschützt und präsentiert. Beide Aspekte bieten der interdisziplinären Forschung spannende Ansätze zur Entwicklung von Materialien und Technologien. Beispiele sind der UV-Schutz\, innovative Beschichtungen zur Reduktion der Reflexe\, neue Beleuchtungssysteme oder transparente Displays für die digitale Wissensvermittlung. \nDas internationale Symposium stellt erste Ergebnisse der TU-Studie „Innovative Verglasungssysteme im Bereich von Museen und Kulturgütern“ zur bundesweiten Befragung von Museen\, Schlössern\, Archiven vor. Fachvorträge geben Einblick in die präventive Konservierung zum Kulturgutschutz\, digitale Präsentationen für Museumsvitrinen sowie technische Innovationen aus der Glasindustrie wie transparente Displays. Dazu stellt die TU Berlin ihren geplanten Neubau vor\, einen interdisziplinären Ausstellungspavillons mit den universitären Sammlungen. \nWeitere Informationen \n 
URL:https://www.restauratoren.de/termin/schutz-von-kulturgut-durch-innovative-verglasungssysteme/
CATEGORIES:Externe Veranstaltung
END:VEVENT
END:VCALENDAR