BEGIN:VCALENDAR
VERSION:2.0
PRODID:-//Verband der Restauratoren VDR - ECPv6.15.15//NONSGML v1.0//EN
CALSCALE:GREGORIAN
METHOD:PUBLISH
X-ORIGINAL-URL:https://www.restauratoren.de
X-WR-CALDESC:Veranstaltungen für Verband der Restauratoren VDR
REFRESH-INTERVAL;VALUE=DURATION:PT1H
X-Robots-Tag:noindex
X-PUBLISHED-TTL:PT1H
BEGIN:VTIMEZONE
TZID:UTC
BEGIN:STANDARD
TZOFFSETFROM:+0000
TZOFFSETTO:+0000
TZNAME:UTC
DTSTART:20190101T000000
END:STANDARD
END:VTIMEZONE
BEGIN:VEVENT
DTSTART;TZID=UTC:20200115T180000
DTEND;TZID=UTC:20200115T193000
DTSTAMP:20260421T054511
CREATED:20191218T083906Z
LAST-MODIFIED:20191218T083906Z
UID:10001276-1579111200-1579116600@www.restauratoren.de
SUMMARY:Vortrag über das Haus Tugendhat und seine Bewohner
DESCRIPTION:Im Bauhaus-Museum Weimar sprechen Prof. Dr. Daniela Hammer-Tugendhat und Prof. Dr. Ivo Hammer am 15.01.2020 um 18 Uhr über „Das Haus Tugendhat und seine Bewohner – Eine Bauhaus-Ikone in den Konflikten des 20. Jahrhunderts“. Veranstalter ist die Klassik Stiftung Weimar. \nDaniela Hammer-Tugendhat\, jüngste Tochter der AuftraggeberIn des Hauses Tugendhat\, spricht über die Entstehungsgeschichte des Hauses und das Leben der Familie im Haus. Die zeitgenössische Debatte zur Frage Kann man im Haus Tugendhat wohnen?  soll aus heutigem Blickwinkel in den kulturellen Kontext gestellt werden. Der Umgang mit dem vielfältigen Schicksal der Möbel\, von denen einige nunmehr im Bauhaus-Museum Weimar zu sehen sind\, kann als exemplarisch für die kulturelle und politische Aneignung von Geschichte gelten. \nIvo Hammer\, Vorsitzender der internationalen Expertenkommission zu Restaurierung des Hauses Tugendhat THICOM 2010-2012\, beschäftigt sich mit der Geschichte des Hauses nach 1938. Er beschreibt und analysiert die Materialität der Möbel im Kontext der Materialität des Hauses. Die Art der Erhaltung der Möbel und die Form der Kopien sind charakteristisch für den herrschenden Umgang mit der historischen Substanz. \nWeitere Informationen
URL:https://www.restauratoren.de/termin/vortrag-ueber-das-haus-tugendhat-und-seine-bewohner/
CATEGORIES:Externe Veranstaltung
END:VEVENT
END:VCALENDAR