BEGIN:VCALENDAR
VERSION:2.0
PRODID:-//Verband der Restauratoren VDR - ECPv6.15.15//NONSGML v1.0//EN
CALSCALE:GREGORIAN
METHOD:PUBLISH
X-WR-CALNAME:Verband der Restauratoren VDR
X-ORIGINAL-URL:https://www.restauratoren.de
X-WR-CALDESC:Veranstaltungen für Verband der Restauratoren VDR
REFRESH-INTERVAL;VALUE=DURATION:PT1H
X-Robots-Tag:noindex
X-PUBLISHED-TTL:PT1H
BEGIN:VTIMEZONE
TZID:UTC
BEGIN:STANDARD
TZOFFSETFROM:+0000
TZOFFSETTO:+0000
TZNAME:UTC
DTSTART:20190101T000000
END:STANDARD
END:VTIMEZONE
BEGIN:VEVENT
DTSTART;VALUE=DATE:20200305
DTEND;VALUE=DATE:20200308
DTSTAMP:20260421T104711
CREATED:20191010T073744Z
LAST-MODIFIED:20191010T073744Z
UID:10001260-1583366400-1583625599@www.restauratoren.de
SUMMARY:MONUMENTO Salzburg
DESCRIPTION:Vom 5.-7. März 2020 findet die internationale Messe für Kulturerbe und Denkmalpflege MONUMENTO in Salzburg statt. \nZur Messe
URL:https://www.restauratoren.de/termin/monumento-salzburg/
CATEGORIES:Externe Veranstaltung
END:VEVENT
END:VCALENDAR