BEGIN:VCALENDAR
VERSION:2.0
PRODID:-//Verband der Restauratoren VDR - ECPv6.15.15//NONSGML v1.0//EN
CALSCALE:GREGORIAN
METHOD:PUBLISH
X-WR-CALNAME:Verband der Restauratoren VDR
X-ORIGINAL-URL:https://www.restauratoren.de
X-WR-CALDESC:Veranstaltungen für Verband der Restauratoren VDR
REFRESH-INTERVAL;VALUE=DURATION:PT1H
X-Robots-Tag:noindex
X-PUBLISHED-TTL:PT1H
BEGIN:VTIMEZONE
TZID:UTC
BEGIN:STANDARD
TZOFFSETFROM:+0000
TZOFFSETTO:+0000
TZNAME:UTC
DTSTART:20190101T000000
END:STANDARD
END:VTIMEZONE
BEGIN:VEVENT
DTSTART;VALUE=DATE:20200630
DTEND;VALUE=DATE:20200701
DTSTAMP:20260425T053605
CREATED:20200213T082944Z
LAST-MODIFIED:20200512T100315Z
UID:10001313-1593475200-1593561599@www.restauratoren.de
SUMMARY:Bewerbungsfrist Rathgen Heritage Science Scholarship 2020
DESCRIPTION:Das Rathgen-Forschungslabor ist die führende Einrichtung zur Kulturerbeforschung innerhalb der Staatlichen Museen zu Berlin\, Stiftung Preußischer Kulturbesitz. Es untersucht Alterungs- und Verwitterungsprozesse und erstellt nachhaltige Schutz- und Wiederherstellungsstrategien für materielles und immaterielles Kunst- und Kulturgut hinsichtlich des globalen Wandels und leistet einen aktiven Beitrag zur Nachhaltigkeitsdebatte im Grünen Museum. Das Labor befasst sich mit der Entwicklung analytischer\, insbesondere zerstörungsfreier Untersuchungstechnologien sowie mit Fragen zur Dokumentation und Zugänglichkeit des kulturellen Erbes im digitalen Zeitalter. Präventive Konservierung\, Kunsttechnologie und Archäometrie sind weitere Forschungsbereiche. \nDas Rathgen-Forschungslabor setzt die Arbeit des am 1. April 1888 als Chemisches Labor der Königlichen Museen zu Berlin gegründeten ältesten Museumslabors der Welt fort und ist nach seinem ersten Direktor Friedrich Rathgen benannt.\nDer Förderkreis des Rathgen-Forschungslabors e.V. hat sich zur Aufgabe gestellt\, die Arbeit des Rathgen-Forschungslabors in vielfältiger Weise zu unterstützen\, unter anderem durch die Förderung von Projekten des wissenschaftlichen Nachwuchses und zu diesem Zweck die Einrichtung einer „Rathgen Heritage Science Scholarship“ beschlossen. \nDie seit 2009 jährlich ausgeschriebene „Rathgen Heritage Science Scholarship” soll dem akademischen Nachwuchs ermöglichen\, ein eigenes 1-3 monatiges Forschungsvorhaben am Rathgen-Forschungslabor durchzuführen. Erfolgreiche AntragstellerInnen erhalten ein Stipendium von 900 € (Graduierte mit Hochschulabschluss) bzw. 1200 € (Post-Doc) pro Monat. \nDie Thematik des Forschungsvorhabens kann von dem/der BewerberIn frei gewählt werden. Alle Forschungsthemen werden durch das Auswahlkomitee evaluiert und mit Hinblick auf mögliche Synergien mit den aktuellen Forschungsbereichen des Rathgen-Forschungslabors bewertet. \nDer Bewerbung sind beizufügen: \n\n1-2 Seiten mit Kurzbeschreibung des gewählten Forschungsvorhabens\, die benötigten apparativen Ressourcen\, der beabsichtigte Zeitrahmen\, sowie falls vorhanden eine Zusammenfassung geleisteter Vorarbeiten mit ausgewählter Bibliographie\nLebenslauf und Publikationsliste\n2 Referenzschreiben\n\nAufgrund der aktuellen Situation bezüglich COVID-18 wird die Bewerbungsfrist für die Rathgen Heritage Science Scholarship 2020 bis zum 30. Juni 2020 verlängert. \nBitte senden Sie Ihre Bewerbung elektronisch an\nrf[at]mb.spk-berlin.de\noder per Post an\nRathgen-Forschungslabor\n– Scholarship –\nSchloßstraße 1 A\n14059 Berlin
URL:https://www.restauratoren.de/termin/bewerbungsfrist-rathgen-heritage-science-scholarship-2020/
CATEGORIES:Externe Veranstaltung
END:VEVENT
END:VCALENDAR