BEGIN:VCALENDAR
VERSION:2.0
PRODID:-//Verband der Restauratoren VDR - ECPv6.15.15//NONSGML v1.0//EN
CALSCALE:GREGORIAN
METHOD:PUBLISH
X-WR-CALNAME:Verband der Restauratoren VDR
X-ORIGINAL-URL:https://www.restauratoren.de
X-WR-CALDESC:Veranstaltungen für Verband der Restauratoren VDR
REFRESH-INTERVAL;VALUE=DURATION:PT1H
X-Robots-Tag:noindex
X-PUBLISHED-TTL:PT1H
BEGIN:VTIMEZONE
TZID:UTC
BEGIN:STANDARD
TZOFFSETFROM:+0000
TZOFFSETTO:+0000
TZNAME:UTC
DTSTART:20190101T000000
END:STANDARD
END:VTIMEZONE
BEGIN:VEVENT
DTSTART;VALUE=DATE:20201102
DTEND;VALUE=DATE:20201107
DTSTAMP:20260425T142448
CREATED:20200726T092138Z
LAST-MODIFIED:20200726T092138Z
UID:10001332-1604275200-1604707199@www.restauratoren.de
SUMMARY:IIC 2020 Edinburgh Congress
DESCRIPTION:The International Institute of Conservation’s (IIC) Edinburgh Congress ‚Practices and Challenges in Built Heritage Conservation‘ will take place online from 2 – 6 November 2020 – with opportunities for real world meet ups and livestreamed tours of remarkable built heritage across Edinburgh’s UNESCO World Heritage site and surrounding areas. Our programme bridges the divide between built heritage and conservation around the world – with international sessions on the Mackintosh Building and Burrell Collection as well as examples of wall paintings at the Fengguo Temple in Yixian\, China\, to preservation strategies for painted tombs at El-Kurru\, Sudan. Registrations from £35 for non-members\, free for IIC members (including new members) with funded places and attendance grants available to support international participation\, covering a variety of employment circumstances and career stages. Registration includes a special preview of papers and posters\, full access to Congress sessions\, live Q&As and on-demand access for 30-days. \nFull details here \n 
URL:https://www.restauratoren.de/termin/iic-2020-edinburgh-congress/
CATEGORIES:Externe Veranstaltung
END:VEVENT
END:VCALENDAR