BEGIN:VCALENDAR
VERSION:2.0
PRODID:-//Verband der Restauratoren VDR - ECPv6.15.15//NONSGML v1.0//EN
CALSCALE:GREGORIAN
METHOD:PUBLISH
X-ORIGINAL-URL:https://www.restauratoren.de
X-WR-CALDESC:Veranstaltungen für Verband der Restauratoren VDR
REFRESH-INTERVAL;VALUE=DURATION:PT1H
X-Robots-Tag:noindex
X-PUBLISHED-TTL:PT1H
BEGIN:VTIMEZONE
TZID:UTC
BEGIN:STANDARD
TZOFFSETFROM:+0000
TZOFFSETTO:+0000
TZNAME:UTC
DTSTART:20190101T000000
END:STANDARD
END:VTIMEZONE
BEGIN:VEVENT
DTSTART;VALUE=DATE:20201126
DTEND;VALUE=DATE:20201129
DTSTAMP:20260423T142403
CREATED:20190928T095029Z
LAST-MODIFIED:20230131T172529Z
UID:10001248-1606348800-1606607999@www.restauratoren.de
SUMMARY:VERSCHOBEN: 11. Restauratorentag "SPUREN suchen. GESCHICHTE(N) finden – Wissenschaften am Kulturgut"
DESCRIPTION:Der VDR plant den 11. Restauratorentag für 2021 in Kassel. Die Tagung „SPUREN suchen. GESCHICHTE(N) finden – Wissenschaften am Kulturgut“ wird sich mit den facettenreichen Veränderungen\, denen Kunst und Kulturgüter aus allen Jahrhunderten beabsichtigt oder unbeabsichtigt unterworfen sind\, beschäftigen. \nEs sollen spannende Objekt-Geschichten erzählt werden\, die sich unter verschiedenen Oberthemen zusammenfassen lassen\, wie z. B. Veränderungen \n\ndurch den Künstler selbst\naus ästhetischen Gründen\naus Umnutzungsgründen/Standortwechseln/veränderten Präsentationsformen\naus ethischen/politischen Gründen\naufgrund von chemischen Alterungsprozessen\ndurch restauratorische Maßnahmen\n\nGeplant sind abwechslungsreiche Themenblöcke\, welche in Parallelveranstaltungen über zwei Tage behandelt werden und von verschiedenen Fachgruppen im VDR mitgestaltet werden sollten. \nNeben der Restaurierung sind aber auch alle angrenzenden Disziplinen wie beispielsweise Kunst- und Naturwissenschaften\, Wissenschaften der Vor- und Frühgeschichte\, der Ethnologie\, Volkskunde oder auch der Astronomie- und Architekturgeschichte eingeladen\, sich an der Tagung zu beteiligen. \nDie beiden Vortragstage werden durch Abendveranstaltungen\, u. a. durch den traditionellen Bunten Abend sowie durch die 18. VDR-Mitgliederversammlung ergänzt. \nDas Tagungsteam erhofft sich eine hohe Teilnehmerzahl\, vor allem auch zur Mitgliederversammlung. \nAlle weiteren Information zum Call for Papers finden Sie hier zum Download: \nMuseumslandschaft Hessen Kassel (MHK) und Kulturbahnhof \nHessisches LandesmuseumBrüder-Grimm-Platz 534117 Kassel Schloss OrangerieGartensaalAn der Karlsaue 2034121 Kassel Mitgliederversammlung / Bunter Abend(in Planung)TagungszentrumSüdflügel KulturbahnhofFranz-Ulrich Str. 634117 Kassel \nWir haben Zimmerkontingente in diversen Hotels für den Zeitraum vom 25.-28.11.2020 reserviert. Die Zimmer können unter dem Stichwort „VDR“ abgerufen werden. \nHier finden Sie die Liste der Hotels. \nDie Veranstaltung wird vom VDR mit freundlicher Unterstützung der Museumslandschaft Hessen Kassel ausgerichtet. \nAnsprechpartnerin: Anne Harmssen (VDR) \nBrigitte Brühl (FG VO)\, Jonathan Debik (FG MZK)\, Annika Dix (FG KH)\, Diana Gabler (FG VO)\, Ker­stin Heitmann (FG TE)\, Tatjana Held (FG AO)\, Kerstin Jahn (FG FFAK)\, Harald Kühner (FG MÖ)\, Christi­ne Machate (LG TH)\, Torsten Nimoth (LG SN)\, Dr. Wanja Wedekind (FG ST)\, Meike Wolters (FG MU) \n© A. Hulme (freeimages)
URL:https://www.restauratoren.de/termin/11-restauratorentag-spuren-suchen-geschichten-finden-wissenschaften-am-kulturgut-2020/
CATEGORIES:Save the Date,VDR-Veranstaltung,VDR-Weiterbildung
ATTACH;FMTTYPE=image/png:https://www.restauratoren.de/wp-content/uploads/2019/09/Titelbild_11-Restauratorentag_2020.png
END:VEVENT
END:VCALENDAR