BEGIN:VCALENDAR
VERSION:2.0
PRODID:-//Verband der Restauratoren VDR - ECPv6.15.15//NONSGML v1.0//EN
CALSCALE:GREGORIAN
METHOD:PUBLISH
X-WR-CALNAME:Verband der Restauratoren VDR
X-ORIGINAL-URL:https://www.restauratoren.de
X-WR-CALDESC:Veranstaltungen für Verband der Restauratoren VDR
REFRESH-INTERVAL;VALUE=DURATION:PT1H
X-Robots-Tag:noindex
X-PUBLISHED-TTL:PT1H
BEGIN:VTIMEZONE
TZID:Europe/Helsinki
BEGIN:DAYLIGHT
TZOFFSETFROM:+0200
TZOFFSETTO:+0300
TZNAME:EEST
DTSTART:20200329T010000
END:DAYLIGHT
BEGIN:STANDARD
TZOFFSETFROM:+0300
TZOFFSETTO:+0200
TZNAME:EET
DTSTART:20201025T010000
END:STANDARD
BEGIN:DAYLIGHT
TZOFFSETFROM:+0200
TZOFFSETTO:+0300
TZNAME:EEST
DTSTART:20210328T010000
END:DAYLIGHT
BEGIN:STANDARD
TZOFFSETFROM:+0300
TZOFFSETTO:+0200
TZNAME:EET
DTSTART:20211031T010000
END:STANDARD
BEGIN:DAYLIGHT
TZOFFSETFROM:+0200
TZOFFSETTO:+0300
TZNAME:EEST
DTSTART:20220327T010000
END:DAYLIGHT
BEGIN:STANDARD
TZOFFSETFROM:+0300
TZOFFSETTO:+0200
TZNAME:EET
DTSTART:20221030T010000
END:STANDARD
END:VTIMEZONE
BEGIN:VEVENT
DTSTART;TZID=Europe/Helsinki:20210114T190000
DTEND;TZID=Europe/Helsinki:20210114T203000
DTSTAMP:20260425T172523
CREATED:20201212T183120Z
LAST-MODIFIED:20201212T183120Z
UID:10001357-1610650800-1610656200@www.restauratoren.de
SUMMARY:ONLINE: Treffen der Landesgruppe Hamburg
DESCRIPTION:Unser 2. Restauratoren-Stammtisch\, der im November stattfinden sollte\, musste leider ausfallen. Bei diesem Treffen hätten auch die Wahlen des Landesgruppensprechers sowie seiner Vertreter durchgeführt werden sollen. Da nach wie vor unklar ist\, wann ein Stammtisch wieder möglich sein wird\, möchten wir die Wahlen deshalb am 14.01.2021 um 19 Uhr in digitaler Form nachholen.\n\nTeilnehmen können alle ordentlichen Mitglieder der Landesgruppe Hamburg. Es wird um eine vorherige Anmeldung bis zum 10.01.2021 unter info(at)fruehauf-restaurierung.de gebeten. Alle angemeldeten Teilnehmer *innen bekommen dann einen Zugang zu der Video-Konferenz\, sowie einen Leitfaden für die Durchführung der Wahlen zugesendet. \nWer sich für einen der Posten (Landesgruppensprecher*in\, 1. Vertreter*in oder 2. Vertreter*in) zur Wahl stellen möchte\, kann uns gerne darüber im Vorfeld informieren\, damit wir die Wahl so gut wie möglich vorbereiten können. Wir können jedem\, der Zeit und Lust hat sich in die Verbandsarbeit aktiv einzubringen\, eine Bewerbung auf einen solchen Posten nur sehr ans Herz legen. Die aktuelle Sprecherin sowie ihre beiden Stellvertreter werden sich nächstes Jahr auch wieder zur Wahl stellen. Die Verbandsarbeit kann sehr interessant und bereichernd sein. Wer mehr Informationen zu den Aufgaben der Landesgruppensprecher*innen haben möchte\, kann sich dafür gerne an uns wenden. \nGerne kann die Video-Konferenz auch für einen kleinen fachlichen und persönlichen Austausch genutzt werden. Wer einen Beitrag einbringen möchte\, möge sich dazu bei uns im Vorfeld melden\, damit wir ihn in den Ablauf einplanen können. Für Ideen\, Wünsche und Vorschläge haben wir jederzeit ein offenes Ohr. \nViele Grüße von den\nSprecher*innen der Landesgruppe Hamburg \nIsabel Frühauf \nTobias Seyer \nGeorg Ihlenfeld
URL:https://www.restauratoren.de/termin/online-treffen-der-landesgruppe-hamburg/
CATEGORIES:Landesgruppe Hamburg,VDR-Veranstaltung
ATTACH;FMTTYPE=image/jpeg:https://www.restauratoren.de/wp-content/uploads/2017/02/HamburgKarte.jpg
END:VEVENT
END:VCALENDAR