BEGIN:VCALENDAR
VERSION:2.0
PRODID:-//Verband der Restauratoren VDR - ECPv6.15.15//NONSGML v1.0//EN
CALSCALE:GREGORIAN
METHOD:PUBLISH
X-WR-CALNAME:Verband der Restauratoren VDR
X-ORIGINAL-URL:https://www.restauratoren.de
X-WR-CALDESC:Veranstaltungen für Verband der Restauratoren VDR
REFRESH-INTERVAL;VALUE=DURATION:PT1H
X-Robots-Tag:noindex
X-PUBLISHED-TTL:PT1H
BEGIN:VTIMEZONE
TZID:Europe/Helsinki
BEGIN:DAYLIGHT
TZOFFSETFROM:+0200
TZOFFSETTO:+0300
TZNAME:EEST
DTSTART:20200329T010000
END:DAYLIGHT
BEGIN:STANDARD
TZOFFSETFROM:+0300
TZOFFSETTO:+0200
TZNAME:EET
DTSTART:20201025T010000
END:STANDARD
BEGIN:DAYLIGHT
TZOFFSETFROM:+0200
TZOFFSETTO:+0300
TZNAME:EEST
DTSTART:20210328T010000
END:DAYLIGHT
BEGIN:STANDARD
TZOFFSETFROM:+0300
TZOFFSETTO:+0200
TZNAME:EET
DTSTART:20211031T010000
END:STANDARD
BEGIN:DAYLIGHT
TZOFFSETFROM:+0200
TZOFFSETTO:+0300
TZNAME:EEST
DTSTART:20220327T010000
END:DAYLIGHT
BEGIN:STANDARD
TZOFFSETFROM:+0300
TZOFFSETTO:+0200
TZNAME:EET
DTSTART:20221030T010000
END:STANDARD
END:VTIMEZONE
BEGIN:VEVENT
DTSTART;VALUE=DATE:20210122
DTEND;VALUE=DATE:20210123
DTSTAMP:20260422T193849
CREATED:20201103T094332Z
LAST-MODIFIED:20201103T094332Z
UID:10001345-1611273600-1611359999@www.restauratoren.de
SUMMARY:Call for papers: Joseph Beuys' raumbezogene Arbeiten
DESCRIPTION:„Raum und Zeit – Joseph Beuys’ raumbezogene Arbeiten\, ihre Präsentation und Erhaltung“ heißt die internationale Fachtagung\, die am 16. und 17.09.2021 in Kassel in der Museumslandschaft Hessen Kassel stattfinden wird. \n2021 wird der 100. Geburtstag von Joseph Beuys gefeiert. Zu diesem Anlass befasst sich die Tagung mit den raumbezogenen Arbeiten des Künstlers. Vielfach integrierte Beuys darin autonome Kunstwerke und Objekte seiner Performances und er nahm bei den Re-Installationen Veränderungen vor. Dies unterstreicht den wandelbaren und prozesshaften Charakter dieser Arbeiten. Generell sind zentrale Aspekte seines künstlerischen Schaffens an die Materialität sowie an die Fragilität\, Alterung und Degradation der Materialien geknüpft. Zudem erfahren raumbezogene Arbeiten sichtbare Veränderungen\, indem sie nach notwendigen Standortwechseln und Gebäudesanierungen in neuen oder neu gestalteten Räumen re-installiert werden. Im Dialog verschiedener Disziplinen – der Kunsttechnologie\, Konservierung und Restaurierung\, der Kunstwissenschaft und den Naturwissenschaften – werden die Relation die werkimmanenten Aspekte und der Einfluss der vielfältigen Veränderungen betrachtet und die ethischen\, konzeptionellen und praktischen Fragen der Erhaltung und der originalen oder werkgerechten Präsentation diskutiert. \nCall for papers\nEinsendeschluss für Papers: 22.01.2021
URL:https://www.restauratoren.de/termin/call-for-papers-joseph-beuys-raumbezogene-arbeiten/
CATEGORIES:Call for Papers,Externe Veranstaltung
END:VEVENT
BEGIN:VEVENT
DTSTART;TZID=Europe/Helsinki:20210122T140000
DTEND;TZID=Europe/Helsinki:20210122T160000
DTSTAMP:20260422T193849
CREATED:20210121T160258Z
LAST-MODIFIED:20210302T125616Z
UID:10001372-1611324000-1611331200@www.restauratoren.de
SUMMARY:Treffen der Landesgruppe Schleswig-Holstein
DESCRIPTION:Die Landesgruppe Schleswig-Holstein veranstaltet am Freitag\, 22.01.2021\, um 14 Uhr ihr erstes virtuelles Landesgruppentreffen\, u.a. stehen Neuwahlen des Vorstandes an. Mitglieder der LG erhalten die Einladung per E-Mail. \nKontakt für Fragen: schleswig-holstein[at]restauratoren.de
URL:https://www.restauratoren.de/termin/25595/
CATEGORIES:Landesgruppe Schleswig-Holstein,VDR-Veranstaltung
ATTACH;FMTTYPE=image/jpeg:https://www.restauratoren.de/wp-content/uploads/2017/02/SchleswigHKarte.jpg
ORGANIZER;CN="Verband der Restaurator%3Ainnen (VDR) e. V.":MAILTO:veranstaltungen@restauratoren.de
END:VEVENT
END:VCALENDAR