BEGIN:VCALENDAR
VERSION:2.0
PRODID:-//Verband der Restauratoren VDR - ECPv6.15.15//NONSGML v1.0//EN
CALSCALE:GREGORIAN
METHOD:PUBLISH
X-WR-CALNAME:Verband der Restauratoren VDR
X-ORIGINAL-URL:https://www.restauratoren.de
X-WR-CALDESC:Veranstaltungen für Verband der Restauratoren VDR
REFRESH-INTERVAL;VALUE=DURATION:PT1H
X-Robots-Tag:noindex
X-PUBLISHED-TTL:PT1H
BEGIN:VTIMEZONE
TZID:Europe/Helsinki
BEGIN:DAYLIGHT
TZOFFSETFROM:+0200
TZOFFSETTO:+0300
TZNAME:EEST
DTSTART:20200329T010000
END:DAYLIGHT
BEGIN:STANDARD
TZOFFSETFROM:+0300
TZOFFSETTO:+0200
TZNAME:EET
DTSTART:20201025T010000
END:STANDARD
BEGIN:DAYLIGHT
TZOFFSETFROM:+0200
TZOFFSETTO:+0300
TZNAME:EEST
DTSTART:20210328T010000
END:DAYLIGHT
BEGIN:STANDARD
TZOFFSETFROM:+0300
TZOFFSETTO:+0200
TZNAME:EET
DTSTART:20211031T010000
END:STANDARD
BEGIN:DAYLIGHT
TZOFFSETFROM:+0200
TZOFFSETTO:+0300
TZNAME:EEST
DTSTART:20220327T010000
END:DAYLIGHT
BEGIN:STANDARD
TZOFFSETFROM:+0300
TZOFFSETTO:+0200
TZNAME:EET
DTSTART:20221030T010000
END:STANDARD
END:VTIMEZONE
BEGIN:VEVENT
DTSTART;VALUE=DATE:20210218
DTEND;VALUE=DATE:20210220
DTSTAMP:20260423T071517
CREATED:20210125T141244Z
LAST-MODIFIED:20210125T141244Z
UID:10001374-1613606400-1613779199@www.restauratoren.de
SUMMARY:Tagung "Technikgeschichte für die Gegenwart"
DESCRIPTION:Die Jahrestagung des interdisziplinären VDI-Gremiums Technikgeschichte in Kooperation mit dem Fachgebiet Technikgeschichte der TU Berlin findet am 18. und 19. Februar 2021 online statt. Der Titel: „150 Jahre Conrad Matschoß – Technikgeschichte für die Gegenwart“ \nDas Jubiläum „150 Jahre Conrad Matschoß“ nimmt der VDI zum Anlass\, nicht nur erneut die Person zu beleuchten\, sondern danach zu fragen\, wo Technikgeschichte inzwischen steht und was ihr Selbstverständnis ausmacht:\nWas sind Kernfragen und -themen\, denen in der Forschung\, musealen Arbeit\, Denkmalpflege oder Industriearchäologie nachgegangen wird bzw. nachgegangen werden sollte und welchen Herausforderungen hat sich Technikgeschichte dort zu stellen?\nWie haben sich die Themen\, Ansätze und Erzählungen der Disziplin gewandelt und wo liegen ihre blinden Flecken?\nZudem soll das weit darüber hinausreichende Wissens- und Betätigungsfeld der Auseinandersetzung mit vergangener Technik auf den Prüfstand gestellt werden. Ziel ist es auszuleuchten\, was eine zeitgemäße „Technikgeschichte für die Gegenwart“ leisten kann und soll. \nInformationen zum Programm und zur Anmeldung
URL:https://www.restauratoren.de/termin/tagung-technikgeschichte-fuer-die-gegenwart/
CATEGORIES:Externe Veranstaltung
END:VEVENT
BEGIN:VEVENT
DTSTART;TZID=Europe/Helsinki:20210219T190000
DTEND;TZID=Europe/Helsinki:20210219T210000
DTSTAMP:20260423T071517
CREATED:20210210T133324Z
LAST-MODIFIED:20210210T133511Z
UID:10001381-1613761200-1613768400@www.restauratoren.de
SUMMARY:Virtuelles Treffen der Landesgruppe Baden-Württemberg
DESCRIPTION:Die VDR-Landesgruppe Baden-Württemberg lädt am Freitag\, den 19.02.2021\, um 19:00 Uhr zu ihrem ersten virtuellen Landesgruppentreffen ein. Auf dem Programm steht ein 15-minütiger Kurzvortrag von Daniel Mauss von der HDI Versicherung über Berufs- und Betriebshaftpflichtversicherungen mit Fragerunde. Im Anschluss berichtet das Sprecherteam  über  Aktivitäten des Landesverbands Freier Berufe\, Aktuelles von der Arbeitsgruppe Ingenieurkammer\,  verschobene Veranstaltungen und anstehende Aktivitäten. \nDie Zugangsdaten zum Treffen haben die Landesgruppensprecherinnen am 8. Februar an alle LG-Mitglieder verschickt. Bei Fragen zum Treffen wenden Sie sich bitte per E-Mail das Sprecherteam mit Claudia Hirschfeld-Schick\, Claudia Koch und Farina Werland: baden-wuerttemberg [at] restauratoren.de. \n 
URL:https://www.restauratoren.de/termin/virtuelles-treffen-der-landesgruppe-baden-wuerttemberg/
CATEGORIES:Landesgruppe Baden-Württemberg,VDR-Veranstaltung
ATTACH;FMTTYPE=image/jpeg:https://www.restauratoren.de/wp-content/uploads/2017/02/Karte_Baden-Wuerttemberg.jpg
ORGANIZER;CN="Verband der Restaurator%3Ainnen (VDR) e. V.":MAILTO:veranstaltungen@restauratoren.de
END:VEVENT
END:VCALENDAR