BEGIN:VCALENDAR
VERSION:2.0
PRODID:-//Verband der Restauratoren VDR - ECPv6.15.15//NONSGML v1.0//EN
CALSCALE:GREGORIAN
METHOD:PUBLISH
X-WR-CALNAME:Verband der Restauratoren VDR
X-ORIGINAL-URL:https://www.restauratoren.de
X-WR-CALDESC:Veranstaltungen für Verband der Restauratoren VDR
REFRESH-INTERVAL;VALUE=DURATION:PT1H
X-Robots-Tag:noindex
X-PUBLISHED-TTL:PT1H
BEGIN:VTIMEZONE
TZID:Europe/Helsinki
BEGIN:DAYLIGHT
TZOFFSETFROM:+0200
TZOFFSETTO:+0300
TZNAME:EEST
DTSTART:20200329T010000
END:DAYLIGHT
BEGIN:STANDARD
TZOFFSETFROM:+0300
TZOFFSETTO:+0200
TZNAME:EET
DTSTART:20201025T010000
END:STANDARD
BEGIN:DAYLIGHT
TZOFFSETFROM:+0200
TZOFFSETTO:+0300
TZNAME:EEST
DTSTART:20210328T010000
END:DAYLIGHT
BEGIN:STANDARD
TZOFFSETFROM:+0300
TZOFFSETTO:+0200
TZNAME:EET
DTSTART:20211031T010000
END:STANDARD
BEGIN:DAYLIGHT
TZOFFSETFROM:+0200
TZOFFSETTO:+0300
TZNAME:EEST
DTSTART:20220327T010000
END:DAYLIGHT
BEGIN:STANDARD
TZOFFSETFROM:+0300
TZOFFSETTO:+0200
TZNAME:EET
DTSTART:20221030T010000
END:STANDARD
END:VTIMEZONE
BEGIN:VEVENT
DTSTART;TZID=Europe/Helsinki:20210306T090000
DTEND;TZID=Europe/Helsinki:20210306T130000
DTSTAMP:20260420T020117
CREATED:20201222T111929Z
LAST-MODIFIED:20210304T105154Z
UID:10001361-1615021200-1615035600@www.restauratoren.de
SUMMARY:Hildesheimer Tag der Restaurierung
DESCRIPTION:Die Konservierungs- und Restaurierungs-Studiengänge der Fakultät Bauen und Erhalten laden am 06.03.2021 zu ausgewählten Vorträgen ihrer Absolventinnen und Absolventen ein. \nDie Präsentationen geben spannende Einblicke in die verschiedenen Fach- und Forschungsgebiete der Restaurierung: Gefasste Holzobjekte und Gemälde; Möbel\, Holzobjekte und Materialkombinationen; Schriftgut\, Buch und Grafik; Steinobjekte und Architekturoberflächen\, auch mit Themenschwerpunkten der Mikrobiologie sowie Kunst- und Restaurierungsgeschichte. \nEs erfolgt außerdem die Zeugnisübergabe an die Absolventinnen und Absolventen. \nDas Programm der Online-Veranstaltung und der Link wird auf der HAWK-Website veröffentlicht.
URL:https://www.restauratoren.de/termin/hildesheimer-tag-der-restaurierung-3/
CATEGORIES:Externe Veranstaltung
ATTACH;FMTTYPE=image/jpeg:https://www.restauratoren.de/wp-content/uploads/2020/12/B_21_01_03_AUS_PLAK_WEB-scaled.jpg
END:VEVENT
END:VCALENDAR