BEGIN:VCALENDAR
VERSION:2.0
PRODID:-//Verband der Restauratoren VDR - ECPv6.15.15//NONSGML v1.0//EN
CALSCALE:GREGORIAN
METHOD:PUBLISH
X-WR-CALNAME:Verband der Restauratoren VDR
X-ORIGINAL-URL:https://www.restauratoren.de
X-WR-CALDESC:Veranstaltungen für Verband der Restauratoren VDR
REFRESH-INTERVAL;VALUE=DURATION:PT1H
X-Robots-Tag:noindex
X-PUBLISHED-TTL:PT1H
BEGIN:VTIMEZONE
TZID:Europe/Helsinki
BEGIN:DAYLIGHT
TZOFFSETFROM:+0200
TZOFFSETTO:+0300
TZNAME:EEST
DTSTART:20200329T010000
END:DAYLIGHT
BEGIN:STANDARD
TZOFFSETFROM:+0300
TZOFFSETTO:+0200
TZNAME:EET
DTSTART:20201025T010000
END:STANDARD
BEGIN:DAYLIGHT
TZOFFSETFROM:+0200
TZOFFSETTO:+0300
TZNAME:EEST
DTSTART:20210328T010000
END:DAYLIGHT
BEGIN:STANDARD
TZOFFSETFROM:+0300
TZOFFSETTO:+0200
TZNAME:EET
DTSTART:20211031T010000
END:STANDARD
BEGIN:DAYLIGHT
TZOFFSETFROM:+0200
TZOFFSETTO:+0300
TZNAME:EEST
DTSTART:20220327T010000
END:DAYLIGHT
BEGIN:STANDARD
TZOFFSETFROM:+0300
TZOFFSETTO:+0200
TZNAME:EET
DTSTART:20221030T010000
END:STANDARD
END:VTIMEZONE
BEGIN:VEVENT
DTSTART;TZID=Europe/Helsinki:20210324T193000
DTEND;TZID=Europe/Helsinki:20210324T210000
DTSTAMP:20260424T120212
CREATED:20210301T105554Z
LAST-MODIFIED:20210316T115437Z
UID:10001288-1616614200-1616619600@www.restauratoren.de
SUMMARY:NEULAND - Kurzvorträge der Fachgruppe Moderne und Zeitgenössische Kunst
DESCRIPTION:Das Sprecherteam der VDR-Fachgruppe Moderne und Zeitgenössische Kunst lädt am 24.03.2021 von 19:30 – 21:00 Uhr zu NEULAND ein.\nDas neue digitale Format soll mit mehreren zirka sechsminüten Kurzvorträgen aktuelle Fragestellungen und Projekte präsentieren und zur Diskussion stellen. \n  \n\nwir möchten Sie herzlich zu unserem neuen Onlineformat NEULAND einladen. NEULAND ist eine digitale Vortragsreihe\, welche am 24. März um 19.30 Uhr (MEZ) erstmalig via Zoom stattfindet. Mit wechselnden Themen soll ortsunabhängig der Raum für Vernetzung und die Gelegenheit zum Austausch geboten werden. Das Besondere an NEULAND ist\, dass es bei den Beiträgen nicht direkt um die Restaurierung eines Werkes oder um eine BestPractice-Anleitung geht. Wir wollen mit sehr offen gehaltenen Themen vielmehr dazu anregen aus einem speziellen Blickwinkel auf Projekte\, Restaurierungsarbeiten oder Gedankenspiele in unserem Feld zu schauen. \nFolgende Kurvorträge werden in der ersten Veranstaltung den Auftakt bilden: \n  \n\n\n\n\n  \nZur Anmeldung schicken sie bitte eine kurze E-Mail an: „moderne-kunst@restauratoren.de“. Sie erhalten dann den Link für die Zoom-Konferenz. Wir freuen uns sehr mit Ihnen gemeinsam Neuland zu betreten und Erfahrungen zu teilen. \n  \nMit den besten Grüßen\nArtemis Rüstau\, Jonathan Debik und Mine Erhan\n  \n\n\n 
URL:https://www.restauratoren.de/termin/neuland-kurzvortraege-der-fachgruppe-moderne-und-zeitgenoessische-kunst/
CATEGORIES:Fachgruppe Moderne und Zeitgenössische Kunst,VDR-Veranstaltung
ATTACH;FMTTYPE=image/jpeg:https://www.restauratoren.de/wp-content/uploads/2017/02/Moderne_Kunst.jpg
ORGANIZER;CN="Verband der Restaurator%3Ainnen (VDR) e. V.":MAILTO:veranstaltungen@restauratoren.de
END:VEVENT
END:VCALENDAR