BEGIN:VCALENDAR
VERSION:2.0
PRODID:-//Verband der Restauratoren VDR - ECPv6.15.15//NONSGML v1.0//EN
CALSCALE:GREGORIAN
METHOD:PUBLISH
X-WR-CALNAME:Verband der Restauratoren VDR
X-ORIGINAL-URL:https://www.restauratoren.de
X-WR-CALDESC:Veranstaltungen für Verband der Restauratoren VDR
REFRESH-INTERVAL;VALUE=DURATION:PT1H
X-Robots-Tag:noindex
X-PUBLISHED-TTL:PT1H
BEGIN:VTIMEZONE
TZID:Europe/Helsinki
BEGIN:DAYLIGHT
TZOFFSETFROM:+0200
TZOFFSETTO:+0300
TZNAME:EEST
DTSTART:20200329T010000
END:DAYLIGHT
BEGIN:STANDARD
TZOFFSETFROM:+0300
TZOFFSETTO:+0200
TZNAME:EET
DTSTART:20201025T010000
END:STANDARD
BEGIN:DAYLIGHT
TZOFFSETFROM:+0200
TZOFFSETTO:+0300
TZNAME:EEST
DTSTART:20210328T010000
END:DAYLIGHT
BEGIN:STANDARD
TZOFFSETFROM:+0300
TZOFFSETTO:+0200
TZNAME:EET
DTSTART:20211031T010000
END:STANDARD
BEGIN:DAYLIGHT
TZOFFSETFROM:+0200
TZOFFSETTO:+0300
TZNAME:EEST
DTSTART:20220327T010000
END:DAYLIGHT
BEGIN:STANDARD
TZOFFSETFROM:+0300
TZOFFSETTO:+0200
TZNAME:EET
DTSTART:20221030T010000
END:STANDARD
END:VTIMEZONE
BEGIN:VEVENT
DTSTART;TZID=Europe/Helsinki:20210330T170000
DTEND;TZID=Europe/Helsinki:20210330T190000
DTSTAMP:20260425T054004
CREATED:20210304T110441Z
LAST-MODIFIED:20210314T150521Z
UID:10001297-1617123600-1617130800@www.restauratoren.de
SUMMARY:Landesgruppentreffen Hessen
DESCRIPTION:Die VDR-Landesgruppe Hessen lädt am Dienstag 30.03.2021 von 17 bis 19 Uhr zum digitalen Treffen ein.Das Rahmenprogramm besteht aus zwei Impulsvorträgen am Anfang des Treffens von je etwa 20 Minuten: \n\nDipl.-Rest. Nora Möritz „Entwicklung eines Notfallkonzepts für Kulturgut – Was bedeutet Risikomanagement und wie erstelle ich einen Notfallordner?“ – Einblicke in die Fragestellung und Vorgehensweise beim Schutz von Kulturgut im Ernstfall\nDipl.-Rest. Elisabeth Ursprung „Die Suche nach dem Original – Künstlerrahmen im Expressionismus“ – Extrakte aus ihrer Masterarbeit im Studiengang der Kunstgeschichte\n\nDie Tagesordnung und Hinweise zur Teilnahme im digitalen Format versenden wir zusammen mit einer Terminerinnerung in einer weiteren Email. \nBeste GrüßeFranziska Müller\, Elisabeth Ursprung und Natascha SchmidtLandesgruppe Hessen
URL:https://www.restauratoren.de/termin/landesgruppentreffen-hessen/
CATEGORIES:Landesgruppe Hessen,VDR-Veranstaltung
ATTACH;FMTTYPE=image/jpeg:https://www.restauratoren.de/wp-content/uploads/2017/02/HessenKarte.jpg
END:VEVENT
END:VCALENDAR