BEGIN:VCALENDAR
VERSION:2.0
PRODID:-//Verband der Restauratoren VDR - ECPv6.15.15//NONSGML v1.0//EN
CALSCALE:GREGORIAN
METHOD:PUBLISH
X-ORIGINAL-URL:https://www.restauratoren.de
X-WR-CALDESC:Veranstaltungen für Verband der Restauratoren VDR
REFRESH-INTERVAL;VALUE=DURATION:PT1H
X-Robots-Tag:noindex
X-PUBLISHED-TTL:PT1H
BEGIN:VTIMEZONE
TZID:Europe/Helsinki
BEGIN:DAYLIGHT
TZOFFSETFROM:+0200
TZOFFSETTO:+0300
TZNAME:EEST
DTSTART:20200329T010000
END:DAYLIGHT
BEGIN:STANDARD
TZOFFSETFROM:+0300
TZOFFSETTO:+0200
TZNAME:EET
DTSTART:20201025T010000
END:STANDARD
BEGIN:DAYLIGHT
TZOFFSETFROM:+0200
TZOFFSETTO:+0300
TZNAME:EEST
DTSTART:20210328T010000
END:DAYLIGHT
BEGIN:STANDARD
TZOFFSETFROM:+0300
TZOFFSETTO:+0200
TZNAME:EET
DTSTART:20211031T010000
END:STANDARD
BEGIN:DAYLIGHT
TZOFFSETFROM:+0200
TZOFFSETTO:+0300
TZNAME:EEST
DTSTART:20220327T010000
END:DAYLIGHT
BEGIN:STANDARD
TZOFFSETFROM:+0300
TZOFFSETTO:+0200
TZNAME:EET
DTSTART:20221030T010000
END:STANDARD
END:VTIMEZONE
BEGIN:VEVENT
DTSTART;TZID=Europe/Helsinki:20210429T190000
DTEND;TZID=Europe/Helsinki:20210429T210000
DTSTAMP:20260425T223443
CREATED:20210313T190022Z
LAST-MODIFIED:20210313T190022Z
UID:10001394-1619722800-1619730000@www.restauratoren.de
SUMMARY:Digitales Treffen der Fachgruppe Metall
DESCRIPTION:Die Sprecher der Fachgruppe Metall planen für den 29.04.2021 von 19 bis etwa 21 Uhr ein digitales Treffen für die Fachgruppenmitglieder. Das Treffen wird über die Plattform Zoom stattfinden\, ein entsprechender Link wird zeitnah an die FG-Mitglieder versendet. \nBei diesem Treffen steht auch die Wahl der Fachgruppensprecher*innen an. Damit eng verknüpft ist sicher auch die Zukunft der Fachgruppe Metall. Wie vermutlich mittlerweile bekannt geworden ist\, wird der Studiengang der Metall-Restaurierung in Potsdam nach der Pensionierung von Herrn Prof. Freitag in gut 1\,5 Jahren auslaufen. Damit gibt es dann keine akademische Ausbildung im Fachbereich Metallrestaurierung / Konservierung mehr in Deutschland. Der Umgang mit dieser Situation ist sicherlich die bestimmende Frage des anstehenden Treffens. \nNebenbei noch der Aufruf der Redaktion der VDR Beiträge zur Erhaltung von Kunst- und Kulturgut\, solche dort zur Publikation einzureichen. Durch den Wegfall der Tagungen fehlen der Fachzeitschrift wesentliche Beiträge und somit bietet sich die Gelegenheit interessante Beiträge zur Metallrestaurierung zu publizieren! \nDazu noch die Weiterleitung eines Links von Prof. Dr. Gerhard Eggert mit dem Aufruf zur Metal2022 der ICOM-CC WG Metals (Deadline für Abstracts 15.April 2021).  www.metal2022.org \nViele Grüße\nAnne-Christin Bazilla-Kempf \nKontakt: metall(at)restauratoren.de
URL:https://www.restauratoren.de/termin/digitales-treffen-der-fachgruppe-metall/
CATEGORIES:FG Metall,VDR-Veranstaltung
ATTACH;FMTTYPE=:
END:VEVENT
END:VCALENDAR