BEGIN:VCALENDAR
VERSION:2.0
PRODID:-//Verband der Restauratoren VDR - ECPv6.15.15//NONSGML v1.0//EN
CALSCALE:GREGORIAN
METHOD:PUBLISH
X-WR-CALNAME:Verband der Restauratoren VDR
X-ORIGINAL-URL:https://www.restauratoren.de
X-WR-CALDESC:Veranstaltungen für Verband der Restauratoren VDR
REFRESH-INTERVAL;VALUE=DURATION:PT1H
X-Robots-Tag:noindex
X-PUBLISHED-TTL:PT1H
BEGIN:VTIMEZONE
TZID:Europe/Helsinki
BEGIN:DAYLIGHT
TZOFFSETFROM:+0200
TZOFFSETTO:+0300
TZNAME:EEST
DTSTART:20200329T010000
END:DAYLIGHT
BEGIN:STANDARD
TZOFFSETFROM:+0300
TZOFFSETTO:+0200
TZNAME:EET
DTSTART:20201025T010000
END:STANDARD
BEGIN:DAYLIGHT
TZOFFSETFROM:+0200
TZOFFSETTO:+0300
TZNAME:EEST
DTSTART:20210328T010000
END:DAYLIGHT
BEGIN:STANDARD
TZOFFSETFROM:+0300
TZOFFSETTO:+0200
TZNAME:EET
DTSTART:20211031T010000
END:STANDARD
BEGIN:DAYLIGHT
TZOFFSETFROM:+0200
TZOFFSETTO:+0300
TZNAME:EEST
DTSTART:20220327T010000
END:DAYLIGHT
BEGIN:STANDARD
TZOFFSETFROM:+0300
TZOFFSETTO:+0200
TZNAME:EET
DTSTART:20221030T010000
END:STANDARD
END:VTIMEZONE
BEGIN:VEVENT
DTSTART;VALUE=DATE:20210502
DTEND;VALUE=DATE:20210506
DTSTAMP:20260420T011243
CREATED:20210322T120001Z
LAST-MODIFIED:20210322T120001Z
UID:10001399-1619913600-1620259199@www.restauratoren.de
SUMMARY:Jahrestagung Deutscher Museumsbund
DESCRIPTION:Vom 2. bis 5. Mai 2021 findet die Jahrestagung des Deutschen Museumsbundes online statt. Unter dem Titel Digitale Sammlungsarbeit: Das Museum im Wandel wird es darum gehen\, wie digitale Sammlungsarbeit das Museum als Ganzes beeinflusst und welche Chancen sich daraus ergeben. \nWie hat sich die digitale Sammlungsarbeit verändert? Welche neuen Fragen ergeben sich bei der Arbeit mit born digital objects? Was ist möglich in den Bereichen Archivierung\, Kommerzialisierung\, Rechtssicherheit? Welche Nutzungsmöglichkeiten eröffnen sich für Museen aber auch für weitere Akteure? Welche Rolle spielt die digitale Vernetzung von Objekten für die Forschung? Und welche zukünftigen Perspektiven bietet Digitalität als Megatrend für die Museen? Im Rahmen der Online-Jahrestagung 2021 laden wir Museen aller Sparten und Größen dazu ein\, die digitale Transformation gemeinsam weiter zu gestalten. \nDie Jahrestagung des Deutschen Museumsbundes ist die größte Museumskonferenz Deutschlands. Sie bietet Fachvorträge und Erfahrungsaustausch zu aktuellen Museumsthemen sowie die Möglichkeit zur Vernetzung mit Museumsfachleuten sowie Referentinnen und Referenten aus dem In- und Ausland. \nLink zur Tagungsseite
URL:https://www.restauratoren.de/termin/jahrestagung-deutscher-museumsbund/
CATEGORIES:Externe Veranstaltung
END:VEVENT
END:VCALENDAR