BEGIN:VCALENDAR
VERSION:2.0
PRODID:-//Verband der Restauratoren VDR - ECPv6.15.15//NONSGML v1.0//EN
CALSCALE:GREGORIAN
METHOD:PUBLISH
X-WR-CALNAME:Verband der Restauratoren VDR
X-ORIGINAL-URL:https://www.restauratoren.de
X-WR-CALDESC:Veranstaltungen für Verband der Restauratoren VDR
REFRESH-INTERVAL;VALUE=DURATION:PT1H
X-Robots-Tag:noindex
X-PUBLISHED-TTL:PT1H
BEGIN:VTIMEZONE
TZID:UTC
BEGIN:STANDARD
TZOFFSETFROM:+0000
TZOFFSETTO:+0000
TZNAME:UTC
DTSTART:20200101T000000
END:STANDARD
END:VTIMEZONE
BEGIN:VTIMEZONE
TZID:Europe/Helsinki
BEGIN:DAYLIGHT
TZOFFSETFROM:+0200
TZOFFSETTO:+0300
TZNAME:EEST
DTSTART:20200329T010000
END:DAYLIGHT
BEGIN:STANDARD
TZOFFSETFROM:+0300
TZOFFSETTO:+0200
TZNAME:EET
DTSTART:20201025T010000
END:STANDARD
BEGIN:DAYLIGHT
TZOFFSETFROM:+0200
TZOFFSETTO:+0300
TZNAME:EEST
DTSTART:20210328T010000
END:DAYLIGHT
BEGIN:STANDARD
TZOFFSETFROM:+0300
TZOFFSETTO:+0200
TZNAME:EET
DTSTART:20211031T010000
END:STANDARD
BEGIN:DAYLIGHT
TZOFFSETFROM:+0200
TZOFFSETTO:+0300
TZNAME:EEST
DTSTART:20220327T010000
END:DAYLIGHT
BEGIN:STANDARD
TZOFFSETFROM:+0300
TZOFFSETTO:+0200
TZNAME:EET
DTSTART:20221030T010000
END:STANDARD
END:VTIMEZONE
BEGIN:VEVENT
DTSTART;VALUE=DATE:20210507
DTEND;VALUE=DATE:20210509
DTSTAMP:20260424T213834
CREATED:20191022T164023Z
LAST-MODIFIED:20210324T133759Z
UID:10001268-1620345600-1620518399@www.restauratoren.de
SUMMARY:Online-Tagung "Die Digitalisierung in der Restaurierung"
DESCRIPTION:Die internationale Tagung zum Thema „Die Digitalisierung in der Restaurierung“ wird voraussichtlich vom 07.-08.05.2021 stattfinden. Bei der Veranstaltung\, die coronabedint bereits mehrfach verschoben wurde\, möchte die Fakultät Bauen und Erhalten zusammen mit dem Hornemann Institut der HAWK erstmals den Fokus darauf legen\, was die neuen digitalen Möglichkeiten für die Erhaltung und Vermittlung des historischen Fragments bedeuten.\n\n\nKunstwerke sind meist fragmentarisch überliefert. Der  Umgang mit dem Fragment gehört damit zu den zentralen Aufgaben von Denkmalpflege und Museen. Denn zwischen den beiden Polen der vollständigen Wiederherstellung und der Beibehaltung des fragmentarischen Zustandes reihen sich vielfache Möglichkeiten realer oder virtueller Ergänzung\, basierend auf unterschiedlichen theoretischen Grundsätzen. \n\nDie letzten großen Tagungen in Deutschland zum Thema des Digitalen in der Restaurierung und Denkmalpflege haben sich vor allem den verschiedenen Anwendungsgebieten digitaler Technik gewidmet.  Diese Tagung der Fakultät Bauen und Erhalten zusammen mit dem Hornemann Institut der HAWK möchte nun erstmals den Fokus darauf legen\, was die neuen digitalen Möglichkeiten für die Erhaltung und Vermittlung des historischen Fragments bedeuten\, denn es gibt „eine Lücke zwischen der zunehmenden Bedeutung und der Professionalisierung der visuellen Rekonstruktion des Historischen einerseits und der theoretischen Fundierung solcher Tätigkeiten andererseits“ (Blokker 2017). \nKonkret wird es u. a. um die Fragen gehen: Was bedeuten die neuen digitalen Möglichkeiten für die Erhaltung\, Restaurierung und Vermittlung des historischen Fragments? Zweifellos fördern gerade die neuen Medien die Kommunikation zwischen Fachleuten und der Gesellschaft und bieten damit große Chancen für ein umfassenderes Verständnis und eine nachhaltige Bewahrung unseres Kulturerbes. \nWie kann man mit digitaler Technik die Akzeptanz des fragmentarischen Originals steigern? Wann verschwimmen die Grenzen zwischen Digitalisat und Original und welche Gefahren können damit verbunden sein? \n\nInitiiert wurde diese Tagung von Prof. Dr. Ursula Schädler-Saub\, die an der HAWK das Fachgebiet „Geschichte\, Theorie und Ethik der Restaurierung\, Kunstgeschichte“ in Lehre und Forschung vertritt. Die Möglichkeiten der Digitalisierung hat sie in vielen Restaurierungsprojekten kennen und schätzen gelernt hat\, aber sie warnt auch: „Oft werden die besonderen Bedürfnisse des Fragments nicht auseichend berücksichtigt. Wenn Betrachter beispielsweise nicht mehr zwischen Realität und Fiktion unterscheiden können\, ist das ein gravierender Eingriff in die Authentizität des Originals.“ \nAußer ihr referieren Fachleute aus acht Ländern\, aus den Fachdisziplinen der Konservierung-Restaurierung\, der Kunstgeschichte\, Architektur\, Archäologie\, Informatik und der Wahrnehmungspsychologie\, u. a.  der Präsident des Verband der Restauratoren und Professor an der Fachhochschule Potsdam\,  Dr. Jan Raue. Die Fallspeispiele umreißen mehr als 3000 Jahre Kulturgeschichte und kommen aus sehr unterschiedlichen Kontexten und Kunstgattungen. Es handelt sich um Fragmente von Architektur\, Großplastiken\, Gemälde\, Wandmalereien\, Stuckrelief\, Marmorskulptur und Keramiken. \n\nMit Postern werden vor allem viele Young Professionals aus dem In- und Ausland ihre Forschungsergebnisse vorstellen und mit den Tagungsteilnehmern diskutieren. \n\nFührungen bieten Zugänge zu sehr unterschiedlich präsentierten originalen Fragmenten in Hildesheim. Ein Workshop des Hornemann Instituts lädt dazu ein\, auf einfache Weise dreidimensionale Objekte selbst zu digitalisieren. In einem Tutorial können Teilnehmer/innen nach einer Einführung eine 2D-Bildauswertung von historischen Aufnahmen als Grundlage für mögliche geometrische Rekonstruktionen selbst am Rechner üben. \nSchließlich findet im Rahmen der Tagung das erste Treffen des Arbeitskreises „Digitalisierung in der Restaurierung“ statt. \n\nZum Ende der Tagung soll ein praxistaugliches Grundsatzpapier zum Umgang mit dem Fragment gemeinsam entwickelt werden: Die etablierten ethischen und theoretischen Prinzipien der Restaurierung  sollen um die neuen digitalen Möglichkeiten ergänzt werden. Denn wissenschaftliche Standards müssen auch für die digitale Welt gelten\, z. B. müssen der spekulative Anteil von virtuellen Rekonstruktionen für Betrachter klar identifizierbar sein und die wahrnehmungspsychologischen Auswirkungen berücksichtigt werden. \nFür das Auditorium werden verschiedene Möglichkeiten der Partizipation angeboten. \nOrganisator\nHAWK Hildesheim\n\nDie Tagung wird veranstaltet in Kooperation mit \n– der ICOMOS AG Konservierung-Restaurierung \n–  dem Verband der Restauratoren e. V. (VDR ) \n\nDie Tagung bietet viel Raum für persönlich Begegnungen und den interdisziplinären Wissens- und Meinungsaustausch. Die Tagungssprachen sind Deutsch und Englisch. Eine Simultanübersetzung ist nicht möglich.
URL:https://www.restauratoren.de/termin/online-tagung-die-digitalisierung-in-der-restaurierung/
CATEGORIES:VDR-Veranstaltung,VDR-Weiterbildung
ATTACH;FMTTYPE=image/jpeg:https://www.restauratoren.de/wp-content/uploads/2019/10/Plakat_aktuell_6_bis_8_Mai.jpg
END:VEVENT
BEGIN:VEVENT
DTSTART;VALUE=DATE:20210508
DTEND;VALUE=DATE:20210509
DTSTAMP:20260424T213834
CREATED:20210413T095432Z
LAST-MODIFIED:20210413T095432Z
UID:10001407-1620432000-1620518399@www.restauratoren.de
SUMMARY:Online-Kolloquium: Spätmittelalterliche Kunst in der Montanregion
DESCRIPTION:Am 08.05.2021 führt die HfBK Dresden ein kleines eintägiges Kolloquium als Abschlussveranstaltung des Forschungsprojektes zur spätmittelalterlichen Kunst in der Montanregion Erzgebirge durch. Coronabedingt wird die Veranstaltung online stattfinden. \nDie überaus reiche und qualitätsvolle sakrale Kunstproduktion in vorreformatorischer Zeit stellt einen bislang wenig beachteter Aspekt des jahrhundertealten gemeinsamen Kulturraums im sächsisch-böhmischen Grenzgebiet des Erzgebirges dar. Gerade in Sachsen fielen der Reformation vergleichsweise wenige Kunstwerke aus katholischer Zeit zum Opfer. Trotz des Reichtums an materiellen Sachzeugen aus vorreformatorischer Zeit hat sich die kunsthistorische Forschung dieser Objektgruppe\, zu der neben den Retabeln und ihren Bestandteilen u.a. auch einzelne Holzbildwerke sowie Holztafelbilder gehören\, bislang immer nur in Teilbereichen angenommen. Diesen und anderen Themen nahm sich das Forschungsprojekt Spätmittelalterliche Kunst in der Montanregion Erzgebirge an und untersuchte modellhaft alle noch vorhandenen Objekte dieser Art in der Stadt Freiberg und ihrer Umgebung unter einem interdisziplinären kunsttechnologisch-kunsthistorischen Forschungsansatz. Freiberg prägte als älteste und bedeutendste Bergstadt maßgeblich die Entwicklung der gesamten Montanregion Erzgebirge. Die Projektergebnisse bilden eine neue Basis für zukünftige Quervergleiche zwischen den einzelnen Kunstwerken und darauf aufbauend Schlussfolgerungen zu Werkstattzusammenhängen oder gar Zuschreibungen an einzelne Meister sowie zu den engen wirtschaftlichen und kulturellen Verflechtungen zwischen den Grenzregionen des Erzgebirges im Spätmittelalter. Das Kolloquium gibt Einblicke in die Forschungsarbeiten und vermittelt eine weitere Facette der 2019 zum UNESCO-Weltkulturerbe erklärten Montanregion Erzgebirge/ Krušnohoří. \nWeitere Infos zur Anmeldung und zum Programm
URL:https://www.restauratoren.de/termin/online-kolloquium-spaetmittelalterliche-kunst-in-der-montanregion/
CATEGORIES:Externe Veranstaltung
END:VEVENT
BEGIN:VEVENT
DTSTART;TZID=Europe/Helsinki:20210508T081500
DTEND;TZID=Europe/Helsinki:20210508T180000
DTSTAMP:20260424T213834
CREATED:20201208T191300Z
LAST-MODIFIED:20210506T113021Z
UID:10001356-1620461700-1620496800@www.restauratoren.de
SUMMARY:"ArSiSem" Online-Seminar zur Arbeitssicherheit – Basiswissen für den restauratorischen Arbeitsalltag
DESCRIPTION:Die Interessengruppe Selbstständige Freiberufler (IGSF) und Landesgruppe Baden-Württemberg (LG BaWü) planen mit freundlicher Unterstützung der Staatlichen Akademie der Bildenden Künste Stuttgart (ABK) das erste Online-Semiar zur „Arbeitssicherheit“ am 8. Mai 2021.\n\nDie persönliche Sicherheit – in der Werkstatt und auf der Baustelle – ein bis dato stiefmütterlich behandeltes\, aber sehr wichtiges und zudem fächerübergreifendes Thema\, das uns alle betrifft. \nNeben allgemeinen Informationen und Handlungsempfehlungen zum Umgang mit Gefahrenstoffen wie Lösemitteln im Arbeitsalltag im eigenen Atelier\, in der Werkstatt oder bei der Bearbeitung von Objekten in situ\, sollen vertiefend Vorträge zur Behandlung asbest- und schimmelkontaminierter Objekte für einen verantwortungsvollen Umgang sensibilisieren und Möglichkeiten zum Selbstschutz aufzeigen. \nEin weiterer Schwerpunkt dieses Seminars behandelt die Sicherheit auf der Baustelle. Die Teilnehmer*innen bekommen einen Überblick über notwendige organisatorische Abläufe sowie die Zuständigkeiten des Sicherheits- und Gesundheitsschutz-Koordinators (SiGeKos). Auch der sichere Gebrauch von Leitern und Rollgerüsten wird thematisiert. \nIn einem Interview erzählt Ines Frontzek\, eine der Organisator:innen des Seminars\, warum es wichtig ist\, sich dem oft vernachlässigten Themas der Arbeitssicherheit anzunehmen und welche Themen behandelt werden. \nPandemiebedingt wird die ursprünglich geplante Präsenzveranstaltung an der Staatlichen Akademie der Bildenden Künste nun als Online-Seminar stattfinden. \n	\nDas Programm finden Sie hier als PDF. \n	\n\n\n\n	\n105 € VDR-Mitglied*\n105 € Mitglied* (ÖRV\, SKR oder VRKS-ARCA)\n130 € Nicht-Mitglied\n40 € VDR-Mitglied in Ausbildung**\n40 € Mitglied in Ausbildung** (ÖRV\, SKR oder VRKS-ARCA)\n65 € Nicht-Mitglied in Ausbildung**\n	\n130 € VDR-Mitglied*\n130 € Mitglied* (ÖRV\, SKR oder VRKS-ARCA)\n155 € Nicht-Mitglied\n65 € VDR-Mitglied in Ausbildung**\n65 € Mitglied in Ausbildung** (ÖRV\, SKR oder VRKS-ARCA)\n90 € Nicht-Mitglied in Ausbildung**\n	* Korrespondierende Mitglieder und Fördermitglieder können durch jeweils 1 Person auf Veranstaltungen vertreten werden.\n** Praktikanten\, Studierende im Bereich der Konservierung-Restaurierung\n	\n				Zur Veranstaltungsanmeldung\n			\n		Nutzen Sie das Angebot und nehmen zum günstigeren Mitgliedertarif teil!\n			\n							Seminar-Special\n					\n	\nBei Fragen melden Sie sich bitte beim Veranstaltungsteam der VDR Geschäftsstelle unter veranstaltungen[at]restauratoren.de oder unter der Telefonnummer +49 228 926897-13 (Julia Kun\, Mo-Mi) oder -14 (Henrike Steinweg\, Mi-Fr). \n	\n\n	\n© Katharina Schellbach
URL:https://www.restauratoren.de/termin/arsisem-online-seminar-zur-arbeitssicherheit-basiswissen-fuer-den-restauratorischen-arbeitsalltag/
LOCATION:Staatliche Akademie der Bildenden Künste Stuttgart\, Campus Weißenhof\, Am Weißenhof 1\, Stuttgart\, 70191\, Deutschland
CATEGORIES:IG Selbstständige/Freiberufler,Landesgruppe Baden-Württemberg,Save the Date,VDR-Veranstaltung
ATTACH;FMTTYPE=image/png:https://www.restauratoren.de/wp-content/uploads/2020/12/Titelbild_ArSiSem_2021-©Katharina-Schellbach.png
ORGANIZER;CN="VDR":MAILTO:veranstaltungen@restauratoren.de
END:VEVENT
END:VCALENDAR