BEGIN:VCALENDAR
VERSION:2.0
PRODID:-//Verband der Restauratoren VDR - ECPv6.15.15//NONSGML v1.0//EN
CALSCALE:GREGORIAN
METHOD:PUBLISH
X-ORIGINAL-URL:https://www.restauratoren.de
X-WR-CALDESC:Veranstaltungen für Verband der Restauratoren VDR
REFRESH-INTERVAL;VALUE=DURATION:PT1H
X-Robots-Tag:noindex
X-PUBLISHED-TTL:PT1H
BEGIN:VTIMEZONE
TZID:Europe/Helsinki
BEGIN:DAYLIGHT
TZOFFSETFROM:+0200
TZOFFSETTO:+0300
TZNAME:EEST
DTSTART:20200329T010000
END:DAYLIGHT
BEGIN:STANDARD
TZOFFSETFROM:+0300
TZOFFSETTO:+0200
TZNAME:EET
DTSTART:20201025T010000
END:STANDARD
BEGIN:DAYLIGHT
TZOFFSETFROM:+0200
TZOFFSETTO:+0300
TZNAME:EEST
DTSTART:20210328T010000
END:DAYLIGHT
BEGIN:STANDARD
TZOFFSETFROM:+0300
TZOFFSETTO:+0200
TZNAME:EET
DTSTART:20211031T010000
END:STANDARD
BEGIN:DAYLIGHT
TZOFFSETFROM:+0200
TZOFFSETTO:+0300
TZNAME:EEST
DTSTART:20220327T010000
END:DAYLIGHT
BEGIN:STANDARD
TZOFFSETFROM:+0300
TZOFFSETTO:+0200
TZNAME:EET
DTSTART:20221030T010000
END:STANDARD
END:VTIMEZONE
BEGIN:VEVENT
DTSTART;VALUE=DATE:20210607
DTEND;VALUE=DATE:20210609
DTSTAMP:20260421T144356
CREATED:20210528T110740Z
LAST-MODIFIED:20210528T110740Z
UID:10001422-1623024000-1623196799@www.restauratoren.de
SUMMARY:Bundeskongress Heimat 2021: Thema Baukultur
DESCRIPTION:Der dritte Bundeskongress Heimat findet am 7. und 8. Juni 2021 online statt. Im Zentrum der diesjährigen öffentlichen Konferenz des Bundes Heimat und Umwelt in Deutschland steht die Bedeutung von Baukultur. Gastgeber sind die Heimatverbände in Nordrhein-Westfalen: der Westfälische Heimatbund\, der Rheinische Verein für Denkmalpflege und Landschaftsschutz sowie der Lippische Heimatbund. \nWeitere Informationen und Anmeldung
URL:https://www.restauratoren.de/termin/bundeskongress-heimat-2021-thema-baukultur/
CATEGORIES:Externe Veranstaltung
END:VEVENT
BEGIN:VEVENT
DTSTART;TZID=Europe/Helsinki:20210607T160000
DTEND;TZID=Europe/Helsinki:20210607T170000
DTSTAMP:20260421T144356
CREATED:20210604T094808Z
LAST-MODIFIED:20210604T094808Z
UID:10001427-1623081600-1623085200@www.restauratoren.de
SUMMARY:Digital Talk: Risk for Digital Heritage
DESCRIPTION:In 2012\, hurricane Sandy caused multiple fatalities and more than 6 million homes and businesses experienced prolonged power outages\, resulting in billions of dollars of losses in the form of digital assets. \nEqually alarming is that 60% of small- and medium-sized businesses experienced a loss or theft of sensitive data in the last 12 months\, and the cost of IT downtime was $700 billion in 2015. Disasters such as these result in significant losses of digital assets\, which also includes digital heritage. \nAs part of ICCROM’s new ‘Sustaining Digital Heritage’ initiative\, this webinar will promote a better understanding of disaster risk for digital heritage. Noted speakers from the fields of heritage risk reduction\, archives\, and digital asset management will share their experiences and expertise\, and discuss how to prevent large-scale disruption and significant data loss. \nOur aim is to build ground for a lively discussion by using interactive features such as live polls and a Q&A format. \nJoin us on Monday\, 7 June 2021. Registration is mandatory and FREE. \nDate: 7 June 2021 \nTime: 16.00-17.15 (Rome\, Italy) \nLocation: Online \nModerators: \n\nAparna Tandon\, Senior Programme Leader\, ICCROM\nMaria Guercio\, President of SOS Archivi TSC\n\n  \nSpeakers: \n\nHerwig Bogaert\, Senior Systems Engineer\, meemoo\, Flemish Institute for Archives\nBrecht Declercq\, Digitisation Manager at meemoo\, Flemish Institute for Archives\, President of FIAT/IFTA\nKelly Hazejager\, Sustaining Digital Heritage programme intern\nKara Van Malssen\, Managing Director of Consulting\, AVP\, USA\n\n  \nRegister in advance: https://iccrom- org.zoom.us/webinar/register/WN_L5rxlaCqROyrFgSRuW5BfA \nLive stream on YouTube:  https://youtu.be/tXkK_kciD50 \n 
URL:https://www.restauratoren.de/termin/digital-talk-risk-for-digital-heritage/
CATEGORIES:Externe Veranstaltung
END:VEVENT
END:VCALENDAR