BEGIN:VCALENDAR
VERSION:2.0
PRODID:-//Verband der Restauratoren VDR - ECPv6.15.15//NONSGML v1.0//EN
CALSCALE:GREGORIAN
METHOD:PUBLISH
X-ORIGINAL-URL:https://www.restauratoren.de
X-WR-CALDESC:Veranstaltungen für Verband der Restauratoren VDR
REFRESH-INTERVAL;VALUE=DURATION:PT1H
X-Robots-Tag:noindex
X-PUBLISHED-TTL:PT1H
BEGIN:VTIMEZONE
TZID:Europe/Helsinki
BEGIN:DAYLIGHT
TZOFFSETFROM:+0200
TZOFFSETTO:+0300
TZNAME:EEST
DTSTART:20200329T010000
END:DAYLIGHT
BEGIN:STANDARD
TZOFFSETFROM:+0300
TZOFFSETTO:+0200
TZNAME:EET
DTSTART:20201025T010000
END:STANDARD
BEGIN:DAYLIGHT
TZOFFSETFROM:+0200
TZOFFSETTO:+0300
TZNAME:EEST
DTSTART:20210328T010000
END:DAYLIGHT
BEGIN:STANDARD
TZOFFSETFROM:+0300
TZOFFSETTO:+0200
TZNAME:EET
DTSTART:20211031T010000
END:STANDARD
BEGIN:DAYLIGHT
TZOFFSETFROM:+0200
TZOFFSETTO:+0300
TZNAME:EEST
DTSTART:20220327T010000
END:DAYLIGHT
BEGIN:STANDARD
TZOFFSETFROM:+0300
TZOFFSETTO:+0200
TZNAME:EET
DTSTART:20221030T010000
END:STANDARD
END:VTIMEZONE
BEGIN:VEVENT
DTSTART;TZID=Europe/Helsinki:20210819T180000
DTEND;TZID=Europe/Helsinki:20210819T193000
DTSTAMP:20260425T143108
CREATED:20210223T092520Z
LAST-MODIFIED:20210223T092520Z
UID:10001387-1629396000-1629401400@www.restauratoren.de
SUMMARY:Online-Vortrag "Papierfischchen – ein neuer Schädling"
DESCRIPTION:Zur Präventiven Konservierung referiert Matthias Stappel\,  Dipl.-Restaurator (FH) am Freilichtmuseum Hessenpark in Neu-Anspach am 19. August 2021. Dabei stehen in diesem Vortrag in der Reihe des Restaurierungskolloquiums des TECHNOSEUMs Mannheim Papoerfischchen im Fokus.\n \nSeit über zehn Jahren tauchen vermehrt Papierfischchen in Deutschland auf. Bei den Schädlingen handelt es sich um den größeren Bruder des einheimischen Silberfischchens. Papierfischchen sind nicht nur größer und gefräßiger als ihre Verwandten. Sie bekommen auch mehr Nachwuchs\, vertragen es trockener. So galten die Silberfischchen als eher harmlose Lästlinge und waren hauptsächlich im Bad zu finden. Die Papierfischchen treten teilweise in großen Mengen in Magazinen auf und fressen dort nicht nur \nPapier\, sondern vorzugweise die Schrift\, was besonders schmerzlich ist. Ein Überblick zu den Lebensbedingungen\, Nahrungsgrundlagen und Bekämpfungsmethoden rundet den Vortrag ab. \nBeginn ist um 18 Uhr. \nSie können sich über die Webseite des TECHNOSEUM einwählen: www.technoseum.de. \nHier finden Sie das gesamte Programm des Restaurierungskolloquiums für 2021 (PDF).
URL:https://www.restauratoren.de/termin/online-vortrag-papierfischchen-ein-neuer-schaedling/
CATEGORIES:Externe Veranstaltung,Fachgruppe Präventive Konservierung
END:VEVENT
END:VCALENDAR