BEGIN:VCALENDAR
VERSION:2.0
PRODID:-//Verband der Restauratoren VDR - ECPv6.15.15//NONSGML v1.0//EN
CALSCALE:GREGORIAN
METHOD:PUBLISH
X-ORIGINAL-URL:https://www.restauratoren.de
X-WR-CALDESC:Veranstaltungen für Verband der Restauratoren VDR
REFRESH-INTERVAL;VALUE=DURATION:PT1H
X-Robots-Tag:noindex
X-PUBLISHED-TTL:PT1H
BEGIN:VTIMEZONE
TZID:Europe/Helsinki
BEGIN:DAYLIGHT
TZOFFSETFROM:+0200
TZOFFSETTO:+0300
TZNAME:EEST
DTSTART:20200329T010000
END:DAYLIGHT
BEGIN:STANDARD
TZOFFSETFROM:+0300
TZOFFSETTO:+0200
TZNAME:EET
DTSTART:20201025T010000
END:STANDARD
BEGIN:DAYLIGHT
TZOFFSETFROM:+0200
TZOFFSETTO:+0300
TZNAME:EEST
DTSTART:20210328T010000
END:DAYLIGHT
BEGIN:STANDARD
TZOFFSETFROM:+0300
TZOFFSETTO:+0200
TZNAME:EET
DTSTART:20211031T010000
END:STANDARD
BEGIN:DAYLIGHT
TZOFFSETFROM:+0200
TZOFFSETTO:+0300
TZNAME:EEST
DTSTART:20220327T010000
END:DAYLIGHT
BEGIN:STANDARD
TZOFFSETFROM:+0300
TZOFFSETTO:+0200
TZNAME:EET
DTSTART:20221030T010000
END:STANDARD
END:VTIMEZONE
BEGIN:VEVENT
DTSTART;VALUE=DATE:20210916
DTEND;VALUE=DATE:20210918
DTSTAMP:20260425T032759
CREATED:20210825T123314Z
LAST-MODIFIED:20210825T123314Z
UID:10001444-1631750400-1631923199@www.restauratoren.de
SUMMARY:Tagung "Joseph Beuys' raumbezogene Arbeiten\, ihre Präsentation und Erhaltung"
DESCRIPTION:Am 16. und 17.09.2021 organisiert die Museumslandschaft Hessen Kassel die Internationale Fachtagung“Raum und zeit – Jospeh Beuys‘ raumbezogene Arbeiten\, ihre Präsentation und Erhaltung. \nDie Tagung befasst sich mit Joseph Beuys‘ raumbezogenen Arbeiten. Vielfach integrierte er darin autonome Kunstwerke und Objekte seiner Performances und nahm bei den Re-Installationen Veränderungen vor. Dies unterstreicht den wandelbaren und prozesshaften Charakter der Kunstwerke. Generell sind zentrale Aspekte von Beuys künstlerischem Schaffen an die Materialität sowie an die Fragilität\, Alterung und Degradation der Materialien geknüpft. Zudem erfahren raumbezogene Arbeiten sichtbare Veränderungen\, indem sie nach notwendigen Standortwechseln und Gebäudesanierungen in neuen oder neu gestalteten Räumen re-installiert werden. \nIm Dialog verschiedener Fachdisziplinen wird die Relation die werkimmanenten Aspekte und der Einfluss der vielfältigen Veränderungen betrachtet sowie die ethischen\, konzeptionellen und praktischen Fragen der Erhaltung und der originalen oder werkgerechten Präsentation diskutiert. \nWeitere Informationen\, Tagungsprogramm und Zugangslinks zu den beiden Konferenz-Tagen und zur Podiumsdiskussion (16.09.2021 von 17-18.30 Uhr)
URL:https://www.restauratoren.de/termin/tagung-joseph-beuys-raumbezogene-arbeiten-ihre-praesentation-und-erhaltung/
END:VEVENT
BEGIN:VEVENT
DTSTART;TZID=Europe/Helsinki:20210916T193000
DTEND;TZID=Europe/Helsinki:20210916T203000
DTSTAMP:20260425T032759
CREATED:20210910T095254Z
LAST-MODIFIED:20210910T095254Z
UID:10001453-1631820600-1631824200@www.restauratoren.de
SUMMARY:Vortrag über Wasserzeichen im Papier
DESCRIPTION:Hofabend bei Gleim: Stefanie Volmer „Spuren im Papier – Wasserzeichen in den Briefen von Anna Louisa Karsch“ \n16.09.2021 – 19:30 Uhr \n„Spuren im Papier – Wasserzeichen in den Briefen von Anna Louisa Karsch“ heißt es am Donnerstag\, dem 16. September 2021\, um 19:30 Uhr beim „Hofabend bei Gleim“. Was kann man in einem Briefe noch alles entdecken? Zeigt er doch mehr Informationen als nur das geschriebene Wort? Verändert man den Betrachtungswinkel und bringt Licht unter das Papier\, so kann man Linien\, Formen und Bilder bis hin zu aufwendigen Wappendarstellungen entdecken. Diese Wasserzeichen im Papier sind nicht nur hübsch anzuschauen\, sondern können auch Hinweise auf die Entstehung des Papiers geben. Stefanie Volmer\, die Restauratorin des Gleimhauses gibt an diesem Abend einen Einblick in die Entstehung von Wasserzeichen und wird auf ausgewählte Wasserzeichen aus den Briefen von Anna Louisa Karsch eingehen. \nEintritt: frei \nDie Veranstaltung wird Hybrid angeboten. Die Zugangsdaten erhalten sie nach der Anmeldung. \nAnmeldung: Gleimhaus(at)halberstadt.de
URL:https://www.restauratoren.de/termin/vortrag-ueber-wasserzeichen-im-papier/
CATEGORIES:Externe Veranstaltung
END:VEVENT
END:VCALENDAR