BEGIN:VCALENDAR
VERSION:2.0
PRODID:-//Verband der Restauratoren VDR - ECPv6.15.15//NONSGML v1.0//EN
CALSCALE:GREGORIAN
METHOD:PUBLISH
X-ORIGINAL-URL:https://www.restauratoren.de
X-WR-CALDESC:Veranstaltungen für Verband der Restauratoren VDR
REFRESH-INTERVAL;VALUE=DURATION:PT1H
X-Robots-Tag:noindex
X-PUBLISHED-TTL:PT1H
BEGIN:VTIMEZONE
TZID:Europe/Helsinki
BEGIN:DAYLIGHT
TZOFFSETFROM:+0200
TZOFFSETTO:+0300
TZNAME:EEST
DTSTART:20200329T010000
END:DAYLIGHT
BEGIN:STANDARD
TZOFFSETFROM:+0300
TZOFFSETTO:+0200
TZNAME:EET
DTSTART:20201025T010000
END:STANDARD
BEGIN:DAYLIGHT
TZOFFSETFROM:+0200
TZOFFSETTO:+0300
TZNAME:EEST
DTSTART:20210328T010000
END:DAYLIGHT
BEGIN:STANDARD
TZOFFSETFROM:+0300
TZOFFSETTO:+0200
TZNAME:EET
DTSTART:20211031T010000
END:STANDARD
BEGIN:DAYLIGHT
TZOFFSETFROM:+0200
TZOFFSETTO:+0300
TZNAME:EEST
DTSTART:20220327T010000
END:DAYLIGHT
BEGIN:STANDARD
TZOFFSETFROM:+0300
TZOFFSETTO:+0200
TZNAME:EET
DTSTART:20221030T010000
END:STANDARD
END:VTIMEZONE
BEGIN:VEVENT
DTSTART;TZID=Europe/Helsinki:20210923T180000
DTEND;TZID=Europe/Helsinki:20210923T190000
DTSTAMP:20260425T154303
CREATED:20210906T092247Z
LAST-MODIFIED:20210906T092534Z
UID:10001446-1632420000-1632423600@www.restauratoren.de
SUMMARY:Online-Vortrag: Kurt Wehlte - ein forschender Maler
DESCRIPTION:Am 23.09.2021 findet um 18 Uhr am Bode-Museum der nächste Vortrag in der Reihe „Von Restauratoren erforscht“ statt. In ihrem Online-Vortrag stellt Monika Kammer aus Dresden den Künstler\, Maltechniker und Restaurator Kurt Wehlte (1897-1973) und seine Tätigkeit auf dem Gebiet der kunstwissenschaftlichen Radiografie vor. \nDer Vortrag findet als live-online Veranstaltung statt. Bitte benützen Sie für die kostenfreie Teilnahme diesen Link. \nWeitere Informationen und Link für die Teilnahme. \n\n\n\n\nNachfolgend auch die direkten Zugangsdaten zum Beitritt:\n\n\nÜber den Meeting-Link beitreten\n\n\n\nhttps://spk-berlin.webex.com/spk-berlin/j.php?MTID=mc6f3a19be4bce728d5d8fbdb313fd0e7 \n  \n\n\n\nMit Meeting-Kennnummer beitreten\n\n\n\n\n\n\nMeeting-Kennnummer (Zugriffscode): 174 098 8011\n\n\n\n\n\n\nMeeting Passwort: fbJjb6QFJ63\n\n\n\n\n\n\n\n\n\n\n\n\n\n \nÜber Telefon beitreten\n\n\n\n+49-619-6781-9736 Germany Toll\n\n\n\n+49-89-95467578 Germany Toll 2
URL:https://www.restauratoren.de/termin/online-vortrag-kurt-wehlte-ein-forschender-maler/
CATEGORIES:Externe Veranstaltung
END:VEVENT
END:VCALENDAR