BEGIN:VCALENDAR
VERSION:2.0
PRODID:-//Verband der Restauratoren VDR - ECPv6.15.15//NONSGML v1.0//EN
CALSCALE:GREGORIAN
METHOD:PUBLISH
X-ORIGINAL-URL:https://www.restauratoren.de
X-WR-CALDESC:Veranstaltungen für Verband der Restauratoren VDR
REFRESH-INTERVAL;VALUE=DURATION:PT1H
X-Robots-Tag:noindex
X-PUBLISHED-TTL:PT1H
BEGIN:VTIMEZONE
TZID:Europe/Helsinki
BEGIN:DAYLIGHT
TZOFFSETFROM:+0200
TZOFFSETTO:+0300
TZNAME:EEST
DTSTART:20200329T010000
END:DAYLIGHT
BEGIN:STANDARD
TZOFFSETFROM:+0300
TZOFFSETTO:+0200
TZNAME:EET
DTSTART:20201025T010000
END:STANDARD
BEGIN:DAYLIGHT
TZOFFSETFROM:+0200
TZOFFSETTO:+0300
TZNAME:EEST
DTSTART:20210328T010000
END:DAYLIGHT
BEGIN:STANDARD
TZOFFSETFROM:+0300
TZOFFSETTO:+0200
TZNAME:EET
DTSTART:20211031T010000
END:STANDARD
BEGIN:DAYLIGHT
TZOFFSETFROM:+0200
TZOFFSETTO:+0300
TZNAME:EEST
DTSTART:20220327T010000
END:DAYLIGHT
BEGIN:STANDARD
TZOFFSETFROM:+0300
TZOFFSETTO:+0200
TZNAME:EET
DTSTART:20221030T010000
END:STANDARD
END:VTIMEZONE
BEGIN:VEVENT
DTSTART;VALUE=DATE:20210924
DTEND;VALUE=DATE:20210926
DTSTAMP:20260425T180555
CREATED:20210510T194448Z
LAST-MODIFIED:20210923T120420Z
UID:10001418-1632441600-1632614399@www.restauratoren.de
SUMMARY:Online-Seminar – Rund ums Gründen: Basiswissen für Restaurator:innen
DESCRIPTION:Die Interessengruppe Selbstständige Freiberufler (IGSF) des VDR veranstaltet am 24. und 25.09.2021 zum vierten Mal ein zweitägiges Existenzgründerseminar. Dieses findet erstmals online statt! \nDas Seminar „Rund ums Gründen“ vermittelt Absolvent:innen der Konservierungs- und Restaurierungsstudiengänge und Berufseinsteiger:innen praxisbezogene Inhalte\, die den Berufsalltag selbstständiger Restaurator:innen mit den tatsächlichen Bedürfnissen widerspiegeln. \nVon den Anfangsschwierigkeiten junger Selbstständiger bis hin zu erfahrenen Unternehmern\, die über Gelingen und Misslingen eines langen Berufslebens berichten. Neben zahlreichen Vorträgen zu den unterschiedlichen Aspekten der Freiberuflichkeit bilden Workshops zu den großen Themen „Kalkulation\, Akquise und Aufbau einer eigenen Werkstatt“ den Schwerpunkt dieses Seminars. \nIn den Pausen und eigens vorgesehenen Freiräumen soll es auch online einen regen Austausch zwischen allen Teilnehmer:innen\, Referenten:innen und erfahrenen Kollegen:innen unterschiedlicher Fachrichtung geben. \nDas Programm finden Sie hier als PDF. \nAnmeldeschluss: 12. September 2021 110 € VDR-Mitglied* 110 € Mitglied* (ÖRV\, SKR oder VRKS-ARCA) 135 € Nicht-Mitglied 45 € VDR-Mitglied in Ausbildung** 45 € Mitglied in Ausbildung** (ÖRV\, SKR oder VRKS-ARCA) 70 € Nicht-Mitglied in Ausbildung** 135 € VDR-Mitglied* 135 € Mitglied* (ÖRV\, SKR oder VRKS-ARCA) 160 € Nicht-Mitglied 70 € VDR-Mitglied in Ausbildung** 70 € Mitglied in Ausbildung** (ÖRV\, SKR oder VRKS-ARCA) 95 € Nicht-Mitglied in Ausbildung** * Korrespondierende Mitglieder und Fördermitglieder können durch jeweils 1 Person auf Veranstaltungen vertreten werden.** Praktikanten\, Studierende im Bereich der Konservierung-Restaurierung  Zur Veranstaltungsanmeldung  \nNutzen Sie das Angebot und nehmen zum günstigeren Mitgliedertarif teil!\n Seminar-Special  \nDas Webinar findet online via Zoom statt. Die Zugangsdaten versenden wir 1 Tag vor Beginn der Veranstaltung per E-Mail. \nDas Seminar wird nicht aufgezeichnet. \n  \nBei Fragen melden Sie sich bitte beim Veranstaltungsteam der VDR Geschäftsstelle unter veranstaltungen[at]restauratoren.de oder unter der Telefonnummer +49 228 926897-13 (Julia Kun\, Montag-Mittwoch) oder -14 (Henrike Steinweg\, Donnerstag-Freitag). \nExistenzgründerseminar\, HTW Berlin\, 2016. © Tatjana Held.
URL:https://www.restauratoren.de/termin/online-seminar-rund-ums-gruenden-basiswissen-fuer-restauratorinnen-2021/
LOCATION:online
CATEGORIES:IG Selbstständige/Freiberufler,Save the Date,VDR-Veranstaltung
ATTACH;FMTTYPE=image/png:https://www.restauratoren.de/wp-content/uploads/2021/09/Titelbild_Rund_uns_Gruenden_Seminar_ueberarbeitet_hs.png
ORGANIZER;CN="VDR":MAILTO:veranstaltungen@restauratoren.de
END:VEVENT
END:VCALENDAR