BEGIN:VCALENDAR
VERSION:2.0
PRODID:-//Verband der Restauratoren VDR - ECPv6.15.15//NONSGML v1.0//EN
CALSCALE:GREGORIAN
METHOD:PUBLISH
X-ORIGINAL-URL:https://www.restauratoren.de
X-WR-CALDESC:Veranstaltungen für Verband der Restauratoren VDR
REFRESH-INTERVAL;VALUE=DURATION:PT1H
X-Robots-Tag:noindex
X-PUBLISHED-TTL:PT1H
BEGIN:VTIMEZONE
TZID:Europe/Helsinki
BEGIN:DAYLIGHT
TZOFFSETFROM:+0200
TZOFFSETTO:+0300
TZNAME:EEST
DTSTART:20200329T010000
END:DAYLIGHT
BEGIN:STANDARD
TZOFFSETFROM:+0300
TZOFFSETTO:+0200
TZNAME:EET
DTSTART:20201025T010000
END:STANDARD
BEGIN:DAYLIGHT
TZOFFSETFROM:+0200
TZOFFSETTO:+0300
TZNAME:EEST
DTSTART:20210328T010000
END:DAYLIGHT
BEGIN:STANDARD
TZOFFSETFROM:+0300
TZOFFSETTO:+0200
TZNAME:EET
DTSTART:20211031T010000
END:STANDARD
BEGIN:DAYLIGHT
TZOFFSETFROM:+0200
TZOFFSETTO:+0300
TZNAME:EEST
DTSTART:20220327T010000
END:DAYLIGHT
BEGIN:STANDARD
TZOFFSETFROM:+0300
TZOFFSETTO:+0200
TZNAME:EET
DTSTART:20221030T010000
END:STANDARD
END:VTIMEZONE
BEGIN:VEVENT
DTSTART;VALUE=DATE:20211021
DTEND;VALUE=DATE:20211024
DTSTAMP:20260420T230036
CREATED:20210816T191854Z
LAST-MODIFIED:20210816T191854Z
UID:10001442-1634774400-1635033599@www.restauratoren.de
SUMMARY:Forschungskolloquium zur romanischen Bildertür von St. Maria im Kapitol
DESCRIPTION:In einem internationalen Forschungskolloquium vom 21. bis 23.10.2021 sollen neue Forschungsergebnisse und -thesen zur romanischen Bildertür von St. Maria im Kapitol in Köln vorgestellt werden. Dazu beleuchten Wissenschaftler*innen unterschiedlicher Fachdisziplinen die Bildertür aus ihren jeweiligen Blickwinkeln. Die um 1060 entstandene zweiflüglige Bildertür der ehemaligen Damenstiftskirche St. Maria im Kapitol in Köln gehört zu den bedeutendsten Kunstwerken der Romanik. Sie ist die einzige erhaltene bildgeschmückte Holztür des Mittelalters. \nDie Tagung wird in hybrider Form stattfinden. Veranstalter ist das CICS – Institut für Restaurierungs- und Konservierungswissenschaft in Köln. \nWeitere Informationen\, Programm und Anmeldung \n  \n 
URL:https://www.restauratoren.de/termin/forschungskolloquium-zur-romanischen-bildertuer-von-st-maria-im-kapitol/
CATEGORIES:Externe Veranstaltung
END:VEVENT
END:VCALENDAR