BEGIN:VCALENDAR
VERSION:2.0
PRODID:-//Verband der Restauratoren VDR - ECPv6.15.15//NONSGML v1.0//EN
CALSCALE:GREGORIAN
METHOD:PUBLISH
X-WR-CALNAME:Verband der Restauratoren VDR
X-ORIGINAL-URL:https://www.restauratoren.de
X-WR-CALDESC:Veranstaltungen für Verband der Restauratoren VDR
REFRESH-INTERVAL;VALUE=DURATION:PT1H
X-Robots-Tag:noindex
X-PUBLISHED-TTL:PT1H
BEGIN:VTIMEZONE
TZID:Europe/Helsinki
BEGIN:DAYLIGHT
TZOFFSETFROM:+0200
TZOFFSETTO:+0300
TZNAME:EEST
DTSTART:20200329T010000
END:DAYLIGHT
BEGIN:STANDARD
TZOFFSETFROM:+0300
TZOFFSETTO:+0200
TZNAME:EET
DTSTART:20201025T010000
END:STANDARD
BEGIN:DAYLIGHT
TZOFFSETFROM:+0200
TZOFFSETTO:+0300
TZNAME:EEST
DTSTART:20210328T010000
END:DAYLIGHT
BEGIN:STANDARD
TZOFFSETFROM:+0300
TZOFFSETTO:+0200
TZNAME:EET
DTSTART:20211031T010000
END:STANDARD
BEGIN:DAYLIGHT
TZOFFSETFROM:+0200
TZOFFSETTO:+0300
TZNAME:EEST
DTSTART:20220327T010000
END:DAYLIGHT
BEGIN:STANDARD
TZOFFSETFROM:+0300
TZOFFSETTO:+0200
TZNAME:EET
DTSTART:20221030T010000
END:STANDARD
END:VTIMEZONE
BEGIN:VEVENT
DTSTART;TZID=Europe/Helsinki:20211024T150000
DTEND;TZID=Europe/Helsinki:20211024T170000
DTSTAMP:20260426T002127
CREATED:20211015T182552Z
LAST-MODIFIED:20211015T182553Z
UID:10001466-1635087600-1635094800@www.restauratoren.de
SUMMARY:Online-Treffen der Interessengruppe Freiberufler-Selbstständige
DESCRIPTION:Liebe Mitglieder der Interessengruppe Freiberufler Selbstständige\, \nwir möchten Sie hiermit recht herzlich zur Online-Interessengruppensitzung und den Wahlen am Sonntag\, den 24.10.2020 von 15–17 Uhr einladen. Aus gegebenem Anlass testen wir dieses neue Format und hoffen sehr auf Ihre Teilnahme. \nUm uns den Ablauf zu erleichtern\, möchten wir Sie bitten\, sich per Mail unter freie(at)restauratoren.de mit Namen\, Mitgliedsnummer und Mitgliedsstatus anzumelden. \nTagesordnung \n15:00 Uhr Begrüßung\, aktuelles aus der IGSF  \n15:30 Uhr Wie ist die Kunst zu retten? – Kulturgüterschutz im VDR  \nGisela Gulbin (Vizepräsidentin VDR) \nDer Arbeitsausschuss Kulturgüterschutz wurde Anfang 2020 gegründet\, angestoßen vom Projekt „KulturGutRetter“ des Deutschen Archäologischen Instituts. Nicht zuletzt die Flutkatastrophe diesen Sommer hat gezeigt\, dass viele helfende Hände bereit stehen\, wenn es um Kulturgüterschutz geht\, es aber an der Organisation hapert. Im Ausschuss überlegen wir\, wie man kleinen und großen Katastrophen besser begegnen könnte. \n  \n16:00 Uhr Der neu gegründete Arbeitsausschuss Arbeitssicherheit stellt sich vor \nDr. rer. nat. Boaz Paz (PAZ Laboratorien) \nMit der Entwicklung  berufsspezifischer Arbeitsschutzkonzepte für Restauratoren ist die Erstellung  innovativer Ziel- und Maßnahmenkonzepte verbunden. Diese sollten sich an den tatsächlichen Gegebenheiten am Arbeitsplatz\, den Besonderheiten im Umgang mit Kunst- und Kulturgut sowie den strukturbedingten Möglichkeiten und Grenzen der Umsetzung von Arbeitsschutzmaßnahmen orientieren.Die innerbetriebliche Durchsetzung von Arbeitsschutzmaßnahmen hängt in entscheidendem Maße davon ab\, ob die Maßnahmen mit Blick auf die „Machbarkeit“ erstellt wurden bzw. die Durchführung restauratorischer Arbeiten hierdurch nicht behindert wird. Da die bestehenden Konzepte zur Beurteilung des Gefährdungsrisikos bei Ausführung bestimmter Arbeiten zumeist aus ganz anderen Tätigkeitsbereichen\, wie etwa der Baubranche adaptiert werden\, ist es nunmehr an der Zeit eigene Konzepte zu erstellen\, die dem Arbeitsalltag der Restaurator*innen eher gerecht wird. \nIn diesem Rahmen sollen die ersten Ergebnisse der bisherigen „Arbeitsgruppentreffen“ (Videokonferenzen) wiedergegeben und zukünftige Projekte aufgezeigt werden. \n  \n16:30 Uhr Vorstellung der Kandidaten für die Neuwahl \n\nLinda Schäfer-Krause\nBirgit Engel-Bangen\n\n16:45 Uhr Erklärung des Wahlablaufes im digitalen Format \n17:00 Uhr Verabschiedung/ Ende \nDie notwendigen Wahlunterlagen gehen gesondert zu. \nWenn Sie Lust haben sich auch zur Wahl aufstellen zu lassen\, melden Sie sich gerne bei uns. Wir haben eine Sprecherposition und zwei Stellvertreterpositionen für die IGSF. \n  \nLiebe Grüße und bleiben Sie gesund. \nIhr Sprechergremium \nInes Frontzek\, Hanno Alsen und Linda Schäfer-Krause \n  \nAnmeldeschluss: 20.10.2021 unter freie(at)restauratoren.de \nVeranstaltungsort Videokonferenz per Gotomeeting \nKontakt Bei Fragen melden Sie sich bitte beim Sprechergremium unter freie@restauratoren.de. \n  \n 
URL:https://www.restauratoren.de/termin/online-treffen-der-interessengruppe-freiberufler-selbststaendige/
CATEGORIES:IG Selbstständige/Freiberufler,VDR-Veranstaltung
ATTACH;FMTTYPE=:
END:VEVENT
END:VCALENDAR