BEGIN:VCALENDAR
VERSION:2.0
PRODID:-//Verband der Restauratoren VDR - ECPv6.15.15//NONSGML v1.0//EN
CALSCALE:GREGORIAN
METHOD:PUBLISH
X-WR-CALNAME:Verband der Restauratoren VDR
X-ORIGINAL-URL:https://www.restauratoren.de
X-WR-CALDESC:Veranstaltungen für Verband der Restauratoren VDR
REFRESH-INTERVAL;VALUE=DURATION:PT1H
X-Robots-Tag:noindex
X-PUBLISHED-TTL:PT1H
BEGIN:VTIMEZONE
TZID:Europe/Helsinki
BEGIN:DAYLIGHT
TZOFFSETFROM:+0200
TZOFFSETTO:+0300
TZNAME:EEST
DTSTART:20200329T010000
END:DAYLIGHT
BEGIN:STANDARD
TZOFFSETFROM:+0300
TZOFFSETTO:+0200
TZNAME:EET
DTSTART:20201025T010000
END:STANDARD
BEGIN:DAYLIGHT
TZOFFSETFROM:+0200
TZOFFSETTO:+0300
TZNAME:EEST
DTSTART:20210328T010000
END:DAYLIGHT
BEGIN:STANDARD
TZOFFSETFROM:+0300
TZOFFSETTO:+0200
TZNAME:EET
DTSTART:20211031T010000
END:STANDARD
BEGIN:DAYLIGHT
TZOFFSETFROM:+0200
TZOFFSETTO:+0300
TZNAME:EEST
DTSTART:20220327T010000
END:DAYLIGHT
BEGIN:STANDARD
TZOFFSETFROM:+0300
TZOFFSETTO:+0200
TZNAME:EET
DTSTART:20221030T010000
END:STANDARD
END:VTIMEZONE
BEGIN:VEVENT
DTSTART;VALUE=DATE:20211104
DTEND;VALUE=DATE:20211106
DTSTAMP:20260423T071520
CREATED:20211004T163811Z
LAST-MODIFIED:20211004T163811Z
UID:10001460-1635984000-1636156799@www.restauratoren.de
SUMMARY:Tagung "Restaurierung und Öffentlichkeitsarbeit"
DESCRIPTION:Vom 04. bis 05.11.2021 findet die Herbsttagung des Arbeitskreises Konservierung / Restaurierung im Deutschen Museumsbund statt. Das Thema der Tagung heißt „Hinter den Kulissen oder vor der Kamera? Restaurierung und Öffentlichkeitsarbeit“.  \n  \nRestauratoren in Museen üben heute vielfältige Tätigkeiten aus allen Aufgabenbereichen der Museen aus\, die dem Klischee vom im Verborgenen wirkenden Experten schon lange nicht mehr ent­sprechen. Neben dem Bewahren sind Restauratoren stark in den regen Sonderausstellungs­betrieb der Museen eingebunden und neuerdings auch in die Vermittlung. Darüber hinaus ist das Feld der Restaurierung untrennbar mit der Forschung zum Sammlungsbestand verbunden. Das Wissen um Material\, Technik und Aufbau\, um Objektgeschichte und Veränderungen ist die Basis\, auf der erst ein Restaurierungskonzept entwickelt und Interpretationen folgen können. Erkenntnisse aus Untersuchungsmethoden wie der Strahlendiagnostik mit UV-\, Infrarot- und Röntgenstrahlen oder der Mikroskopie liefern dabei wichtige Bausteine zum besseren Verständnis der Objekte. Museen er­kennen zunehmend\, dass die andere Perspektive der Restauratoren auf die Sammlungsbestände und die Einblicke in ihre Arbeit beim Publikum auf großes Interesse stoßen. \nDoch wie lassen sich restauratorische Themen dem Museumsbesucher\, aber auch einem breiteren Publikum öffentlichkeitswirksam vermitteln? Welche Instrumente und Formate sind nutzbar? Wie können Restauratoren neben ihrer auf das Objekt konzentrierten Arbeit Einblicke in ihre Tätig­keiten und in ihr verändertes Berufsbild geben? \nDie Herbsttagung liefert spezifisch für den Bereich Konservierung / Restaurierung aktuelles Basiswis­sen zur Vermittlung\, Presse- und Öffentlichkeitsarbeit in Museen. Sie zeigt\, was PR und Vermittlung für den Bereich der Restaurierung leisten können. Mit Best Practice-Beispielen wird deutlich\, welche interessanten Formate der Öffentlichkeitsarbeit schon von und mit Restauratoren entwickelt wurden. Gleichzeitig bietet das Programm praxisnahe Workshops\, die den Restauratoren das „Handwerkszeug“ zur Kommunikation nach außen geben und sie ermuntern sollen\, nicht nur Gutes zu tun\, sondern auch darüber zu reden. \nDie Herbsttagung findet in der James-Simon-Galerie auf der Museumsinsel in Berlin statt. \nZum Programm und Anmeldung
URL:https://www.restauratoren.de/termin/tagung-restaurierung-und-oeffentlichkeitsarbeit/
CATEGORIES:Externe Veranstaltung
END:VEVENT
BEGIN:VEVENT
DTSTART;TZID=Europe/Helsinki:20211104T120000
DTEND;TZID=Europe/Helsinki:20211104T140000
DTSTAMP:20260423T071520
CREATED:20211025T190548Z
LAST-MODIFIED:20211025T190548Z
UID:10001491-1636027200-1636034400@www.restauratoren.de
SUMMARY:ICCROM Lecture Series: Heritage Conservation & Climate Action
DESCRIPTION:ICCROM Lecture Series: Heritage Conservation & Climate Action: Building Synergies for Transformative Change \nDate: 4 November 2021 \nTime: 12:00 PM (Rome\, Italy) \nLocation: Online \nModerator: Rohit Jigyasu\, ICCROM \n  \nSpeakers: \n\nAli Raza\, Global Coordinator Adaptation and DRR/Senior Advisor Resilience\, IUCN\nJohanna Leissner\, Chair EU OMC Group Strengthening Cultural Heritage Resilience for Climate Change\, German Research Alliance Cultural Heritage\, Fraunhofer Sustainability Network\nPeter Cox\, Conservation scientist\, founding member of Carrig Conservation International Limited and member of ICOMOS Ireland\nCesar Bita\, Underwater and Marine Cultural Heritage Research Scientist\, Head Department of Coastal Archaeology\, National Museums of Kenya\nWitiya Pittungnapoo\, Assoc. Prof. of Faculty of Architecture\, Art and Design at Naresuan University. Director of Climate Change Adaptation for Cultural Heritage Preservation and co-focal point of Sukhothai UCCN\, Thailand\nJothiganesh Shanmugasundaram\, Regional Technical Lead for Climate and Weather related Risk and PRISM Institute\, World Food Programme\, Regional Bureau Bangkok\nWilliam Megarry\, ICOMOS Focal Point for Climate Change and Cultural Heritage and Senior Lecturer in Archaeology at Queen’s University Belfast\n\n  \nDescription: \nClimate change is increasing the number of disasters and their devastating impacts on lives\, properties\, livelihoods and cultural heritage. The likelihood of increased weather extremes such as heavy downpours\, heat waves\, and strong hurricanes and cyclones therefore gives great concern that the number or scale of weather-related disasters will also increase putting heritage at greater risk than ever before. Moreover\, greater variability in temperature and precipitation due to climate change is also posing challenges for the conservation of historic built fabric. This necessitates transformative change through bold decisions for transition to a carbon neutral and resilient world that can sustain heritage for future generations\, and at the same time considering radical changes in conservation and management practices to adapt to changing environmental context. The webinar aims at discussing specific actions that we must take at national and site levels to enable such a change. \n  \nJoin us on Thursday\, 4 November 2021. Registration is mandatory and FREE. \nhttps://iccrom-org.zoom.us/webinar/register/WN_cGQ5oxONRieIfLlHkOaSsA \nWe will also be live streaming on our You Tube channel: https://www.youtube.com/watch?v=QOGnu2kudag \nICCROM may process personal data voluntarily disclosed by Users who complete forms on the website or who send messages to e-mail addresses indicated or accessible through links on the website. \nThese data may be used for the purposes of: \n– sharing informational communications relating to the institutional activities of ICCROM through e-mail lists; \n– responding directly to specific User requests; \n– statistical analysis\, archiving and historical research. \nUsers may to be removed from the mailing list in order to no longer receive invitations or other communications by sending a request to data-management@iccrom.org \nICCROM’s Privacy Policy may be consulted at https://www.iccrom.org/privacy-policy
URL:https://www.restauratoren.de/termin/iccrom-lecture-series-heritage-conservation-climate-action/
CATEGORIES:Externe Veranstaltung
END:VEVENT
END:VCALENDAR