BEGIN:VCALENDAR
VERSION:2.0
PRODID:-//Verband der Restauratoren VDR - ECPv6.15.15//NONSGML v1.0//EN
CALSCALE:GREGORIAN
METHOD:PUBLISH
X-ORIGINAL-URL:https://www.restauratoren.de
X-WR-CALDESC:Veranstaltungen für Verband der Restauratoren VDR
REFRESH-INTERVAL;VALUE=DURATION:PT1H
X-Robots-Tag:noindex
X-PUBLISHED-TTL:PT1H
BEGIN:VTIMEZONE
TZID:Europe/Helsinki
BEGIN:DAYLIGHT
TZOFFSETFROM:+0200
TZOFFSETTO:+0300
TZNAME:EEST
DTSTART:20200329T010000
END:DAYLIGHT
BEGIN:STANDARD
TZOFFSETFROM:+0300
TZOFFSETTO:+0200
TZNAME:EET
DTSTART:20201025T010000
END:STANDARD
BEGIN:DAYLIGHT
TZOFFSETFROM:+0200
TZOFFSETTO:+0300
TZNAME:EEST
DTSTART:20210328T010000
END:DAYLIGHT
BEGIN:STANDARD
TZOFFSETFROM:+0300
TZOFFSETTO:+0200
TZNAME:EET
DTSTART:20211031T010000
END:STANDARD
BEGIN:DAYLIGHT
TZOFFSETFROM:+0200
TZOFFSETTO:+0300
TZNAME:EEST
DTSTART:20220327T010000
END:DAYLIGHT
BEGIN:STANDARD
TZOFFSETFROM:+0300
TZOFFSETTO:+0200
TZNAME:EET
DTSTART:20221030T010000
END:STANDARD
END:VTIMEZONE
BEGIN:VEVENT
DTSTART;VALUE=DATE:20211111
DTEND;VALUE=DATE:20211113
DTSTAMP:20260421T174907
CREATED:20210201T205756Z
LAST-MODIFIED:20211015T211735Z
UID:10001379-1636588800-1636761599@www.restauratoren.de
SUMMARY:Symposium "Human Anatomical Preparations in Conservation"
DESCRIPTION:International Symposium November 11th and 12th 2021 at Dresden University of Fine Arts (HfBK) Degree Course in Conservation. \nThe aim of the symposium is to examine the current state of anatomical and pathological collections\, specifically the human preparations stored and exhibited there. \nFor this purpose\, curators\, conservators\, preparators and historians from numerous European countries will come together to address the following topics and questions: What was the significance of anatomical and pathological preparations in the respective historical context and what is their significance today? How does the transformation process of an actively-used teaching collection to a museum collection take place? What are the ethical requirements for the usage of human anatomical and pathological preparations for teaching and exhibition purposes today? What questions arise from this with regard to the preservation\, conservation and restoration of human anatomical preparations? What influence do the historical manufacturing\, preparation and conservation techniques of anatomical specimens have on the current state of preservation and to what extent have these contexts been researched at all? What expertise is available today and how can curators\, preparators\, conservators-restorers\, etc. work together for a better preservation of anatomical preparations and collections in the future? \nThe symposium will be held in cooperation with Verband der Restauratoren e.V. (VDR) and Verband Deutscher Präparatoren e.V. (VDP). \nStart: 11th November 2021\, 3:00 p.m. \nEnd: 12th November 2021\, 10:30 p.m. \nFind the symposium program here (german) or here (english). \nDue to the unpredictable course of the COVID-19 pandemic\, all participants will have the opportunity to take part in the symposium online or in presence. All lectures and discussions will take place in the auditorium of the Dresden University of Fine Arts\, additionally will be streamed and simultaneously translated English-German/German-English. French interpreters will be available for the discussions. \nThe symposium will end with an evening event\, during which the historical Anatomical Collection of the Dresden University of Fine Arts\, which was reopened in 2019\, can be visited. \nParticipation in the symposium is possible by registration via: HAP[at]hfbk-dresden.de (Ms.Huhn). \nBurkhard Wilhelm Seiler\, 1850 (HfBK Dresden Archiv).
URL:https://www.restauratoren.de/termin/symposium-human-anatomical-preparations-in-conservation/
CATEGORIES:VDR-Veranstaltung
ATTACH;FMTTYPE=:
END:VEVENT
BEGIN:VEVENT
DTSTART;VALUE=DATE:20211112
DTEND;VALUE=DATE:20211113
DTSTAMP:20260421T174907
CREATED:20210125T142549Z
LAST-MODIFIED:20210906T105137Z
UID:10001375-1636675200-1636761599@www.restauratoren.de
SUMMARY:Bildgebende Verfahren - Trends und Fallbeispiele
DESCRIPTION:Das 14. konservierungswissenschaftliche Kolloquium in Berlin/Brandenburg findet am 12.11.2021 in der Staatsbibliothek zu Berlin statt. Das Thema heißt „Ich sehe was\, was du nicht siehst. Bildgebende Verfahren – Trends und Fallbeispiele  zur Untersuchung und Erhaltung von Kulturerbe“. \nAnmeldung bis zum 22.10.2021 möglich.
URL:https://www.restauratoren.de/termin/bildgebende-verfahren/
CATEGORIES:Externe Veranstaltung
END:VEVENT
END:VCALENDAR