BEGIN:VCALENDAR
VERSION:2.0
PRODID:-//Verband der Restauratoren VDR - ECPv6.15.15//NONSGML v1.0//EN
CALSCALE:GREGORIAN
METHOD:PUBLISH
X-ORIGINAL-URL:https://www.restauratoren.de
X-WR-CALDESC:Veranstaltungen für Verband der Restauratoren VDR
REFRESH-INTERVAL;VALUE=DURATION:PT1H
X-Robots-Tag:noindex
X-PUBLISHED-TTL:PT1H
BEGIN:VTIMEZONE
TZID:Europe/Helsinki
BEGIN:DAYLIGHT
TZOFFSETFROM:+0200
TZOFFSETTO:+0300
TZNAME:EEST
DTSTART:20210328T010000
END:DAYLIGHT
BEGIN:STANDARD
TZOFFSETFROM:+0300
TZOFFSETTO:+0200
TZNAME:EET
DTSTART:20211031T010000
END:STANDARD
BEGIN:DAYLIGHT
TZOFFSETFROM:+0200
TZOFFSETTO:+0300
TZNAME:EEST
DTSTART:20220327T010000
END:DAYLIGHT
BEGIN:STANDARD
TZOFFSETFROM:+0300
TZOFFSETTO:+0200
TZNAME:EET
DTSTART:20221030T010000
END:STANDARD
BEGIN:DAYLIGHT
TZOFFSETFROM:+0200
TZOFFSETTO:+0300
TZNAME:EEST
DTSTART:20230326T010000
END:DAYLIGHT
BEGIN:STANDARD
TZOFFSETFROM:+0300
TZOFFSETTO:+0200
TZNAME:EET
DTSTART:20231029T010000
END:STANDARD
END:VTIMEZONE
BEGIN:VEVENT
DTSTART;TZID=Europe/Helsinki:20220111T171500
DTEND;TZID=Europe/Helsinki:20220111T183000
DTSTAMP:20260421T062911
CREATED:20211025T185048Z
LAST-MODIFIED:20211108T120305Z
UID:10001489-1641921300-1641925800@www.restauratoren.de
SUMMARY:Vortrag: Interdisziplinäre Projekte
DESCRIPTION:Im Wintersemester 20/21 findet im Studiengang Restaurierung an der Hochschule für Bildende Künste Dresden die neue Vortragsreihe DenkRaum Restaurierung statt. Unter dem Titel Perspektiven versammelt die Veranstaltung (Präsenz / Online) Forscher:innen\, Restaurator:innen privater und öffentlicher Werkstätten\, Naturwissenschaftler\, Denkmalpfleger\, Kunsthistoriker sowie Interessierte zu Gespräch und Austausch.\n\n \n\n\n\n\n\n\n\n\n\n\n\n\n\n\n\n\n11.01.2022\, 17:15 Uhr\nElke Oberthaler\, Kunsthistorisches Museum Wien\nZwischen allen Stühlen oder unter einem Hut? Interdisziplinäre Projekte – Erfahrungen und Überlegungen \n\n\n\n\n\n\n\n\n\n\n\n\n\n\n\n\nKonzept: Prof. Dr. Markus Santner \n\n\n\n\nFachklasse für Wandmalerei und Architekturoberfläche \nStudiengang für Kunsttechnologie\, Konservierung und Restaurierung Hochschule für Bildende Künste Dresden \n\n\n\n\nDie Vorträge sind öffentlich\, der Eintritt ist frei. Für die Präsenzteilnahme gilt der 3G-Nachweis. \n\n\n\n\nPräsenz: Güntzstraße 34\, 01307 Dresden. Hörsaal R 221\nOnline: https://us02web.zoom.us/j/87507387470
URL:https://www.restauratoren.de/termin/vortrag-interdisziplinaere-projekte/
CATEGORIES:Externe Veranstaltung
END:VEVENT
END:VCALENDAR