BEGIN:VCALENDAR
VERSION:2.0
PRODID:-//Verband der Restauratoren VDR - ECPv6.15.15//NONSGML v1.0//EN
CALSCALE:GREGORIAN
METHOD:PUBLISH
X-ORIGINAL-URL:https://www.restauratoren.de
X-WR-CALDESC:Veranstaltungen für Verband der Restauratoren VDR
REFRESH-INTERVAL;VALUE=DURATION:PT1H
X-Robots-Tag:noindex
X-PUBLISHED-TTL:PT1H
BEGIN:VTIMEZONE
TZID:Europe/Helsinki
BEGIN:DAYLIGHT
TZOFFSETFROM:+0200
TZOFFSETTO:+0300
TZNAME:EEST
DTSTART:20210328T010000
END:DAYLIGHT
BEGIN:STANDARD
TZOFFSETFROM:+0300
TZOFFSETTO:+0200
TZNAME:EET
DTSTART:20211031T010000
END:STANDARD
BEGIN:DAYLIGHT
TZOFFSETFROM:+0200
TZOFFSETTO:+0300
TZNAME:EEST
DTSTART:20220327T010000
END:DAYLIGHT
BEGIN:STANDARD
TZOFFSETFROM:+0300
TZOFFSETTO:+0200
TZNAME:EET
DTSTART:20221030T010000
END:STANDARD
BEGIN:DAYLIGHT
TZOFFSETFROM:+0200
TZOFFSETTO:+0300
TZNAME:EEST
DTSTART:20230326T010000
END:DAYLIGHT
BEGIN:STANDARD
TZOFFSETFROM:+0300
TZOFFSETTO:+0200
TZNAME:EET
DTSTART:20231029T010000
END:STANDARD
END:VTIMEZONE
BEGIN:VEVENT
DTSTART;VALUE=DATE:20220115
DTEND;VALUE=DATE:20220117
DTSTAMP:20260426T044619
CREATED:20211027T155319Z
LAST-MODIFIED:20221108T111940Z
UID:10001492-1642204800-1642377599@www.restauratoren.de
SUMMARY:4. Vorpraktikant:innentreffen des VDR
DESCRIPTION:Am Wochenende des 15. und 16.01.2022 soll das zweitägige VDR-Vorpraktikant:innentreffen wieder als Online-Veranstaltung stattfinden. Die RiA möchten hierzu deutschlandweit Vorpraktikant:innen und Interessierten für das Studienfach der Konservierung und Restaurierung einen ersten Austausch untereinander ermöglichen.\n\nZiel ist es\, den Teilnehmer:innen der Veranstaltung Raum für ihre Fragen zu geben und sie bei möglichen Unsicherheiten in der Bewerbungsphase für das Studium zu unterstützen. Dafür werden Workshops rund um die Bewerbung und Eignungsprüfungen an den Hochschulen angeboten und kleine Aufgabenstellungen für die Teilnehmer:innen vorbereitet. \nAm 2. Veranstaltungstag liegt der Fokus auf der Vorstellung der Hochschulen mit dem Studienangebot der Konservierung und Restaurierung im deutschsprachigen Raum. Ein Online-Speed-Dating mit studentischen Vertreter:innen der jeweiligen Hochschulen soll die Möglichkeit geben\, sich einen Überblick über die Studienangebote zu verschaffen und Fragen direkt an Studierende zu stellen. \nDie IG RiA freut sich auf viele interessierte Teilnehmer:innen und darauf\, Euch bei Eurem nächsten Schritt in der Ausbildung zur Restauratorin oder zum Restaurator unterstützen zu dürfen! \nHier ein Blick in das letzte Online-Vorpraktikant:innentreffen. \n	Programm \nSamstag\, 15.01.2022 \n10:00                     Begrüßung und Vorstellung der IG RiA \n10:30                     Workshop: Naturwissenschaften \n12:00                     Pause \n13:00                     Workshop: Bewerbungsmappe\, Retusche\, praktische Aufgabenstellungen \n14:30                     Pause \n14:45                     Onlineworkshop: Objektbetrachtung (in Gruppen) \nca. 16:00               Ende \n  \nSonntag\, 16.01.2022 \nab 10:30               Online Speed-Dating mit Studierendenvertreter:innen der verschiedenen Hochschulen \nca. 16:00               Ende \n(Zeitplan zum Ablauf und Termine der einzelnen Hochschulen werden im Vorfeld der Veranstaltung mitgeteilt) \n	Anmeldung und Preise \nLiebe Vorpraktikant:innen\, \nseit dem 1.12. ist das 4. Vorpraktikant:innentreffen des VDR als Online-Veranstaltung am 15. und 16. Januar 2022 ausgebucht. Da wir möglichst vielen von Euch eine Hilfestellung und Austausch für den Beginn Eures zukünftigen Studiums geben möchten\, können zusätzlich Plätze für eine Teilnahme noch bis Montag\, 20.12.2021 vergeben werden.\nBei Fragen meldet Euch gern unter Vorpraktikantentreffen.ria[at]gmail.com bei uns. Wir wünschen Euch eine besinnliche und hoffentlich gesunde Vorweihnachtszeit!\nEure VDR RiA  \n\nAnmeldeschluss: 20. Dezember 2021 \nMit Absenden der Online-Anmeldung ist Ihre Anmeldung verbindlich. Sie erhalten eine automatisierte Anmeldebestätigung an die von Ihnen angegebene E-Mail-Adresse. Die Bestätigung enthält Ihre Anmeldedaten sowie weitere Informationen. Sollten Sie innerhalb von 24 Stunden keine E-Mail erhalten\, kontaktieren Sie uns bitte unter Vorpraktikantentreffen.ria[at]gmail.com \n	\n				Zur Veranstaltungsanmeldung\n			\n		Nutzen Sie das Special!\n			\n							Veranstaltungsspecial\n					\n	Hinweise \nDas Webinar findet online via Zoom statt.\nDie Zugangsdaten versenden wir spätestens 1 Tag vor Beginn der Veranstaltung per E-Mail.\n  \n	Kontakt \nBei Fragen und Anregungen melden Sie sich bitte bei der IG RiA unter Vorpraktikantentreffen.ria[at]gmail.com \n	Bildnachweis \n© Mara Emprechtinger.
URL:https://www.restauratoren.de/termin/4-vorpraktikantinnentreffen-online-2022/
LOCATION:online
CATEGORIES:IG RiA,Save the Date,VDR-Veranstaltung
ATTACH;FMTTYPE=image/png:https://www.restauratoren.de/wp-content/uploads/2021/10/Titelbild_4.-VorpraktikantInnentreffen_2022-©-Mara-Emprechtinger_neu.png
ORGANIZER;CN="Interessengruppe Restauratoren in Ausbildung (IG RiA)":MAILTO:Vorpraktikantentreffen.ria@gmail.com
END:VEVENT
END:VCALENDAR