BEGIN:VCALENDAR
VERSION:2.0
PRODID:-//Verband der Restauratoren VDR - ECPv6.15.15//NONSGML v1.0//EN
CALSCALE:GREGORIAN
METHOD:PUBLISH
X-WR-CALNAME:Verband der Restauratoren VDR
X-ORIGINAL-URL:https://www.restauratoren.de
X-WR-CALDESC:Veranstaltungen für Verband der Restauratoren VDR
REFRESH-INTERVAL;VALUE=DURATION:PT1H
X-Robots-Tag:noindex
X-PUBLISHED-TTL:PT1H
BEGIN:VTIMEZONE
TZID:Europe/Helsinki
BEGIN:DAYLIGHT
TZOFFSETFROM:+0200
TZOFFSETTO:+0300
TZNAME:EEST
DTSTART:20210328T010000
END:DAYLIGHT
BEGIN:STANDARD
TZOFFSETFROM:+0300
TZOFFSETTO:+0200
TZNAME:EET
DTSTART:20211031T010000
END:STANDARD
BEGIN:DAYLIGHT
TZOFFSETFROM:+0200
TZOFFSETTO:+0300
TZNAME:EEST
DTSTART:20220327T010000
END:DAYLIGHT
BEGIN:STANDARD
TZOFFSETFROM:+0300
TZOFFSETTO:+0200
TZNAME:EET
DTSTART:20221030T010000
END:STANDARD
BEGIN:DAYLIGHT
TZOFFSETFROM:+0200
TZOFFSETTO:+0300
TZNAME:EEST
DTSTART:20230326T010000
END:DAYLIGHT
BEGIN:STANDARD
TZOFFSETFROM:+0300
TZOFFSETTO:+0200
TZNAME:EET
DTSTART:20231029T010000
END:STANDARD
END:VTIMEZONE
BEGIN:VEVENT
DTSTART;VALUE=DATE:20220121
DTEND;VALUE=DATE:20220123
DTSTAMP:20260423T071511
CREATED:20220104T124446Z
LAST-MODIFIED:20220104T125421Z
UID:10001390-1642723200-1642895999@www.restauratoren.de
SUMMARY:Rembrandt-Tagung
DESCRIPTION:Anlässlich der Ausstellung „Nennt mich Rembrandt! Durchbruch in Amsterdam“ veranstaltet das Städel Museum am 21. und 22. Januar 2022 eine internationale Tagung\, die sich aktuellen kunsttechnologischen Forschungen zu Rembrandts Gemälden und Arbeiten auf Papier widmet. Die Tagung bringt Perspektiven aus den Fachdisziplinen der Kunstgeschichte und Restaurierung zusammen und geht der Frage nach\, welche kunsttechnologischen und methodischen Herangehensweisen derzeit im Vordergrund der Rembrandt-Forschung stehen und welche Ergebnisse sie für die zukünftige Forschung versprechen. \nDie Tagung wird aufgrund der aktuellen Corona-Situation ausschließlich digital stattfinden. Im Anschluss an die Tagung werden die aufgezeichneten Vorträge über den YouTube-Kanal des Städel Museums zugänglich gemacht. \nKonzeption & Organisation: Prof. Dr. Stephanie Dickey (Queen’s University\, Kingston)\, Prof. Dr. Jochen Sander und Dr. Friederike Schütt (Städel Museum\, Frankfurt am Main)
URL:https://www.restauratoren.de/termin/rembrandt-tagung/
CATEGORIES:Externe Veranstaltung
END:VEVENT
BEGIN:VEVENT
DTSTART;TZID=Europe/Helsinki:20220121T150000
DTEND;TZID=Europe/Helsinki:20220121T163000
DTSTAMP:20260423T071511
CREATED:20211223T162102Z
LAST-MODIFIED:20211223T162102Z
UID:10001516-1642777200-1642782600@www.restauratoren.de
SUMMARY:Online-Infotag HAWK Hildesheim
DESCRIPTION:Am 21. Januar 2022 informiert die Hochschule für angewandte Wissenschaft und Kunst in Hildesheim ab 15:00 Uhr online über die Studieninhalte der Konservierung und Restaurierung. \nFür kulturell und naturwissenschaftlich interessierte Personen kann das Studium der Konservierung und Restaurierung attraktiv sein. Es verbindet Wissenschaft mit handwerklichen und technischen Fähigkeiten. \nVon 15:00 bis ca. 16:30 informieren wir über Studienvoraussetzungen und Lehrinhalte. Für eigene Fragen wird ein Chat mit den Vortragenden angeboten. \nDie Veranstaltung findet online über Zoom statt. Den Link sowie weitere Informationen und technische Hinweise erhalten Sie unter: www.hawk.de/b/infotag
URL:https://www.restauratoren.de/termin/online-infotag-hawk-hildesheim/
CATEGORIES:Externe Veranstaltung
END:VEVENT
END:VCALENDAR