BEGIN:VCALENDAR
VERSION:2.0
PRODID:-//Verband der Restauratoren VDR - ECPv6.15.15//NONSGML v1.0//EN
CALSCALE:GREGORIAN
METHOD:PUBLISH
X-WR-CALNAME:Verband der Restauratoren VDR
X-ORIGINAL-URL:https://www.restauratoren.de
X-WR-CALDESC:Veranstaltungen für Verband der Restauratoren VDR
REFRESH-INTERVAL;VALUE=DURATION:PT1H
X-Robots-Tag:noindex
X-PUBLISHED-TTL:PT1H
BEGIN:VTIMEZONE
TZID:Europe/Paris
BEGIN:DAYLIGHT
TZOFFSETFROM:+0100
TZOFFSETTO:+0200
TZNAME:CEST
DTSTART:20210328T010000
END:DAYLIGHT
BEGIN:STANDARD
TZOFFSETFROM:+0200
TZOFFSETTO:+0100
TZNAME:CET
DTSTART:20211031T010000
END:STANDARD
BEGIN:DAYLIGHT
TZOFFSETFROM:+0100
TZOFFSETTO:+0200
TZNAME:CEST
DTSTART:20220327T010000
END:DAYLIGHT
BEGIN:STANDARD
TZOFFSETFROM:+0200
TZOFFSETTO:+0100
TZNAME:CET
DTSTART:20221030T010000
END:STANDARD
BEGIN:DAYLIGHT
TZOFFSETFROM:+0100
TZOFFSETTO:+0200
TZNAME:CEST
DTSTART:20230326T010000
END:DAYLIGHT
BEGIN:STANDARD
TZOFFSETFROM:+0200
TZOFFSETTO:+0100
TZNAME:CET
DTSTART:20231029T010000
END:STANDARD
END:VTIMEZONE
BEGIN:VTIMEZONE
TZID:Europe/Helsinki
BEGIN:DAYLIGHT
TZOFFSETFROM:+0200
TZOFFSETTO:+0300
TZNAME:EEST
DTSTART:20210328T010000
END:DAYLIGHT
BEGIN:STANDARD
TZOFFSETFROM:+0300
TZOFFSETTO:+0200
TZNAME:EET
DTSTART:20211031T010000
END:STANDARD
BEGIN:DAYLIGHT
TZOFFSETFROM:+0200
TZOFFSETTO:+0300
TZNAME:EEST
DTSTART:20220327T010000
END:DAYLIGHT
BEGIN:STANDARD
TZOFFSETFROM:+0300
TZOFFSETTO:+0200
TZNAME:EET
DTSTART:20221030T010000
END:STANDARD
BEGIN:DAYLIGHT
TZOFFSETFROM:+0200
TZOFFSETTO:+0300
TZNAME:EEST
DTSTART:20230326T010000
END:DAYLIGHT
BEGIN:STANDARD
TZOFFSETFROM:+0300
TZOFFSETTO:+0200
TZNAME:EET
DTSTART:20231029T010000
END:STANDARD
END:VTIMEZONE
BEGIN:VEVENT
DTSTART;TZID=Europe/Paris:20220317T143000
DTEND;TZID=Europe/Paris:20220317T183000
DTSTAMP:20260424T213823
CREATED:20220313T112227Z
LAST-MODIFIED:20220313T112227Z
UID:10001534-1647527400-1647541800@www.restauratoren.de
SUMMARY:Web-Convention "Frauensache – Unternehmen gründen" Teil II
DESCRIPTION:Am 17. März 2022 ist es soweit: Der Bundesverband der Freien Berufe (BFB) und die Zeitschrift emotion laden Gründerinnen und die\, die es werden wollen\, zum zweiten Teil der Web-Convention „Frauensache: Unternehmen gründen“ ein. Weil Deutschland europaweit eines der Schlusslichter in Sachen Unternehmensgründung ist\, möchten der BFB und emotion in einer Sonderaktion in diesem Jahr besonders Frauen dazu ermutigen\, den Weg in die Selbstständigkeit zu suchen. Es soll aufgezeigt werden\, wo und von wem Frauen Hilfe beim Gründen erwarten können. \nDie Online-Veranstaltung beginnt um 14.30 Uhr und endet voraussichtlich gegen 18.30 Uhr. Teil II der Convention steht unter dem Motto „Wie starte ich? Wo bekomme ich Unterstützung? Wie vernetze ich mich?“ Über Rahmenbedingungen und mögliche Hilfestellungen berichten Politikerinnen\, Sozialwissenschaftlerinnen\, Juristinnen und Finanzexpertinnen. Die letzten beiden Stunden gelten dem Austausch. Erfolgreich selbstständige Frauen erzählen Gründungswilligen von ihren ganz unterschiedlichen Werdegängen und bieten den Teilnehmenden das Gespräch an\, darunter Judith Williams von der Höhle der Löwen und Vivien Wysocki\, Politik-Influencerin und Gründerin von Saint Sass. \nDer erste Teil der Web-Convention am 17. Februar 2022 hatte sich den Schwerpunkten „Ziele definieren“ und „Ängste und Herausforderungen überwinden“ gewidmet. Die Veranstalter freuten sich über mehr als 400 Anmeldungen. Unter den Referentinnen im Februar war die VDR-Restauratorin und ehemalige Sprecherin der Restaurator:innen in Ausbildung\, Salome Hohlfeld. Sie sprang direkt nach dem erfolgreich absolvierten Masterstudium ins kalte Wasser und wagte sehr früh den Weg in die Selbstständigkeit. Auch der VDR begleitet die Gründungsoffensive des BFB mit der neuen Serie „stark_gegründet“. \nDie Teilnahme an der zweiten Web-Convention ist wieder kostenfrei. Die offiziellen Hashtags lauten #webconvention und #gründerinnen.
URL:https://www.restauratoren.de/termin/web-convention-frauensache-unternehmen-gruenden-teil-ii/
CATEGORIES:Externe Veranstaltung
END:VEVENT
BEGIN:VEVENT
DTSTART;TZID=Europe/Helsinki:20220317T180000
DTEND;TZID=Europe/Helsinki:20220317T200000
DTSTAMP:20260424T213823
CREATED:20211019T121404Z
LAST-MODIFIED:20220213T123725Z
UID:10001471-1647540000-1647547200@www.restauratoren.de
SUMMARY:Online-Vortrag: Medienkunstkonservierung am Hamburger Bahnhof
DESCRIPTION:Im Rahmen der Vortragsreihe „Von Restauratoren erforscht“ geht es dieses Mal um die „Medienkunstkonservierung am Hamburger Bahnhof – Museum für Gegenwart – Berlin“ \n  \n\nTermin:\n17.03.2022 18:00 Uhr – 20:00 Uhr\nOrt:\nHamburger Bahnhof – Museum für Gegenwart – Berlin\nAngebot:\nDigitales Event / Erwachsene\n\n\nAnhand von zwei Fallbeispielen werden Fragestellungen und Herausforderungen vorgestellt\, die mit dem Erhalt der Medienkunstwerke des Hamburger Bahnhofs – Museum für Gegenwart- Berlin verbunden sind. \nDas erste Fallbeispiel befasst sich mit dem Ankauf des filmischen Werkes „From Source to Poem“ (2016) der Künstlerin Rosa Barba\, das derzeit in der Neuen Nationalgalerie zu sehen ist. Von besonderer Bedeutung ist hier die Fragestellung\, welche Informationen und Komponenten im Zuge des Ankaufs sichergestellt werden müssen\, um die Langzeiterhaltung und werkgerechte\, zukünftige Präsentation zu gewährleisten. \nDas zweite Fallbeispiel widmet sich der Video-Installation „The best animals are the flat animals version #1“ der Künstlerin Diana Thater\, die 2021 zum ersten Mal seit 1998 wieder in der Ausstellung „Scratching the Surface“ installiert wurde. Der Vortrag thematisiert die multidisziplinären Bemühungen hinsichtlich der Präsentation einer zeitgemäßen Iteration unter Berücksichtigung der Identität des Werkes. \nReferentinnen: Elisa Carl / Lihi Levie\, Berlin \nEin Teil des Vortrags wird auf Englisch gehalten. \nKontakt: AKLR@smb.spk-berlin.de \n 
URL:https://www.restauratoren.de/termin/online-vortrag-medienkunstkonservierung-am-hamburger-bahnhof/
CATEGORIES:Externe Veranstaltung
END:VEVENT
END:VCALENDAR